| Back to Multiple platform build/check report for BioC 3.20: simplified long | 
 | 
This page was generated on 2025-04-02 19:33 -0400 (Wed, 02 Apr 2025).
| Hostname | OS | Arch (*) | R version | Installed pkgs | 
|---|---|---|---|---|
| nebbiolo2 | Linux (Ubuntu 24.04.1 LTS) | x86_64 | 4.4.3 (2025-02-28) -- "Trophy Case" | 4764 | 
| palomino8 | Windows Server 2022 Datacenter | x64 | 4.4.3 (2025-02-28 ucrt) -- "Trophy Case" | 4495 | 
| merida1 | macOS 12.7.5 Monterey | x86_64 | 4.4.3 (2025-02-28) -- "Trophy Case" | 4522 | 
| kjohnson1 | macOS 13.6.6 Ventura | arm64 | 4.4.3 (2025-02-28) -- "Trophy Case" | 4449 | 
| taishan | Linux (openEuler 24.03 LTS) | aarch64 | 4.4.3 (2025-02-28) -- "Trophy Case" | 4426 | 
| Click on any hostname to see more info about the system (e.g. compilers) (*) as reported by 'uname -p', except on Windows and Mac OS X | ||||
| Package 2120/2289 | Hostname | OS / Arch | INSTALL | BUILD | CHECK | BUILD BIN | ||||||||
| TargetSearch 2.8.0  (landing page) Alvaro Cuadros-Inostroza 
 | nebbiolo2 | Linux (Ubuntu 24.04.1 LTS) / x86_64 | OK | OK | OK |  | ||||||||
| palomino8 | Windows Server 2022 Datacenter / x64 | OK | OK | OK | OK |  | ||||||||
| merida1 | macOS 12.7.5 Monterey / x86_64 | OK | OK | OK | OK |  | ||||||||
| kjohnson1 | macOS 13.6.6 Ventura / arm64 | OK | OK | OK | OK |  | ||||||||
| taishan | Linux (openEuler 24.03 LTS) / aarch64 | OK | OK | OK | ||||||||||
| To the developers/maintainers of the TargetSearch package: - Allow up to 24 hours (and sometimes 48 hours) for your latest push to git@git.bioconductor.org:packages/TargetSearch.git to reflect on this report. See Troubleshooting Build Report for more information. - Use the following Renviron settings to reproduce errors and warnings. - If 'R CMD check' started to fail recently on the Linux builder(s) over a missing dependency, add the missing dependency to 'Suggests:' in your DESCRIPTION file. See Renviron.bioc for more information. | 
| Package: TargetSearch | 
| Version: 2.8.0 | 
| Command: /Library/Frameworks/R.framework/Resources/bin/R CMD check --install=check:TargetSearch.install-out.txt --library=/Library/Frameworks/R.framework/Resources/library --no-vignettes --timings TargetSearch_2.8.0.tar.gz | 
| StartedAt: 2025-04-01 10:09:08 -0400 (Tue, 01 Apr 2025) | 
| EndedAt: 2025-04-01 10:11:47 -0400 (Tue, 01 Apr 2025) | 
| EllapsedTime: 159.2 seconds | 
| RetCode: 0 | 
| Status: OK | 
| CheckDir: TargetSearch.Rcheck | 
| Warnings: 0 | 
##############################################################################
##############################################################################
###
### Running command:
###
###   /Library/Frameworks/R.framework/Resources/bin/R CMD check --install=check:TargetSearch.install-out.txt --library=/Library/Frameworks/R.framework/Resources/library --no-vignettes --timings TargetSearch_2.8.0.tar.gz
###
##############################################################################
##############################################################################
* using log directory ‘/Users/biocbuild/bbs-3.20-bioc/meat/TargetSearch.Rcheck’
* using R version 4.4.3 (2025-02-28)
* using platform: x86_64-apple-darwin20
* R was compiled by
    Apple clang version 14.0.0 (clang-1400.0.29.202)
    GNU Fortran (GCC) 12.2.0
* running under: macOS Monterey 12.7.6
* using session charset: UTF-8
* using option ‘--no-vignettes’
* checking for file ‘TargetSearch/DESCRIPTION’ ... OK
* checking extension type ... Package
* this is package ‘TargetSearch’ version ‘2.8.0’
* checking package namespace information ... OK
* checking package dependencies ... OK
* checking if this is a source package ... OK
* checking if there is a namespace ... OK
* checking for hidden files and directories ... OK
* checking for portable file names ... OK
* checking for sufficient/correct file permissions ... OK
* checking whether package ‘TargetSearch’ can be installed ... OK
* used C compiler: ‘Apple clang version 14.0.0 (clang-1400.0.29.202)’
* used SDK: ‘MacOSX11.3.sdk’
* checking installed package size ... OK
* checking package directory ... OK
* checking ‘build’ directory ... OK
* checking DESCRIPTION meta-information ... OK
* checking top-level files ... OK
* checking for left-over files ... OK
* checking index information ... OK
* checking package subdirectories ... OK
* checking code files for non-ASCII characters ... OK
* checking R files for syntax errors ... OK
* checking whether the package can be loaded ... OK
* checking whether the package can be loaded with stated dependencies ... OK
* checking whether the package can be unloaded cleanly ... OK
* checking whether the namespace can be loaded with stated dependencies ... OK
* checking whether the namespace can be unloaded cleanly ... OK
* checking dependencies in R code ... OK
* checking S3 generic/method consistency ... OK
* checking replacement functions ... OK
* checking foreign function calls ... OK
* checking R code for possible problems ... OK
* checking Rd files ... OK
* checking Rd metadata ... OK
* checking Rd cross-references ... OK
* checking for missing documentation entries ... OK
* checking for code/documentation mismatches ... OK
* checking Rd \usage sections ... OK
* checking Rd contents ... OK
* checking for unstated dependencies in examples ... OK
* checking contents of ‘data’ directory ... OK
* checking data for non-ASCII characters ... OK
* checking data for ASCII and uncompressed saves ... OK
* checking line endings in C/C++/Fortran sources/headers ... OK
* checking compiled code ... NOTE
Note: information on .o files is not available
* checking sizes of PDF files under ‘inst/doc’ ... OK
* checking installed files from ‘inst/doc’ ... OK
* checking files in ‘vignettes’ ... OK
* checking examples ... OK
Examples with CPU (user + system) or elapsed time > 5s
                          user system elapsed
RIcorrect               20.786  2.655  24.126
ncdf4_convert_from_path  4.397  1.324   5.830
* checking for unstated dependencies in ‘tests’ ... OK
* checking tests ...
  Running ‘tinytest.R’
 OK
* checking for unstated dependencies in vignettes ... OK
* checking package vignettes ... OK
* checking running R code from vignettes ... SKIPPED
* checking re-building of vignette outputs ... SKIPPED
* checking PDF version of manual ... OK
* DONE
Status: 1 NOTE
See
  ‘/Users/biocbuild/bbs-3.20-bioc/meat/TargetSearch.Rcheck/00check.log’
for details.
TargetSearch.Rcheck/00install.out
############################################################################## ############################################################################## ### ### Running command: ### ### /Library/Frameworks/R.framework/Resources/bin/R CMD INSTALL TargetSearch ### ############################################################################## ############################################################################## * installing to library ‘/Library/Frameworks/R.framework/Versions/4.4-x86_64/Resources/library’ * installing *source* package ‘TargetSearch’ ... ** using staged installation ** libs using C compiler: ‘Apple clang version 14.0.0 (clang-1400.0.29.202)’ using SDK: ‘MacOSX11.3.sdk’ clang -arch x86_64 -I"/Library/Frameworks/R.framework/Resources/include" -DNDEBUG -I/opt/R/x86_64/include -fPIC -falign-functions=64 -Wall -g -O2 -c Rinit.c -o Rinit.o clang -arch x86_64 -I"/Library/Frameworks/R.framework/Resources/include" -DNDEBUG -I/opt/R/x86_64/include -fPIC -falign-functions=64 -Wall -g -O2 -c baseline.c -o baseline.o clang -arch x86_64 -I"/Library/Frameworks/R.framework/Resources/include" -DNDEBUG -I/opt/R/x86_64/include -fPIC -falign-functions=64 -Wall -g -O2 -c detection.c -o detection.o clang -arch x86_64 -I"/Library/Frameworks/R.framework/Resources/include" -DNDEBUG -I/opt/R/x86_64/include -fPIC -falign-functions=64 -Wall -g -O2 -c file.c -o file.o clang -arch x86_64 -I"/Library/Frameworks/R.framework/Resources/include" -DNDEBUG -I/opt/R/x86_64/include -fPIC -falign-functions=64 -Wall -g -O2 -c find.c -o find.o clang -arch x86_64 -I"/Library/Frameworks/R.framework/Resources/include" -DNDEBUG -I/opt/R/x86_64/include -fPIC -falign-functions=64 -Wall -g -O2 -c get_line.c -o get_line.o clang -arch x86_64 -I"/Library/Frameworks/R.framework/Resources/include" -DNDEBUG -I/opt/R/x86_64/include -fPIC -falign-functions=64 -Wall -g -O2 -c hpf.c -o hpf.o clang -arch x86_64 -I"/Library/Frameworks/R.framework/Resources/include" -DNDEBUG -I/opt/R/x86_64/include -fPIC -falign-functions=64 -Wall -g -O2 -c matrix.c -o matrix.o clang -arch x86_64 -I"/Library/Frameworks/R.framework/Resources/include" -DNDEBUG -I/opt/R/x86_64/include -fPIC -falign-functions=64 -Wall -g -O2 -c ncdf.c -o ncdf.o clang -arch x86_64 -I"/Library/Frameworks/R.framework/Resources/include" -DNDEBUG -I/opt/R/x86_64/include -fPIC -falign-functions=64 -Wall -g -O2 -c peak.c -o peak.o clang -arch x86_64 -I"/Library/Frameworks/R.framework/Resources/include" -DNDEBUG -I/opt/R/x86_64/include -fPIC -falign-functions=64 -Wall -g -O2 -c spectrum.c -o spectrum.o clang -arch x86_64 -I"/Library/Frameworks/R.framework/Resources/include" -DNDEBUG -I/opt/R/x86_64/include -fPIC -falign-functions=64 -Wall -g -O2 -c strutils.c -o strutils.o clang -arch x86_64 -I"/Library/Frameworks/R.framework/Resources/include" -DNDEBUG -I/opt/R/x86_64/include -fPIC -falign-functions=64 -Wall -g -O2 -c utils.c -o utils.o clang -arch x86_64 -dynamiclib -Wl,-headerpad_max_install_names -undefined dynamic_lookup -L/Library/Frameworks/R.framework/Resources/lib -L/opt/R/x86_64/lib -o TargetSearch.so Rinit.o baseline.o detection.o file.o find.o get_line.o hpf.o matrix.o ncdf.o peak.o spectrum.o strutils.o utils.o -F/Library/Frameworks/R.framework/.. -framework R -Wl,-framework -Wl,CoreFoundation installing to /Library/Frameworks/R.framework/Versions/4.4-x86_64/Resources/library/00LOCK-TargetSearch/00new/TargetSearch/libs ** R ** data ** inst ** byte-compile and prepare package for lazy loading ** help *** installing help indices ** building package indices ** installing vignettes ** testing if installed package can be loaded from temporary location ** checking absolute paths in shared objects and dynamic libraries ** testing if installed package can be loaded from final location ** testing if installed package keeps a record of temporary installation path * DONE (TargetSearch)
TargetSearch.Rcheck/tests/tinytest.Rout
R version 4.4.3 (2025-02-28) -- "Trophy Case"
Copyright (C) 2025 The R Foundation for Statistical Computing
Platform: x86_64-apple-darwin20
R is free software and comes with ABSOLUTELY NO WARRANTY.
You are welcome to redistribute it under certain conditions.
Type 'license()' or 'licence()' for distribution details.
R is a collaborative project with many contributors.
Type 'contributors()' for more information and
'citation()' on how to cite R or R packages in publications.
Type 'demo()' for some demos, 'help()' for on-line help, or
'help.start()' for an HTML browser interface to help.
Type 'q()' to quit R.
> if ( requireNamespace("tinytest", quietly=TRUE) && requireNamespace("TargetSearchData", quietly=TRUE)) {
+     tinytest::test_package("TargetSearch", color=FALSE, verbose=1)
+ }
Loading required package: TargetSearchData
test_FindAllPeaks.R...........   19 tests OK  2.9s
FAMEs were saved in /tmp/RtmpfkDBpV/file8104bfc5471.pdf
FAMEs were saved in /tmp/RtmpfkDBpV/file8104bfc5471.pdf
FAMEs were saved in /tmp/RtmpfkDBpV/file8104bfc5471.pdf
FAMEs were saved in /tmp/RtmpfkDBpV/file8104bfc5471.pdf
test_fameoutliers.R...........    5 tests OK  0.1s
test_file.R...................    4 tests OK  0.2s
test_import_fame.R............   14 tests OK  84ms
test_import_library.R.........   15 tests OK  0.2s
test_ncdf4_plot_peak.R........    7 tests OK  0.8s
test_quantMatrix.R............    8 tests OK  92ms
test_ri_data_extract.R........    6 tests OK  9.8s
test_ri_plot_peak.R...........   22 tests OK  0.3s
test_tsLib.R..................   24 tests OK  0.2s
test_tsProfile.R..............   12 tests OK  33ms
test_tsRim.R..................    9 tests OK  10ms
test_tsSample.R...............   19 tests OK  91ms
test_write_ri_file.R..........    6 tests OK  18ms
All ok, 170 results (14.9s)
> 
> proc.time()
   user  system elapsed 
 14.499   0.553  15.517 
TargetSearch.Rcheck/TargetSearch-Ex.timings
| name | user | system | elapsed | |
| FAMEoutliers | 0.130 | 0.022 | 0.155 | |
| FindAllPeaks | 2.151 | 0.088 | 2.275 | |
| FindPeaks | 0.365 | 0.015 | 0.386 | |
| ImportFameSettings | 0.014 | 0.003 | 0.018 | |
| ImportLibrary | 0.038 | 0.002 | 0.042 | |
| ImportSamples | 0.020 | 0.003 | 0.024 | |
| NetCDFPeakFinding | 0.435 | 0.070 | 0.517 | |
| Profile | 1.599 | 0.045 | 1.680 | |
| ProfileCleanUp | 1.362 | 0.037 | 1.415 | |
| RIcorrect | 20.786 | 2.655 | 24.126 | |
| TSExample | 3.004 | 0.374 | 3.423 | |
| Write.Results | 0.129 | 0.013 | 0.143 | |
| baseline | 0.559 | 0.036 | 0.624 | |
| baselineCorrection | 0.595 | 0.034 | 0.633 | |
| baselineCorrectionQuant | 0.630 | 0.045 | 0.727 | |
| checkRimLim | 2.170 | 0.116 | 2.316 | |
| file | 0.160 | 0.025 | 0.188 | |
| fixRI | 2.002 | 0.117 | 2.159 | |
| medianRILib | 0.756 | 0.032 | 0.798 | |
| ncdf4Convert-method | 0.172 | 0.020 | 0.199 | |
| ncdf4_convert | 0.047 | 0.004 | 0.052 | |
| ncdf4_convert_from_path | 4.397 | 1.324 | 5.830 | |
| ncdf4_data_extract | 0.743 | 0.206 | 0.969 | |
| ncdf4_plot_peak | 2.076 | 0.482 | 2.638 | |
| ncdf4_update_ri | 0.569 | 0.124 | 0.710 | |
| peakCDFextraction | 0.999 | 0.109 | 1.139 | |
| peakFind | 0.400 | 0.025 | 0.430 | |
| plotFAME | 0.013 | 0.006 | 0.020 | |
| plotPeak | 0.429 | 0.032 | 0.475 | |
| plotPeakRI | 1.497 | 0.073 | 1.634 | |
| plotPeakSimple | 0.808 | 0.047 | 0.912 | |
| plotRIdev | 0.728 | 0.048 | 0.805 | |
| plotRefSpectra | 0.211 | 0.009 | 0.220 | |
| plotSpectra | 0.408 | 0.024 | 0.449 | |
| quantMatrix | 1.345 | 0.061 | 1.415 | |
| ri2rt | 0.008 | 0.001 | 0.009 | |
| riMatrix | 1.789 | 0.090 | 1.898 | |
| ri_data_extract | 0.079 | 0.005 | 0.086 | |
| ri_plot_peak | 2.202 | 0.112 | 2.408 | |
| rt2ri | 0.007 | 0.000 | 0.008 | |
| sampleRI | 0.802 | 0.034 | 0.854 | |
| tsLib-class | 0.051 | 0.012 | 0.064 | |
| tsMSdata-class | 0.024 | 0.054 | 0.079 | |
| tsProfile-class | 0.017 | 0.008 | 0.026 | |
| tsRim-class | 0.005 | 0.002 | 0.007 | |
| tsSample-class | 0.044 | 0.005 | 0.051 | |
| tsUpdate-method | 0.000 | 0.000 | 0.001 | |
| updateRI | 1.662 | 0.162 | 1.938 | |
| writeLibText | 0.039 | 0.003 | 0.043 | |
| writeMSP | 0.038 | 0.007 | 0.047 | |