| Back to Multiple platform build/check report for BioC 3.20: simplified long |
|
This page was generated on 2025-04-02 19:36 -0400 (Wed, 02 Apr 2025).
| Hostname | OS | Arch (*) | R version | Installed pkgs |
|---|---|---|---|---|
| nebbiolo2 | Linux (Ubuntu 24.04.1 LTS) | x86_64 | 4.4.3 (2025-02-28) -- "Trophy Case" | 4764 |
| palomino8 | Windows Server 2022 Datacenter | x64 | 4.4.3 (2025-02-28 ucrt) -- "Trophy Case" | 4495 |
| merida1 | macOS 12.7.5 Monterey | x86_64 | 4.4.3 (2025-02-28) -- "Trophy Case" | 4522 |
| kjohnson1 | macOS 13.6.6 Ventura | arm64 | 4.4.3 (2025-02-28) -- "Trophy Case" | 4449 |
| taishan | Linux (openEuler 24.03 LTS) | aarch64 | 4.4.3 (2025-02-28) -- "Trophy Case" | 4426 |
| Click on any hostname to see more info about the system (e.g. compilers) (*) as reported by 'uname -p', except on Windows and Mac OS X | ||||
| Package 1835/2289 | Hostname | OS / Arch | INSTALL | BUILD | CHECK | BUILD BIN | ||||||||
| SAIGEgds 2.6.0 (landing page) Xiuwen Zheng
| nebbiolo2 | Linux (Ubuntu 24.04.1 LTS) / x86_64 | OK | OK | OK | |||||||||
| palomino8 | Windows Server 2022 Datacenter / x64 | OK | OK | OK | OK | |||||||||
| merida1 | macOS 12.7.5 Monterey / x86_64 | OK | OK | OK | OK | |||||||||
| kjohnson1 | macOS 13.6.6 Ventura / arm64 | OK | OK | OK | OK | |||||||||
| taishan | Linux (openEuler 24.03 LTS) / aarch64 | OK | OK | OK | ||||||||||
|
To the developers/maintainers of the SAIGEgds package: - Allow up to 24 hours (and sometimes 48 hours) for your latest push to git@git.bioconductor.org:packages/SAIGEgds.git to reflect on this report. See Troubleshooting Build Report for more information. - Use the following Renviron settings to reproduce errors and warnings. - If 'R CMD check' started to fail recently on the Linux builder(s) over a missing dependency, add the missing dependency to 'Suggests:' in your DESCRIPTION file. See Renviron.bioc for more information. - See Martin Grigorov's blog post for how to debug Linux ARM64 related issues on a x86_64 host. |
| Package: SAIGEgds |
| Version: 2.6.0 |
| Command: /home/biocbuild/R/R/bin/R CMD check --install=check:SAIGEgds.install-out.txt --library=/home/biocbuild/R/R/site-library --no-vignettes --timings SAIGEgds_2.6.0.tar.gz |
| StartedAt: 2025-04-01 10:17:31 -0000 (Tue, 01 Apr 2025) |
| EndedAt: 2025-04-01 10:20:06 -0000 (Tue, 01 Apr 2025) |
| EllapsedTime: 155.2 seconds |
| RetCode: 0 |
| Status: OK |
| CheckDir: SAIGEgds.Rcheck |
| Warnings: 0 |
##############################################################################
##############################################################################
###
### Running command:
###
### /home/biocbuild/R/R/bin/R CMD check --install=check:SAIGEgds.install-out.txt --library=/home/biocbuild/R/R/site-library --no-vignettes --timings SAIGEgds_2.6.0.tar.gz
###
##############################################################################
##############################################################################
* using log directory ‘/home/biocbuild/bbs-3.20-bioc/meat/SAIGEgds.Rcheck’
* using R version 4.4.3 (2025-02-28)
* using platform: aarch64-unknown-linux-gnu
* R was compiled by
aarch64-unknown-linux-gnu-gcc (GCC) 14.2.0
GNU Fortran (GCC) 14.2.0
* running under: openEuler 24.03 (LTS)
* using session charset: UTF-8
* using option ‘--no-vignettes’
* checking for file ‘SAIGEgds/DESCRIPTION’ ... OK
* checking extension type ... Package
* this is package ‘SAIGEgds’ version ‘2.6.0’
* checking package namespace information ... OK
* checking package dependencies ... OK
* checking if this is a source package ... OK
* checking if there is a namespace ... OK
* checking for hidden files and directories ... OK
* checking for portable file names ... OK
* checking for sufficient/correct file permissions ... OK
* checking whether package ‘SAIGEgds’ can be installed ... OK
* used C++ compiler: ‘aarch64-unknown-linux-gnu-g++ (GCC) 14.2.0’
* checking C++ specification ... NOTE
Specified C++11: please drop specification unless essential
* checking installed package size ... NOTE
installed size is 9.6Mb
sub-directories of 1Mb or more:
libs 7.8Mb
* checking package directory ... OK
* checking ‘build’ directory ... OK
* checking DESCRIPTION meta-information ... OK
* checking top-level files ... OK
* checking for left-over files ... OK
* checking index information ... OK
* checking package subdirectories ... OK
* checking code files for non-ASCII characters ... OK
* checking R files for syntax errors ... OK
* checking whether the package can be loaded ... OK
* checking whether the package can be loaded with stated dependencies ... OK
* checking whether the package can be unloaded cleanly ... OK
* checking whether the namespace can be loaded with stated dependencies ... OK
* checking whether the namespace can be unloaded cleanly ... OK
* checking loading without being on the library search path ... OK
* checking dependencies in R code ... NOTE
Unexported objects imported by ':::' calls:
‘SeqArray:::.IsForking’ ‘SeqArray:::.McoreParallel’
‘SeqArray:::.NumParallel’ ‘SeqArray:::.seqProgForward’
‘SeqArray:::.seqProgress’ ‘SeqArray:::process_index’
‘survey:::saddle’
See the note in ?`:::` about the use of this operator.
* checking S3 generic/method consistency ... OK
* checking replacement functions ... OK
* checking foreign function calls ... OK
* checking R code for possible problems ... OK
* checking Rd files ... OK
* checking Rd metadata ... OK
* checking Rd cross-references ... OK
* checking for missing documentation entries ... OK
* checking for code/documentation mismatches ... OK
* checking Rd \usage sections ... OK
* checking Rd contents ... OK
* checking for unstated dependencies in examples ... OK
* checking line endings in C/C++/Fortran sources/headers ... OK
* checking line endings in Makefiles ... OK
* checking compilation flags in Makevars ... OK
* checking for GNU extensions in Makefiles ... NOTE
GNU make is a SystemRequirements.
* checking for portable use of $(BLAS_LIBS) and $(LAPACK_LIBS) ... OK
* checking use of PKG_*FLAGS in Makefiles ... OK
* checking compiled code ... NOTE
Note: information on .o files is not available
* checking files in ‘vignettes’ ... OK
* checking examples ... OK
Examples with CPU (user + system) or elapsed time > 5s
user system elapsed
seqAssocGLMM_ACAT_O 5.112 0.028 5.154
* checking for unstated dependencies in ‘tests’ ... OK
* checking tests ...
Running ‘runTests.R’
OK
* checking for unstated dependencies in vignettes ... OK
* checking package vignettes ... OK
* checking running R code from vignettes ... SKIPPED
* checking re-building of vignette outputs ... SKIPPED
* checking PDF version of manual ... OK
* DONE
Status: 5 NOTEs
See
‘/home/biocbuild/bbs-3.20-bioc/meat/SAIGEgds.Rcheck/00check.log’
for details.
SAIGEgds.Rcheck/00install.out
##############################################################################
##############################################################################
###
### Running command:
###
### /home/biocbuild/R/R/bin/R CMD INSTALL SAIGEgds
###
##############################################################################
##############################################################################
* installing to library ‘/home/biocbuild/R/R-4.4.3/site-library’
* installing *source* package ‘SAIGEgds’ ...
** using staged installation
** libs
using C++ compiler: ‘aarch64-unknown-linux-gnu-g++ (GCC) 14.2.0’
using C++11
/opt/ohpc/pub/compiler/gcc/14.2.0/bin/aarch64-unknown-linux-gnu-g++ -std=gnu++11 -I"/home/biocbuild/R/R-4.4.3/include" -DNDEBUG -DARMA_64BIT_WORD=1 -I'/home/biocbuild/R/R-4.4.3/site-library/Rcpp/include' -I'/home/biocbuild/R/R-4.4.3/site-library/RcppArmadillo/include' -I'/home/biocbuild/R/R-4.4.3/site-library/RcppParallel/include' -I/usr/local/include -fPIC -g -O2 -Wall -c SPATest.cpp -o SPATest.o
/opt/ohpc/pub/compiler/gcc/14.2.0/bin/aarch64-unknown-linux-gnu-g++ -std=gnu++11 -I"/home/biocbuild/R/R-4.4.3/include" -DNDEBUG -DARMA_64BIT_WORD=1 -I'/home/biocbuild/R/R-4.4.3/site-library/Rcpp/include' -I'/home/biocbuild/R/R-4.4.3/site-library/RcppArmadillo/include' -I'/home/biocbuild/R/R-4.4.3/site-library/RcppParallel/include' -I/usr/local/include -fPIC -g -O2 -Wall -c saige_fitnull.cpp -o saige_fitnull.o
In file included from /home/biocbuild/R/R-4.4.3/site-library/RcppParallel/include/tbb/tbb.h:32,
from /home/biocbuild/R/R-4.4.3/site-library/RcppParallel/include/RcppParallel/TBB.h:10,
from /home/biocbuild/R/R-4.4.3/site-library/RcppParallel/include/RcppParallel.h:24,
from saige.h:37,
from saige_fitnull.cpp:29:
/home/biocbuild/R/R-4.4.3/site-library/RcppParallel/include/tbb/atomic.h: In instantiation of ‘tbb::atomic<T>& tbb::internal::as_atomic(T&) [with T = long unsigned int]’:
/home/biocbuild/R/R-4.4.3/site-library/RcppParallel/include/tbb/tbb_thread.h:251:29: required from here
251 | return as_atomic(location.my_id).compare_and_swap(value.my_id, comparand.my_id);
| ~~~~~~~~~^~~~~~~~~~~~~~~~
/home/biocbuild/R/R-4.4.3/site-library/RcppParallel/include/tbb/atomic.h:544:12: warning: casting ‘long unsigned int’ to ‘tbb::atomic<long unsigned int>&’ does not use ‘constexpr tbb::atomic<long unsigned int>::atomic(long unsigned int)’ [-Wcast-user-defined]
544 | return (atomic<T>&)t;
| ^~~~~~~~~~~~~
/home/biocbuild/R/R-4.4.3/site-library/RcppParallel/include/tbb/atomic.h: In instantiation of ‘tbb::atomic<T>& tbb::internal::as_atomic(T&) [with T = tbb::interface5::internal::hash_map_base::bucket*]’:
/home/biocbuild/R/R-4.4.3/site-library/RcppParallel/include/tbb/concurrent_hash_map.h:291:31: required from here
291 | && as_atomic(my_table[new_seg]).compare_and_swap(is_allocating, NULL) == NULL )
| ~~~~~~~~~^~~~~~~~~~~~~~~~~~~
/home/biocbuild/R/R-4.4.3/site-library/RcppParallel/include/tbb/atomic.h:544:12: warning: casting ‘tbb::interface5::internal::hash_map_base::bucket*’ to ‘tbb::atomic<tbb::interface5::internal::hash_map_base::bucket*>&’ does not use ‘constexpr tbb::atomic<T*>::atomic(T*) [with T = tbb::interface5::internal::hash_map_base::bucket]’ [-Wcast-user-defined]
544 | return (atomic<T>&)t;
| ^~~~~~~~~~~~~
/opt/ohpc/pub/compiler/gcc/14.2.0/bin/aarch64-unknown-linux-gnu-g++ -std=gnu++11 -I"/home/biocbuild/R/R-4.4.3/include" -DNDEBUG -DARMA_64BIT_WORD=1 -I'/home/biocbuild/R/R-4.4.3/site-library/Rcpp/include' -I'/home/biocbuild/R/R-4.4.3/site-library/RcppArmadillo/include' -I'/home/biocbuild/R/R-4.4.3/site-library/RcppParallel/include' -I/usr/local/include -fPIC -g -O2 -Wall -c saige_main.cpp -o saige_main.o
In file included from /home/biocbuild/R/R-4.4.3/site-library/RcppParallel/include/tbb/tbb.h:32,
from /home/biocbuild/R/R-4.4.3/site-library/RcppParallel/include/RcppParallel/TBB.h:10,
from /home/biocbuild/R/R-4.4.3/site-library/RcppParallel/include/RcppParallel.h:24,
from saige.h:37,
from saige_main.cpp:30:
/home/biocbuild/R/R-4.4.3/site-library/RcppParallel/include/tbb/atomic.h: In instantiation of ‘tbb::atomic<T>& tbb::internal::as_atomic(T&) [with T = long unsigned int]’:
/home/biocbuild/R/R-4.4.3/site-library/RcppParallel/include/tbb/tbb_thread.h:251:29: required from here
251 | return as_atomic(location.my_id).compare_and_swap(value.my_id, comparand.my_id);
| ~~~~~~~~~^~~~~~~~~~~~~~~~
/home/biocbuild/R/R-4.4.3/site-library/RcppParallel/include/tbb/atomic.h:544:12: warning: casting ‘long unsigned int’ to ‘tbb::atomic<long unsigned int>&’ does not use ‘constexpr tbb::atomic<long unsigned int>::atomic(long unsigned int)’ [-Wcast-user-defined]
544 | return (atomic<T>&)t;
| ^~~~~~~~~~~~~
/home/biocbuild/R/R-4.4.3/site-library/RcppParallel/include/tbb/atomic.h: In instantiation of ‘tbb::atomic<T>& tbb::internal::as_atomic(T&) [with T = tbb::interface5::internal::hash_map_base::bucket*]’:
/home/biocbuild/R/R-4.4.3/site-library/RcppParallel/include/tbb/concurrent_hash_map.h:291:31: required from here
291 | && as_atomic(my_table[new_seg]).compare_and_swap(is_allocating, NULL) == NULL )
| ~~~~~~~~~^~~~~~~~~~~~~~~~~~~
/home/biocbuild/R/R-4.4.3/site-library/RcppParallel/include/tbb/atomic.h:544:12: warning: casting ‘tbb::interface5::internal::hash_map_base::bucket*’ to ‘tbb::atomic<tbb::interface5::internal::hash_map_base::bucket*>&’ does not use ‘constexpr tbb::atomic<T*>::atomic(T*) [with T = tbb::interface5::internal::hash_map_base::bucket]’ [-Wcast-user-defined]
544 | return (atomic<T>&)t;
| ^~~~~~~~~~~~~
/opt/ohpc/pub/compiler/gcc/14.2.0/bin/aarch64-unknown-linux-gnu-g++ -std=gnu++11 -I"/home/biocbuild/R/R-4.4.3/include" -DNDEBUG -DARMA_64BIT_WORD=1 -I'/home/biocbuild/R/R-4.4.3/site-library/Rcpp/include' -I'/home/biocbuild/R/R-4.4.3/site-library/RcppArmadillo/include' -I'/home/biocbuild/R/R-4.4.3/site-library/RcppParallel/include' -I/usr/local/include -fPIC -g -O2 -Wall -c saige_misc.cpp -o saige_misc.o
In file included from /home/biocbuild/R/R-4.4.3/site-library/RcppParallel/include/tbb/tbb.h:32,
from /home/biocbuild/R/R-4.4.3/site-library/RcppParallel/include/RcppParallel/TBB.h:10,
from /home/biocbuild/R/R-4.4.3/site-library/RcppParallel/include/RcppParallel.h:24,
from saige.h:37,
from saige_misc.cpp:25:
/home/biocbuild/R/R-4.4.3/site-library/RcppParallel/include/tbb/atomic.h: In instantiation of ‘tbb::atomic<T>& tbb::internal::as_atomic(T&) [with T = long unsigned int]’:
/home/biocbuild/R/R-4.4.3/site-library/RcppParallel/include/tbb/tbb_thread.h:251:29: required from here
251 | return as_atomic(location.my_id).compare_and_swap(value.my_id, comparand.my_id);
| ~~~~~~~~~^~~~~~~~~~~~~~~~
/home/biocbuild/R/R-4.4.3/site-library/RcppParallel/include/tbb/atomic.h:544:12: warning: casting ‘long unsigned int’ to ‘tbb::atomic<long unsigned int>&’ does not use ‘constexpr tbb::atomic<long unsigned int>::atomic(long unsigned int)’ [-Wcast-user-defined]
544 | return (atomic<T>&)t;
| ^~~~~~~~~~~~~
/home/biocbuild/R/R-4.4.3/site-library/RcppParallel/include/tbb/atomic.h: In instantiation of ‘tbb::atomic<T>& tbb::internal::as_atomic(T&) [with T = tbb::interface5::internal::hash_map_base::bucket*]’:
/home/biocbuild/R/R-4.4.3/site-library/RcppParallel/include/tbb/concurrent_hash_map.h:291:31: required from here
291 | && as_atomic(my_table[new_seg]).compare_and_swap(is_allocating, NULL) == NULL )
| ~~~~~~~~~^~~~~~~~~~~~~~~~~~~
/home/biocbuild/R/R-4.4.3/site-library/RcppParallel/include/tbb/atomic.h:544:12: warning: casting ‘tbb::interface5::internal::hash_map_base::bucket*’ to ‘tbb::atomic<tbb::interface5::internal::hash_map_base::bucket*>&’ does not use ‘constexpr tbb::atomic<T*>::atomic(T*) [with T = tbb::interface5::internal::hash_map_base::bucket]’ [-Wcast-user-defined]
544 | return (atomic<T>&)t;
| ^~~~~~~~~~~~~
/opt/ohpc/pub/compiler/gcc/14.2.0/bin/aarch64-unknown-linux-gnu-g++ -std=gnu++11 -I"/home/biocbuild/R/R-4.4.3/include" -DNDEBUG -DARMA_64BIT_WORD=1 -I'/home/biocbuild/R/R-4.4.3/site-library/Rcpp/include' -I'/home/biocbuild/R/R-4.4.3/site-library/RcppArmadillo/include' -I'/home/biocbuild/R/R-4.4.3/site-library/RcppParallel/include' -I/usr/local/include -fPIC -g -O2 -Wall -c vec_ext_avx2.cpp -o vec_ext_avx2.o
/opt/ohpc/pub/compiler/gcc/14.2.0/bin/aarch64-unknown-linux-gnu-g++ -std=gnu++11 -I"/home/biocbuild/R/R-4.4.3/include" -DNDEBUG -DARMA_64BIT_WORD=1 -I'/home/biocbuild/R/R-4.4.3/site-library/Rcpp/include' -I'/home/biocbuild/R/R-4.4.3/site-library/RcppArmadillo/include' -I'/home/biocbuild/R/R-4.4.3/site-library/RcppParallel/include' -I/usr/local/include -fPIC -g -O2 -Wall -c vec_ext_avx512bw.cpp -o vec_ext_avx512bw.o
/opt/ohpc/pub/compiler/gcc/14.2.0/bin/aarch64-unknown-linux-gnu-g++ -std=gnu++11 -I"/home/biocbuild/R/R-4.4.3/include" -DNDEBUG -DARMA_64BIT_WORD=1 -I'/home/biocbuild/R/R-4.4.3/site-library/Rcpp/include' -I'/home/biocbuild/R/R-4.4.3/site-library/RcppArmadillo/include' -I'/home/biocbuild/R/R-4.4.3/site-library/RcppParallel/include' -I/usr/local/include -fPIC -g -O2 -Wall -c vec_ext_def.cpp -o vec_ext_def.o
vec_ext_def.cpp: In function ‘void vec_init_function()’:
vec_ext_def.cpp:33:27: warning: unused variable ‘VEC_ALGORITHM_AVX2’ [-Wunused-variable]
33 | extern const bool VEC_ALGORITHM_AVX2;
| ^~~~~~~~~~~~~~~~~~
vec_ext_def.cpp:34:27: warning: unused variable ‘VEC_ALGORITHM_AVX512BW’ [-Wunused-variable]
34 | extern const bool VEC_ALGORITHM_AVX512BW;
| ^~~~~~~~~~~~~~~~~~~~~~
/opt/ohpc/pub/compiler/gcc/14.2.0/bin/aarch64-unknown-linux-gnu-g++ -std=gnu++11 -I"/home/biocbuild/R/R-4.4.3/include" -DNDEBUG -DARMA_64BIT_WORD=1 -I'/home/biocbuild/R/R-4.4.3/site-library/Rcpp/include' -I'/home/biocbuild/R/R-4.4.3/site-library/RcppArmadillo/include' -I'/home/biocbuild/R/R-4.4.3/site-library/RcppParallel/include' -I/usr/local/include -fPIC -g -O2 -Wall -c vectorization.cpp -o vectorization.o
/opt/ohpc/pub/compiler/gcc/14.2.0/bin/aarch64-unknown-linux-gnu-g++ -std=gnu++11 -shared -L/home/biocbuild/R/R-4.4.3/lib -L/usr/local/lib -o SAIGEgds.so SPATest.o saige_fitnull.o saige_main.o saige_misc.o vec_ext_avx2.o vec_ext_avx512bw.o vec_ext_def.o vectorization.o -lm -lopenblas -lgfortran -lm -lgcc -L/home/biocbuild/R/R-4.4.3/lib -lR
installing to /home/biocbuild/R/R-4.4.3/site-library/00LOCK-SAIGEgds/00new/SAIGEgds/libs
** R
** inst
** byte-compile and prepare package for lazy loading
** help
*** installing help indices
** building package indices
** installing vignettes
** testing if installed package can be loaded from temporary location
** checking absolute paths in shared objects and dynamic libraries
** testing if installed package can be loaded from final location
** testing if installed package keeps a record of temporary installation path
* DONE (SAIGEgds)
SAIGEgds.Rcheck/tests/runTests.Rout
R version 4.4.3 (2025-02-28) -- "Trophy Case"
Copyright (C) 2025 The R Foundation for Statistical Computing
Platform: aarch64-unknown-linux-gnu
R is free software and comes with ABSOLUTELY NO WARRANTY.
You are welcome to redistribute it under certain conditions.
Type 'license()' or 'licence()' for distribution details.
R is a collaborative project with many contributors.
Type 'contributors()' for more information and
'citation()' on how to cite R or R packages in publications.
Type 'demo()' for some demos, 'help()' for on-line help, or
'help.start()' for an HTML browser interface to help.
Type 'q()' to quit R.
> # BiocGenerics:::testPackage("SAIGEgds")
>
> proc.time()
user system elapsed
0.197 0.018 0.201
SAIGEgds.Rcheck/SAIGEgds-Ex.timings
| name | user | system | elapsed | |
| SAIGEgds-package | 4.311 | 0.163 | 4.489 | |
| glmmHeritability | 3.811 | 0.008 | 3.827 | |
| pACAT | 0.003 | 0.000 | 0.003 | |
| seqAssocGLMM_ACAT_O | 5.112 | 0.028 | 5.154 | |
| seqAssocGLMM_ACAT_V | 4.710 | 0.008 | 4.728 | |
| seqAssocGLMM_Burden | 4.626 | 0.008 | 4.645 | |
| seqAssocGLMM_SKAT | 4.310 | 0.008 | 4.331 | |
| seqAssocGLMM_SPA | 4.149 | 0.008 | 4.166 | |
| seqFitNullGLMM_SPA | 3.720 | 0.000 | 3.728 | |
| seqFitSparseGRM | 0.225 | 0.000 | 0.227 | |
| seqSAIGE_LoadPval | 0.044 | 0.000 | 0.047 | |
| seqseqFitLDpruning | 1.753 | 0.028 | 1.795 | |