| Back to Multiple platform build/check report for BioC 3.20: simplified long |
|
This page was generated on 2025-04-02 19:31 -0400 (Wed, 02 Apr 2025).
| Hostname | OS | Arch (*) | R version | Installed pkgs |
|---|---|---|---|---|
| nebbiolo2 | Linux (Ubuntu 24.04.1 LTS) | x86_64 | 4.4.3 (2025-02-28) -- "Trophy Case" | 4764 |
| palomino8 | Windows Server 2022 Datacenter | x64 | 4.4.3 (2025-02-28 ucrt) -- "Trophy Case" | 4495 |
| merida1 | macOS 12.7.5 Monterey | x86_64 | 4.4.3 (2025-02-28) -- "Trophy Case" | 4522 |
| kjohnson1 | macOS 13.6.6 Ventura | arm64 | 4.4.3 (2025-02-28) -- "Trophy Case" | 4449 |
| taishan | Linux (openEuler 24.03 LTS) | aarch64 | 4.4.3 (2025-02-28) -- "Trophy Case" | 4426 |
| Click on any hostname to see more info about the system (e.g. compilers) (*) as reported by 'uname -p', except on Windows and Mac OS X | ||||
| Package 1835/2289 | Hostname | OS / Arch | INSTALL | BUILD | CHECK | BUILD BIN | ||||||||
| SAIGEgds 2.6.0 (landing page) Xiuwen Zheng
| nebbiolo2 | Linux (Ubuntu 24.04.1 LTS) / x86_64 | OK | OK | OK | |||||||||
| palomino8 | Windows Server 2022 Datacenter / x64 | OK | OK | OK | OK | |||||||||
| merida1 | macOS 12.7.5 Monterey / x86_64 | OK | OK | OK | OK | |||||||||
| kjohnson1 | macOS 13.6.6 Ventura / arm64 | OK | OK | OK | OK | |||||||||
| taishan | Linux (openEuler 24.03 LTS) / aarch64 | OK | OK | OK | ||||||||||
|
To the developers/maintainers of the SAIGEgds package: - Allow up to 24 hours (and sometimes 48 hours) for your latest push to git@git.bioconductor.org:packages/SAIGEgds.git to reflect on this report. See Troubleshooting Build Report for more information. - Use the following Renviron settings to reproduce errors and warnings. - If 'R CMD check' started to fail recently on the Linux builder(s) over a missing dependency, add the missing dependency to 'Suggests:' in your DESCRIPTION file. See Renviron.bioc for more information. |
| Package: SAIGEgds |
| Version: 2.6.0 |
| Command: rm -rf SAIGEgds.buildbin-libdir && mkdir SAIGEgds.buildbin-libdir && F:\biocbuild\bbs-3.20-bioc\R\bin\R.exe CMD INSTALL --build --library=SAIGEgds.buildbin-libdir SAIGEgds_2.6.0.tar.gz |
| StartedAt: 2025-04-01 09:07:35 -0400 (Tue, 01 Apr 2025) |
| EndedAt: 2025-04-01 09:09:07 -0400 (Tue, 01 Apr 2025) |
| EllapsedTime: 92.6 seconds |
| RetCode: 0 |
| Status: OK |
| PackageFile: SAIGEgds_2.6.0.zip |
| PackageFileSize: 2.545 MiB |
############################################################################## ############################################################################## ### ### Running command: ### ### rm -rf SAIGEgds.buildbin-libdir && mkdir SAIGEgds.buildbin-libdir && F:\biocbuild\bbs-3.20-bioc\R\bin\R.exe CMD INSTALL --build --library=SAIGEgds.buildbin-libdir SAIGEgds_2.6.0.tar.gz ### ############################################################################## ############################################################################## * installing *source* package 'SAIGEgds' ... ** using staged installation ** libs using C++ compiler: 'G__~1.EXE (GCC) 13.3.0' using C++11 g++ -std=gnu++11 -I"F:/biocbuild/bbs-3.20-bioc/R/include" -DNDEBUG -DARMA_64BIT_WORD=1 -I'F:/biocbuild/bbs-3.20-bioc/R/library/Rcpp/include' -I'F:/biocbuild/bbs-3.20-bioc/R/library/RcppArmadillo/include' -I'F:/biocbuild/bbs-3.20-bioc/R/library/RcppParallel/include' -I"C:/rtools44/x86_64-w64-mingw32.static.posix/include" -DRCPP_PARALLEL_USE_TBB=1 -O2 -Wall -mfpmath=sse -msse2 -mstackrealign -c SPATest.cpp -o SPATest.o g++ -std=gnu++11 -I"F:/biocbuild/bbs-3.20-bioc/R/include" -DNDEBUG -DARMA_64BIT_WORD=1 -I'F:/biocbuild/bbs-3.20-bioc/R/library/Rcpp/include' -I'F:/biocbuild/bbs-3.20-bioc/R/library/RcppArmadillo/include' -I'F:/biocbuild/bbs-3.20-bioc/R/library/RcppParallel/include' -I"C:/rtools44/x86_64-w64-mingw32.static.posix/include" -DRCPP_PARALLEL_USE_TBB=1 -O2 -Wall -mfpmath=sse -msse2 -mstackrealign -c saige_fitnull.cpp -o saige_fitnull.o g++ -std=gnu++11 -I"F:/biocbuild/bbs-3.20-bioc/R/include" -DNDEBUG -DARMA_64BIT_WORD=1 -I'F:/biocbuild/bbs-3.20-bioc/R/library/Rcpp/include' -I'F:/biocbuild/bbs-3.20-bioc/R/library/RcppArmadillo/include' -I'F:/biocbuild/bbs-3.20-bioc/R/library/RcppParallel/include' -I"C:/rtools44/x86_64-w64-mingw32.static.posix/include" -DRCPP_PARALLEL_USE_TBB=1 -O2 -Wall -mfpmath=sse -msse2 -mstackrealign -c saige_main.cpp -o saige_main.o g++ -std=gnu++11 -I"F:/biocbuild/bbs-3.20-bioc/R/include" -DNDEBUG -DARMA_64BIT_WORD=1 -I'F:/biocbuild/bbs-3.20-bioc/R/library/Rcpp/include' -I'F:/biocbuild/bbs-3.20-bioc/R/library/RcppArmadillo/include' -I'F:/biocbuild/bbs-3.20-bioc/R/library/RcppParallel/include' -I"C:/rtools44/x86_64-w64-mingw32.static.posix/include" -DRCPP_PARALLEL_USE_TBB=1 -O2 -Wall -mfpmath=sse -msse2 -mstackrealign -c saige_misc.cpp -o saige_misc.o g++ -std=gnu++11 -I"F:/biocbuild/bbs-3.20-bioc/R/include" -DNDEBUG -DARMA_64BIT_WORD=1 -I'F:/biocbuild/bbs-3.20-bioc/R/library/Rcpp/include' -I'F:/biocbuild/bbs-3.20-bioc/R/library/RcppArmadillo/include' -I'F:/biocbuild/bbs-3.20-bioc/R/library/RcppParallel/include' -I"C:/rtools44/x86_64-w64-mingw32.static.posix/include" -DRCPP_PARALLEL_USE_TBB=1 -O2 -Wall -mfpmath=sse -msse2 -mstackrealign -c vec_ext_avx2.cpp -o vec_ext_avx2.o g++ -std=gnu++11 -I"F:/biocbuild/bbs-3.20-bioc/R/include" -DNDEBUG -DARMA_64BIT_WORD=1 -I'F:/biocbuild/bbs-3.20-bioc/R/library/Rcpp/include' -I'F:/biocbuild/bbs-3.20-bioc/R/library/RcppArmadillo/include' -I'F:/biocbuild/bbs-3.20-bioc/R/library/RcppParallel/include' -I"C:/rtools44/x86_64-w64-mingw32.static.posix/include" -DRCPP_PARALLEL_USE_TBB=1 -O2 -Wall -mfpmath=sse -msse2 -mstackrealign -c vec_ext_avx512bw.cpp -o vec_ext_avx512bw.o g++ -std=gnu++11 -I"F:/biocbuild/bbs-3.20-bioc/R/include" -DNDEBUG -DARMA_64BIT_WORD=1 -I'F:/biocbuild/bbs-3.20-bioc/R/library/Rcpp/include' -I'F:/biocbuild/bbs-3.20-bioc/R/library/RcppArmadillo/include' -I'F:/biocbuild/bbs-3.20-bioc/R/library/RcppParallel/include' -I"C:/rtools44/x86_64-w64-mingw32.static.posix/include" -DRCPP_PARALLEL_USE_TBB=1 -O2 -Wall -mfpmath=sse -msse2 -mstackrealign -c vec_ext_def.cpp -o vec_ext_def.o g++ -std=gnu++11 -I"F:/biocbuild/bbs-3.20-bioc/R/include" -DNDEBUG -DARMA_64BIT_WORD=1 -I'F:/biocbuild/bbs-3.20-bioc/R/library/Rcpp/include' -I'F:/biocbuild/bbs-3.20-bioc/R/library/RcppArmadillo/include' -I'F:/biocbuild/bbs-3.20-bioc/R/library/RcppParallel/include' -I"C:/rtools44/x86_64-w64-mingw32.static.posix/include" -DRCPP_PARALLEL_USE_TBB=1 -O2 -Wall -mfpmath=sse -msse2 -mstackrealign -c vectorization.cpp -o vectorization.o g++ -shared -s -static-libgcc -o SAIGEgds.dll tmp.def SPATest.o saige_fitnull.o saige_main.o saige_misc.o vec_ext_avx2.o vec_ext_avx512bw.o vec_ext_def.o vectorization.o -lm -LF:/biocbuild/bbs-3.20-bioc/R/bin/x64 -lRlapack -LF:/biocbuild/bbs-3.20-bioc/R/bin/x64 -lRblas -lgfortran -lm -lquadmath -LF:/biocbuild/bbs-3.20-bioc/R/library/RcppParallel/libs/x64 -lRcppParallel -LF:/biocbuild/bbs-3.20-bioc/R/library/RcppParallel/lib/x64 -ltbb -ltbbmalloc -lgcc -LC:/rtools44/x86_64-w64-mingw32.static.posix/lib/x64 -LC:/rtools44/x86_64-w64-mingw32.static.posix/lib -LF:/biocbuild/bbs-3.20-bioc/R/bin/x64 -lR installing to F:/biocbuild/bbs-3.20-bioc/meat/SAIGEgds.buildbin-libdir/00LOCK-SAIGEgds/00new/SAIGEgds/libs/x64 ** R ** inst ** byte-compile and prepare package for lazy loading ** help *** installing help indices ** building package indices ** installing vignettes ** testing if installed package can be loaded from temporary location ** testing if installed package can be loaded from final location ** testing if installed package keeps a record of temporary installation path * MD5 sums packaged installation of 'SAIGEgds' as SAIGEgds_2.6.0.zip * DONE (SAIGEgds)