| Back to Multiple platform build/check report for BioC 3.20: simplified long |
|
This page was generated on 2024-11-20 12:02 -0500 (Wed, 20 Nov 2024).
| Hostname | OS | Arch (*) | R version | Installed pkgs |
|---|---|---|---|---|
| teran2 | Linux (Ubuntu 24.04.1 LTS) | x86_64 | 4.4.2 (2024-10-31) -- "Pile of Leaves" | 4481 |
| nebbiolo2 | Linux (Ubuntu 24.04.1 LTS) | x86_64 | 4.4.2 (2024-10-31) -- "Pile of Leaves" | 4479 |
| palomino8 | Windows Server 2022 Datacenter | x64 | 4.4.2 (2024-10-31 ucrt) -- "Pile of Leaves" | 4359 |
| lconway | macOS 12.7.1 Monterey | x86_64 | 4.4.1 (2024-06-14) -- "Race for Your Life" | 4539 |
| kunpeng2 | Linux (openEuler 22.03 LTS-SP1) | aarch64 | 4.4.1 (2024-06-14) -- "Race for Your Life" | 4493 |
| Click on any hostname to see more info about the system (e.g. compilers) (*) as reported by 'uname -p', except on Windows and Mac OS X | ||||
| Package 1604/2289 | Hostname | OS / Arch | INSTALL | BUILD | CHECK | BUILD BIN | ||||||||
| PRONE 1.0.0 (landing page) Lis Arend
| teran2 | Linux (Ubuntu 24.04.1 LTS) / x86_64 | OK | OK | OK | |||||||||
| nebbiolo2 | Linux (Ubuntu 24.04.1 LTS) / x86_64 | OK | OK | OK | ||||||||||
| palomino8 | Windows Server 2022 Datacenter / x64 | OK | OK | OK | OK | |||||||||
| lconway | macOS 12.7.1 Monterey / x86_64 | OK | OK | OK | OK | |||||||||
| kunpeng2 | Linux (openEuler 22.03 LTS-SP1) / aarch64 | OK | OK | OK | ||||||||||
|
To the developers/maintainers of the PRONE package: - Allow up to 24 hours (and sometimes 48 hours) for your latest push to git@git.bioconductor.org:packages/PRONE.git to reflect on this report. See Troubleshooting Build Report for more information. - Use the following Renviron settings to reproduce errors and warnings. - If 'R CMD check' started to fail recently on the Linux builder(s) over a missing dependency, add the missing dependency to 'Suggests:' in your DESCRIPTION file. See Renviron.bioc for more information. |
| Package: PRONE |
| Version: 1.0.0 |
| Command: /home/biocbuild/bbs-3.20-bioc/R/bin/R CMD check --install=check:PRONE.install-out.txt --library=/home/biocbuild/bbs-3.20-bioc/R/site-library --timings PRONE_1.0.0.tar.gz |
| StartedAt: 2024-11-20 07:45:57 -0500 (Wed, 20 Nov 2024) |
| EndedAt: 2024-11-20 07:52:35 -0500 (Wed, 20 Nov 2024) |
| EllapsedTime: 398.7 seconds |
| RetCode: 0 |
| Status: OK |
| CheckDir: PRONE.Rcheck |
| Warnings: 0 |
##############################################################################
##############################################################################
###
### Running command:
###
### /home/biocbuild/bbs-3.20-bioc/R/bin/R CMD check --install=check:PRONE.install-out.txt --library=/home/biocbuild/bbs-3.20-bioc/R/site-library --timings PRONE_1.0.0.tar.gz
###
##############################################################################
##############################################################################
* using log directory ‘/media/volume/teran2_disk/biocbuild/bbs-3.20-bioc/meat/PRONE.Rcheck’
* using R version 4.4.2 (2024-10-31)
* using platform: x86_64-pc-linux-gnu
* R was compiled by
gcc (Ubuntu 13.2.0-23ubuntu4) 13.2.0
GNU Fortran (Ubuntu 13.2.0-23ubuntu4) 13.2.0
* running under: Ubuntu 24.04.1 LTS
* using session charset: UTF-8
* checking for file ‘PRONE/DESCRIPTION’ ... OK
* checking extension type ... Package
* this is package ‘PRONE’ version ‘1.0.0’
* package encoding: UTF-8
* checking package namespace information ... OK
* checking package dependencies ... OK
* checking if this is a source package ... OK
* checking if there is a namespace ... OK
* checking for hidden files and directories ... OK
* checking for portable file names ... OK
* checking for sufficient/correct file permissions ... OK
* checking whether package ‘PRONE’ can be installed ... OK
* checking installed package size ... OK
* checking package directory ... OK
* checking ‘build’ directory ... OK
* checking DESCRIPTION meta-information ... OK
* checking top-level files ... OK
* checking for left-over files ... OK
* checking index information ... OK
* checking package subdirectories ... OK
* checking code files for non-ASCII characters ... OK
* checking R files for syntax errors ... OK
* checking whether the package can be loaded ... OK
* checking whether the package can be loaded with stated dependencies ... OK
* checking whether the package can be unloaded cleanly ... OK
* checking whether the namespace can be loaded with stated dependencies ... OK
* checking whether the namespace can be unloaded cleanly ... OK
* checking loading without being on the library search path ... OK
* checking dependencies in R code ... NOTE
Unexported objects imported by ':::' calls:
‘NormalyzerDE:::calculateAvgMadMem’
‘NormalyzerDE:::calculateAvgReplicateVariation’
‘NormalyzerDE:::calculatePercentageAvgDiffInMat’
‘NormalyzerDE:::calculateReplicateCV’
‘NormalyzerDE:::calculateSummarizedCorrelationVector’
See the note in ?`:::` about the use of this operator.
* checking S3 generic/method consistency ... OK
* checking replacement functions ... OK
* checking foreign function calls ... OK
* checking R code for possible problems ... OK
* checking Rd files ... OK
* checking Rd metadata ... OK
* checking Rd cross-references ... OK
* checking for missing documentation entries ... OK
* checking for code/documentation mismatches ... OK
* checking Rd \usage sections ... OK
* checking Rd contents ... OK
* checking for unstated dependencies in examples ... OK
* checking contents of ‘data’ directory ... OK
* checking data for non-ASCII characters ... OK
* checking data for ASCII and uncompressed saves ... OK
* checking files in ‘vignettes’ ... OK
* checking examples ... OK
Examples with CPU (user + system) or elapsed time > 5s
user system elapsed
plot_intersection_enrichment 1.148 0.014 10.817
* checking for unstated dependencies in vignettes ... OK
* checking package vignettes ... OK
* checking re-building of vignette outputs ... OK
* checking PDF version of manual ... OK
* DONE
Status: 1 NOTE
See
‘/media/volume/teran2_disk/biocbuild/bbs-3.20-bioc/meat/PRONE.Rcheck/00check.log’
for details.
PRONE.Rcheck/00install.out
############################################################################## ############################################################################## ### ### Running command: ### ### /home/biocbuild/bbs-3.20-bioc/R/bin/R CMD INSTALL PRONE ### ############################################################################## ############################################################################## * installing to library ‘/media/volume/teran2_disk/biocbuild/bbs-3.20-bioc/R/site-library’ * installing *source* package ‘PRONE’ ... ** using staged installation ** R ** data ** inst ** byte-compile and prepare package for lazy loading ** help *** installing help indices *** copying figures ** building package indices ** installing vignettes ** testing if installed package can be loaded from temporary location ** testing if installed package can be loaded from final location ** testing if installed package keeps a record of temporary installation path * DONE (PRONE)
PRONE.Rcheck/PRONE-Ex.timings
| name | user | system | elapsed | |
| apply_thresholds | 0.021 | 0.003 | 0.024 | |
| detect_outliers_POMA | 1.573 | 0.042 | 1.663 | |
| eigenMSNorm | 0.483 | 0.104 | 0.995 | |
| export_data | 0.021 | 0.001 | 0.022 | |
| extract_consensus_DE_candidates | 0.056 | 0.003 | 0.058 | |
| filter_out_NA_proteins_by_threshold | 0.186 | 0.001 | 0.179 | |
| filter_out_complete_NA_proteins | 0.033 | 0.004 | 0.036 | |
| filter_out_proteins_by_ID | 0.112 | 0.001 | 0.114 | |
| filter_out_proteins_by_value | 0.112 | 0.001 | 0.114 | |
| get_NA_overview | 0.026 | 0.001 | 0.027 | |
| get_normalization_methods | 0 | 0 | 0 | |
| get_overview_DE | 0.029 | 0.001 | 0.030 | |
| get_proteins_by_value | 0.104 | 0.001 | 0.105 | |
| get_spiked_stats_DE | 0.061 | 0.002 | 0.063 | |
| globalIntNorm | 0.117 | 0.003 | 0.120 | |
| globalMeanNorm | 0.100 | 0.002 | 0.102 | |
| globalMedianNorm | 0.099 | 0.003 | 0.102 | |
| impute_se | 0.574 | 0.003 | 0.571 | |
| irsNorm | 0.041 | 0.001 | 0.042 | |
| limmaNorm | 0.053 | 0.001 | 0.054 | |
| load_data | 0.035 | 0.001 | 0.058 | |
| load_spike_data | 0.027 | 0.001 | 0.030 | |
| loessCycNorm | 0.098 | 0.007 | 0.106 | |
| loessFNorm | 0.059 | 0.001 | 0.061 | |
| meanNorm | 0.030 | 0.001 | 0.031 | |
| medianAbsDevNorm | 0.069 | 0.002 | 0.071 | |
| medianNorm | 0.042 | 0.001 | 0.045 | |
| normalize_se | 2.693 | 0.016 | 2.991 | |
| normalize_se_combination | 2.546 | 0.002 | 2.626 | |
| normalize_se_single | 3.275 | 0.006 | 4.721 | |
| normicsNorm | 2.368 | 0.003 | 3.274 | |
| plot_NA_density | 0.233 | 0.005 | 0.229 | |
| plot_NA_frequency | 0.135 | 0.002 | 0.128 | |
| plot_NA_heatmap | 0.904 | 0.030 | 0.938 | |
| plot_PCA | 0.723 | 0.008 | 0.734 | |
| plot_ROC_AUC_spiked | 0.700 | 0.011 | 0.750 | |
| plot_TP_FP_spiked_bar | 0.180 | 0.003 | 0.183 | |
| plot_TP_FP_spiked_box | 0.239 | 0.003 | 0.291 | |
| plot_TP_FP_spiked_scatter | 1.168 | 0.006 | 1.193 | |
| plot_boxplots | 2.769 | 0.151 | 2.917 | |
| plot_condition_overview | 0.135 | 0.001 | 0.137 | |
| plot_densities | 1.740 | 0.011 | 1.813 | |
| plot_fold_changes_spiked | 0.321 | 0.016 | 0.343 | |
| plot_heatmap | 2.745 | 0.003 | 2.951 | |
| plot_heatmap_DE | 0.873 | 0.007 | 0.885 | |
| plot_histogram_spiked | 0.227 | 0.004 | 0.273 | |
| plot_identified_spiked_proteins | 0.290 | 0.004 | 0.294 | |
| plot_intersection_enrichment | 1.148 | 0.014 | 10.817 | |
| plot_intragroup_PCV | 0.361 | 0.002 | 0.534 | |
| plot_intragroup_PEV | 0.235 | 0.002 | 0.237 | |
| plot_intragroup_PMAD | 0.246 | 0.001 | 0.246 | |
| plot_intragroup_correlation | 0.227 | 0.002 | 0.230 | |
| plot_jaccard_heatmap | 0.167 | 0.002 | 0.158 | |
| plot_logFC_thresholds_spiked | 0.368 | 0.005 | 0.396 | |
| plot_markers_boxplots | 0.500 | 0.001 | 0.496 | |
| plot_nr_prot_samples | 0.155 | 0.003 | 0.161 | |
| plot_overview_DE_bar | 0.206 | 0.001 | 0.233 | |
| plot_overview_DE_tile | 0.130 | 0.001 | 0.133 | |
| plot_profiles_spiked | 0.523 | 0.001 | 0.554 | |
| plot_pvalues_spiked | 0.300 | 0.003 | 0.416 | |
| plot_stats_spiked_heatmap | 0.208 | 0.003 | 0.211 | |
| plot_tot_int_samples | 0.155 | 0.001 | 0.157 | |
| plot_upset | 0.402 | 0.003 | 0.405 | |
| plot_upset_DE | 0.528 | 0.005 | 0.542 | |
| plot_volcano_DE | 1.959 | 0.009 | 2.036 | |
| quantileNorm | 0.032 | 0.002 | 0.036 | |
| readPRONE_example | 0.001 | 0.000 | 0.001 | |
| remove_POMA_outliers | 0.369 | 0.000 | 0.374 | |
| remove_assays_from_SE | 0.031 | 0.004 | 0.036 | |
| remove_reference_samples | 0.033 | 0.000 | 0.033 | |
| remove_samples_manually | 0.027 | 0.001 | 0.029 | |
| rlrMACycNorm | 0.442 | 0.001 | 0.443 | |
| rlrMANorm | 0.071 | 0.001 | 0.073 | |
| rlrNorm | 0.061 | 0.001 | 0.063 | |
| robnormNorm | 0.075 | 0.004 | 0.080 | |
| run_DE | 1.699 | 0.006 | 1.670 | |
| specify_comparisons | 0.028 | 0.001 | 0.023 | |
| subset_SE_by_norm | 0.056 | 0.002 | 0.058 | |
| tmmNorm | 0.091 | 0.003 | 0.094 | |
| vsnNorm | 0.047 | 0.002 | 0.049 | |