| Back to Multiple platform build/check report for BioC 3.20: simplified long |
|
This page was generated on 2024-11-20 12:06 -0500 (Wed, 20 Nov 2024).
| Hostname | OS | Arch (*) | R version | Installed pkgs |
|---|---|---|---|---|
| teran2 | Linux (Ubuntu 24.04.1 LTS) | x86_64 | 4.4.2 (2024-10-31) -- "Pile of Leaves" | 4481 |
| nebbiolo2 | Linux (Ubuntu 24.04.1 LTS) | x86_64 | 4.4.2 (2024-10-31) -- "Pile of Leaves" | 4479 |
| palomino8 | Windows Server 2022 Datacenter | x64 | 4.4.2 (2024-10-31 ucrt) -- "Pile of Leaves" | 4359 |
| lconway | macOS 12.7.1 Monterey | x86_64 | 4.4.1 (2024-06-14) -- "Race for Your Life" | 4539 |
| kunpeng2 | Linux (openEuler 22.03 LTS-SP1) | aarch64 | 4.4.1 (2024-06-14) -- "Race for Your Life" | 4493 |
| Click on any hostname to see more info about the system (e.g. compilers) (*) as reported by 'uname -p', except on Windows and Mac OS X | ||||
| Package 1604/2289 | Hostname | OS / Arch | INSTALL | BUILD | CHECK | BUILD BIN | ||||||||
| PRONE 1.0.0 (landing page) Lis Arend
| teran2 | Linux (Ubuntu 24.04.1 LTS) / x86_64 | OK | OK | OK | |||||||||
| nebbiolo2 | Linux (Ubuntu 24.04.1 LTS) / x86_64 | OK | OK | OK | ||||||||||
| palomino8 | Windows Server 2022 Datacenter / x64 | OK | OK | OK | OK | |||||||||
| lconway | macOS 12.7.1 Monterey / x86_64 | OK | OK | OK | OK | |||||||||
| kunpeng2 | Linux (openEuler 22.03 LTS-SP1) / aarch64 | OK | OK | OK | ||||||||||
|
To the developers/maintainers of the PRONE package: - Allow up to 24 hours (and sometimes 48 hours) for your latest push to git@git.bioconductor.org:packages/PRONE.git to reflect on this report. See Troubleshooting Build Report for more information. - Use the following Renviron settings to reproduce errors and warnings. - If 'R CMD check' started to fail recently on the Linux builder(s) over a missing dependency, add the missing dependency to 'Suggests:' in your DESCRIPTION file. See Renviron.bioc for more information. |
| Package: PRONE |
| Version: 1.0.0 |
| Command: /Library/Frameworks/R.framework/Resources/bin/R CMD check --install=check:PRONE.install-out.txt --library=/Library/Frameworks/R.framework/Resources/library --no-vignettes --timings PRONE_1.0.0.tar.gz |
| StartedAt: 2024-11-20 01:23:28 -0500 (Wed, 20 Nov 2024) |
| EndedAt: 2024-11-20 01:31:51 -0500 (Wed, 20 Nov 2024) |
| EllapsedTime: 502.9 seconds |
| RetCode: 0 |
| Status: OK |
| CheckDir: PRONE.Rcheck |
| Warnings: 0 |
##############################################################################
##############################################################################
###
### Running command:
###
### /Library/Frameworks/R.framework/Resources/bin/R CMD check --install=check:PRONE.install-out.txt --library=/Library/Frameworks/R.framework/Resources/library --no-vignettes --timings PRONE_1.0.0.tar.gz
###
##############################################################################
##############################################################################
* using log directory ‘/Users/biocbuild/bbs-3.20-bioc/meat/PRONE.Rcheck’
* using R version 4.4.1 (2024-06-14)
* using platform: x86_64-apple-darwin20
* R was compiled by
Apple clang version 14.0.0 (clang-1400.0.29.202)
GNU Fortran (GCC) 12.2.0
* running under: macOS Monterey 12.7.6
* using session charset: UTF-8
* using option ‘--no-vignettes’
* checking for file ‘PRONE/DESCRIPTION’ ... OK
* checking extension type ... Package
* this is package ‘PRONE’ version ‘1.0.0’
* package encoding: UTF-8
* checking package namespace information ... OK
* checking package dependencies ...Warning: unable to access index for repository https://CRAN.R-project.org/src/contrib:
cannot open URL 'https://CRAN.R-project.org/src/contrib/PACKAGES'
OK
* checking if this is a source package ... OK
* checking if there is a namespace ... OK
* checking for hidden files and directories ... OK
* checking for portable file names ... OK
* checking for sufficient/correct file permissions ... OK
* checking whether package ‘PRONE’ can be installed ... OK
* checking installed package size ... OK
* checking package directory ... OK
* checking ‘build’ directory ... OK
* checking DESCRIPTION meta-information ... OK
* checking top-level files ... OK
* checking for left-over files ... OK
* checking index information ... OK
* checking package subdirectories ... OK
* checking code files for non-ASCII characters ... OK
* checking R files for syntax errors ... OK
* checking whether the package can be loaded ... OK
* checking whether the package can be loaded with stated dependencies ... OK
* checking whether the package can be unloaded cleanly ... OK
* checking whether the namespace can be loaded with stated dependencies ... OK
* checking whether the namespace can be unloaded cleanly ... OK
* checking dependencies in R code ... NOTE
Unexported objects imported by ':::' calls:
‘NormalyzerDE:::calculateAvgMadMem’
‘NormalyzerDE:::calculateAvgReplicateVariation’
‘NormalyzerDE:::calculatePercentageAvgDiffInMat’
‘NormalyzerDE:::calculateReplicateCV’
‘NormalyzerDE:::calculateSummarizedCorrelationVector’
See the note in ?`:::` about the use of this operator.
* checking S3 generic/method consistency ... OK
* checking replacement functions ... OK
* checking foreign function calls ... OK
* checking R code for possible problems ... OK
* checking Rd files ... OK
* checking Rd metadata ... OK
* checking Rd cross-references ... OK
* checking for missing documentation entries ... OK
* checking for code/documentation mismatches ... OK
* checking Rd \usage sections ... OK
* checking Rd contents ... OK
* checking for unstated dependencies in examples ... OK
* checking contents of ‘data’ directory ... OK
* checking data for non-ASCII characters ... OK
* checking data for ASCII and uncompressed saves ... OK
* checking files in ‘vignettes’ ... OK
* checking examples ... OK
Examples with CPU (user + system) or elapsed time > 5s
user system elapsed
plot_intersection_enrichment 1.253 0.045 12.521
* checking for unstated dependencies in vignettes ... OK
* checking package vignettes ... OK
* checking running R code from vignettes ... SKIPPED
* checking re-building of vignette outputs ... SKIPPED
* checking PDF version of manual ... OK
* DONE
Status: 1 NOTE
See
‘/Users/biocbuild/bbs-3.20-bioc/meat/PRONE.Rcheck/00check.log’
for details.
PRONE.Rcheck/00install.out
############################################################################## ############################################################################## ### ### Running command: ### ### /Library/Frameworks/R.framework/Resources/bin/R CMD INSTALL PRONE ### ############################################################################## ############################################################################## * installing to library ‘/Library/Frameworks/R.framework/Versions/4.4-x86_64/Resources/library’ * installing *source* package ‘PRONE’ ... ** using staged installation ** R ** data ** inst ** byte-compile and prepare package for lazy loading ** help *** installing help indices *** copying figures ** building package indices ** installing vignettes ** testing if installed package can be loaded from temporary location ** testing if installed package can be loaded from final location ** testing if installed package keeps a record of temporary installation path * DONE (PRONE)
PRONE.Rcheck/PRONE-Ex.timings
| name | user | system | elapsed | |
| apply_thresholds | 0.025 | 0.002 | 0.027 | |
| detect_outliers_POMA | 0.770 | 0.049 | 0.822 | |
| eigenMSNorm | 1.122 | 0.012 | 1.136 | |
| export_data | 0.021 | 0.001 | 0.022 | |
| extract_consensus_DE_candidates | 0.063 | 0.002 | 0.065 | |
| filter_out_NA_proteins_by_threshold | 0.164 | 0.019 | 0.182 | |
| filter_out_complete_NA_proteins | 0.042 | 0.004 | 0.046 | |
| filter_out_proteins_by_ID | 0.127 | 0.015 | 0.142 | |
| filter_out_proteins_by_value | 0.132 | 0.015 | 0.149 | |
| get_NA_overview | 0.030 | 0.002 | 0.033 | |
| get_normalization_methods | 0 | 0 | 0 | |
| get_overview_DE | 0.034 | 0.003 | 0.038 | |
| get_proteins_by_value | 0.149 | 0.017 | 0.166 | |
| get_spiked_stats_DE | 0.065 | 0.003 | 0.069 | |
| globalIntNorm | 0.101 | 0.002 | 0.103 | |
| globalMeanNorm | 0.099 | 0.002 | 0.102 | |
| globalMedianNorm | 0.101 | 0.002 | 0.104 | |
| impute_se | 0.579 | 0.011 | 0.592 | |
| irsNorm | 0.048 | 0.004 | 0.051 | |
| limmaNorm | 0.059 | 0.006 | 0.065 | |
| load_data | 0.058 | 0.006 | 0.246 | |
| load_spike_data | 0.035 | 0.002 | 0.209 | |
| loessCycNorm | 0.086 | 0.010 | 0.096 | |
| loessFNorm | 0.066 | 0.002 | 0.068 | |
| meanNorm | 0.034 | 0.002 | 0.036 | |
| medianAbsDevNorm | 0.077 | 0.003 | 0.081 | |
| medianNorm | 0.047 | 0.002 | 0.049 | |
| normalize_se | 2.697 | 0.048 | 2.751 | |
| normalize_se_combination | 2.649 | 0.036 | 2.697 | |
| normalize_se_single | 2.593 | 0.030 | 2.631 | |
| normicsNorm | 2.642 | 0.036 | 2.696 | |
| plot_NA_density | 0.257 | 0.007 | 0.268 | |
| plot_NA_frequency | 0.139 | 0.002 | 0.141 | |
| plot_NA_heatmap | 1.180 | 0.087 | 1.274 | |
| plot_PCA | 0.828 | 0.012 | 0.844 | |
| plot_ROC_AUC_spiked | 1.431 | 0.015 | 1.728 | |
| plot_TP_FP_spiked_bar | 0.190 | 0.003 | 0.195 | |
| plot_TP_FP_spiked_box | 0.252 | 0.003 | 0.256 | |
| plot_TP_FP_spiked_scatter | 0.281 | 0.005 | 0.287 | |
| plot_boxplots | 2.945 | 0.027 | 2.998 | |
| plot_condition_overview | 0.149 | 0.002 | 0.152 | |
| plot_densities | 1.894 | 0.052 | 1.950 | |
| plot_fold_changes_spiked | 0.334 | 0.004 | 0.340 | |
| plot_heatmap | 2.963 | 0.034 | 3.045 | |
| plot_heatmap_DE | 0.937 | 0.013 | 0.952 | |
| plot_histogram_spiked | 0.243 | 0.003 | 0.248 | |
| plot_identified_spiked_proteins | 0.284 | 0.004 | 0.287 | |
| plot_intersection_enrichment | 1.253 | 0.045 | 12.521 | |
| plot_intragroup_PCV | 0.423 | 0.005 | 0.432 | |
| plot_intragroup_PEV | 0.256 | 0.003 | 0.262 | |
| plot_intragroup_PMAD | 0.264 | 0.003 | 0.268 | |
| plot_intragroup_correlation | 0.277 | 0.002 | 0.281 | |
| plot_jaccard_heatmap | 0.174 | 0.003 | 0.177 | |
| plot_logFC_thresholds_spiked | 0.408 | 0.006 | 1.014 | |
| plot_markers_boxplots | 0.581 | 0.007 | 0.591 | |
| plot_nr_prot_samples | 0.172 | 0.002 | 0.175 | |
| plot_overview_DE_bar | 0.225 | 0.003 | 0.230 | |
| plot_overview_DE_tile | 0.144 | 0.003 | 0.147 | |
| plot_profiles_spiked | 0.521 | 0.008 | 0.530 | |
| plot_pvalues_spiked | 0.327 | 0.005 | 0.334 | |
| plot_stats_spiked_heatmap | 0.233 | 0.004 | 0.239 | |
| plot_tot_int_samples | 0.164 | 0.002 | 0.166 | |
| plot_upset | 0.519 | 0.011 | 0.533 | |
| plot_upset_DE | 0.651 | 0.024 | 1.012 | |
| plot_volcano_DE | 2.267 | 0.025 | 2.303 | |
| quantileNorm | 0.035 | 0.002 | 0.037 | |
| readPRONE_example | 0.001 | 0.001 | 0.001 | |
| remove_POMA_outliers | 0.387 | 0.003 | 0.391 | |
| remove_assays_from_SE | 0.056 | 0.003 | 0.058 | |
| remove_reference_samples | 0.039 | 0.002 | 0.041 | |
| remove_samples_manually | 0.033 | 0.002 | 0.034 | |
| rlrMACycNorm | 0.490 | 0.004 | 0.517 | |
| rlrMANorm | 0.078 | 0.002 | 0.079 | |
| rlrNorm | 0.071 | 0.002 | 0.072 | |
| robnormNorm | 0.085 | 0.002 | 0.087 | |
| run_DE | 1.890 | 0.014 | 1.954 | |
| specify_comparisons | 0.025 | 0.001 | 0.026 | |
| subset_SE_by_norm | 0.063 | 0.001 | 0.065 | |
| tmmNorm | 0.101 | 0.006 | 0.107 | |
| vsnNorm | 0.059 | 0.002 | 0.060 | |