gQTLBase 1.1.6 VJ Carey
 | Snapshot Date: 2015-08-19 16:24:33 -0700 (Wed, 19 Aug 2015) |  | URL: https://hedgehog.fhcrc.org/bioconductor/trunk/madman/Rpacks/gQTLBase |  | Last Changed Rev: 107266 / Revision: 107602 |  | Last Changed Date: 2015-08-08 14:06:29 -0700 (Sat, 08 Aug 2015) |  
  | zin1  | Linux (Ubuntu 14.04.2 LTS) / x86_64  |  OK  |  OK  |  OK  |  |   | 
| moscato1  | Windows Server 2008 R2 Enterprise SP1 (64-bit) / x64  | [ OK ] |  OK  |  OK  |  OK  |   | 
| perceval  | Mac OS X Snow Leopard (10.6.8) / x86_64  |  OK  |  OK  |  OK  |  OK  |   | 
| oaxaca  | Mac OS X Mavericks (10.9.5) / x86_64  |  OK  |  OK  |  OK  |  OK  |   | 
##############################################################################
##############################################################################
###
### Running command:
###
###   C:\cygwin\bin\curl.exe -O http://zin1/BBS/3.2/bioc/src/contrib/gQTLBase_1.1.6.tar.gz && D:\biocbld\bbs-3.2-bioc\R\bin\R.exe CMD INSTALL --merge-multiarch gQTLBase_1.1.6.tar.gz && rm gQTLBase_1.1.6.tar.gz
###
##############################################################################
##############################################################################
  % Total    % Received % Xferd  Average Speed   Time    Time     Time  Current
                                 Dload  Upload   Total   Spent    Left  Speed
  0     0    0     0    0     0      0      0 --:--:-- --:--:-- --:--:--     0
100 12242  100 12242    0     0   702k      0 --:--:-- --:--:-- --:--:-- 1086k
install for i386
* installing to library 'D:/biocbld/bbs-3.2-bioc/R/library'
* installing *source* package 'gQTLBase' ...
** R
** inst
** preparing package for lazy loading
** help
*** installing help indices
** building package indices
** installing vignettes
** testing if installed package can be loaded
install for x64
* installing to library 'D:/biocbld/bbs-3.2-bioc/R/library'
* installing *source* package 'gQTLBase' ...
** testing if installed package can be loaded
* DONE (gQTLBase)