Back to the "Multiple platform build/check report" A  B  C  D [E] F  G  H  I  J  K  L  M  N  O  P  Q  R  S  T  U  V  W  X  Y  Z 

BioC 3.2: CHECK report for eisa on perceval

This page was generated on 2015-06-15 09:59:29 -0700 (Mon, 15 Jun 2015).

Package 297/1037HostnameOS / ArchINSTALLBUILDCHECKBUILD BIN
eisa 1.21.0
Gabor Csardi
Snapshot Date: 2015-06-14 16:31:12 -0700 (Sun, 14 Jun 2015)
URL: https://hedgehog.fhcrc.org/bioconductor/trunk/madman/Rpacks/eisa
Last Changed Rev: 102594 / Revision: 104948
Last Changed Date: 2015-04-16 13:02:44 -0700 (Thu, 16 Apr 2015)
zin1 Linux (Ubuntu 14.04.2 LTS) / x86_64  OK  OK  OK UNNEEDED, same version exists in internal repository
moscato1 Windows Server 2008 R2 Enterprise SP1 (64-bit) / x64  OK  OK  OK  OK UNNEEDED, same version exists in internal repository
perceval Mac OS X Snow Leopard (10.6.8) / x86_64  OK  OK [ OK ] OK UNNEEDED, same version exists in internal repository
oaxaca Mac OS X Mavericks (10.9.5) / x86_64  OK  OK  OK  OK UNNEEDED, same version exists in internal repository

Summary

Package: eisa
Version: 1.21.0
Command: /Library/Frameworks/R.framework/Versions/Current/Resources/bin/R CMD check --no-vignettes --timings eisa_1.21.0.tar.gz
StartedAt: 2015-06-15 00:11:45 -0700 (Mon, 15 Jun 2015)
EndedAt: 2015-06-15 00:19:07 -0700 (Mon, 15 Jun 2015)
EllapsedTime: 441.8 seconds
RetCode: 0
Status:  OK 
CheckDir: eisa.Rcheck
Warnings: 0

Command output

##############################################################################
##############################################################################
###
### Running command:
###
###   /Library/Frameworks/R.framework/Versions/Current/Resources/bin/R CMD check --no-vignettes --timings eisa_1.21.0.tar.gz
###
##############################################################################
##############################################################################


* using log directory ‘/Users/biocbuild/bbs-3.2-bioc/meat/eisa.Rcheck’
* using R version 3.2.1 beta (2015-06-08 r68489)
* using platform: x86_64-apple-darwin10.8.0 (64-bit)
* using session charset: UTF-8
* using option ‘--no-vignettes’
* checking for file ‘eisa/DESCRIPTION’ ... OK
* this is package ‘eisa’ version ‘1.21.0’
* checking package namespace information ... OK
* checking package dependencies ... OK
* checking if this is a source package ... OK
* checking if there is a namespace ... OK
* checking for hidden files and directories ... OK
* checking for portable file names ... OK
* checking for sufficient/correct file permissions ... OK
* checking whether package ‘eisa’ can be installed ... [19s/23s] OK
* checking installed package size ... OK
* checking package directory ... OK
* checking ‘build’ directory ... OK
* checking DESCRIPTION meta-information ... OK
* checking top-level files ... OK
* checking for left-over files ... OK
* checking index information ... OK
* checking package subdirectories ... OK
* checking R files for non-ASCII characters ... OK
* checking R files for syntax errors ... OK
* checking whether the package can be loaded ... OK
* checking whether the package can be loaded with stated dependencies ... OK
* checking whether the package can be unloaded cleanly ... OK
* checking whether the namespace can be loaded with stated dependencies ... OK
* checking whether the namespace can be unloaded cleanly ... OK
* checking dependencies in R code ... NOTE
'library' or 'require' calls in package code:
  ‘biclust’ ‘GO.db’ ‘igraph’ ‘KEGG.db’ ‘MASS’ ‘xtable’
  Please use :: or requireNamespace() instead.
  See section 'Suggested packages' in the 'Writing R Extensions' manual.
Unexported objects imported by ':::' calls:
  ‘Category:::getDataEnv’ ‘Category:::getKeggToProbeMap’
  ‘Category:::probeToEntrezMapHelper’
  See the note in ?`:::` about the use of this operator.
* checking S3 generic/method consistency ... OK
* checking replacement functions ... OK
* checking foreign function calls ... OK
* checking R code for possible problems ... NOTE
gograph: no visible binding for global variable ‘GOTERM’
gograph: no visible global function definition for ‘GO_dbconn’
gograph: no visible global function definition for ‘graph.data.frame’
gograph: no visible global function definition for ‘V’
gograph: no visible global function definition for ‘vcount’
gograph: no visible global function definition for ‘neighborhood’
gograph: no visible global function definition for ‘subgraph’
gograph: no visible global function definition for ‘V<-’
gograph: no visible global function definition for ‘topological.sort’
gograph: no visible global function definition for ‘unfold.tree’
gograph: no visible global function definition for ‘E’
gograph: no visible global function definition for ‘E<-’
gograph: no visible global function definition for
  ‘layout.reingold.tilford’
gographPlot: no visible global function definition for ‘V’
html.df: no visible global function definition for ‘xtable’
isa.autogen.module : tabulate: no visible binding for global variable
  ‘KEGGPATHID2NAME’
isa.autogen.module : gp: no visible global function definition for
  ‘graph.empty’
isa.autogen.module : ann: no visible global function definition for
  ‘vcount’
isa.autogen.module : ann: no visible global function definition for ‘V’
ISAHTMLModules: no visible global function definition for ‘GO_dbconn’
ISAHTMLModules : go.graph: no visible global function definition for
  ‘graph.data.frame’
ISAHTMLTable: no visible global function definition for ‘GO_dbconn’
ISAHTMLTable : f: no visible binding for global variable
  ‘KEGGPATHID2NAME’
ISASweepGraph: no visible global function definition for ‘V’
ISASweepGraph: no visible global function definition for ‘V<-’
ISASweepGraph: no visible global function definition for
  ‘remove.vertex.attribute’
ISASweepGraphPlot: no visible global function definition for ‘V’
overlap: no visible global function definition for ‘isoMDS’
overlap: no visible global function definition for ‘graph.adjacency’
overlap: no visible global function definition for ‘V’
overlap: no visible global function definition for ‘V<-’
overlap: no visible global function definition for ‘graph.empty’
overlap: no visible global function definition for ‘E’
overlap: no visible global function definition for ‘E<-’
overlap: no visible global function definition for
  ‘layout.fruchterman.reingold’
overlap: no visible global function definition for ‘layout.drl’
overlap: no visible global function definition for ‘ecount’
overlapPlot: no visible global function definition for ‘V’
overlapPlot: no visible global function definition for ‘layout.norm’
htmlReport,GOListHyperGResult: no visible binding for global variable
  ‘GOTERM’
htmlReport,KEGGListHyperGResult: no visible binding for global variable
  ‘KEGGPATHID2NAME’
* checking Rd files ... OK
* checking Rd metadata ... OK
* checking Rd cross-references ... OK
* checking for missing documentation entries ... OK
* checking for code/documentation mismatches ... OK
* checking Rd \usage sections ... OK
* checking Rd contents ... OK
* checking for unstated dependencies in examples ... OK
* checking contents of ‘data’ directory ... OK
* checking data for non-ASCII characters ... OK
* checking data for ASCII and uncompressed saves ... OK
* checking sizes of PDF files under ‘inst/doc’ ... OK
* checking installed files from ‘inst/doc’ ... OK
* checking files in ‘vignettes’ ... OK
* checking examples ... [166s/206s] OK
Examples with CPU or elapsed time > 5s
                         user system elapsed
ISA                    27.464  1.021  28.918
ISA.html               22.948  2.377  38.884
ISA.sweep              13.021  2.322  15.433
ISA.GO                  9.069  1.439  26.984
gograph                 8.155  0.662   9.289
ISA.iterate             7.255  0.960   8.278
ISA.unique              6.913  0.997   7.988
ListHyperGResult-class  7.238  0.527   8.434
ListHyperGParams-class  6.295  0.536   8.609
ISA.normalize           5.354  0.573   5.991
ISAExpressionSet        5.416  0.498   5.952
eisa.biclust            3.616  1.187   8.976
* checking for unstated dependencies in vignettes ... OK
* checking package vignettes in ‘inst/doc’ ... OK
* checking running R code from vignettes ... SKIPPED
* checking re-building of vignette outputs ... SKIPPED
* checking PDF version of manual ... OK
* DONE

Status: 2 NOTEs
See
  ‘/Users/biocbuild/bbs-3.2-bioc/meat/eisa.Rcheck/00check.log’
for details.


eisa.Rcheck/00install.out:

* installing *source* package ‘eisa’ ...
** R
** data
** inst
** preparing package for lazy loading
in method for ‘coerce’ with signature ‘"Biclust","ISAModules"’: no definition for class “Biclust”
in method for ‘coerce’ with signature ‘"ISAModules","Biclust"’: no definition for class “Biclust”
** help
*** installing help indices
** building package indices
** installing vignettes
** testing if installed package can be loaded
* DONE (eisa)

eisa.Rcheck/eisa-Ex.timings:

nameusersystemelapsed
ALLModules0.0200.0030.022
ISA.CHR1.5860.0772.606
ISA.GO 9.069 1.43926.984
ISA.KEGG2.7510.1233.107
ISA27.464 1.02128.918
ISA.html22.948 2.37738.884
ISA.iterate7.2550.9608.278
ISA.miRNA1.1420.0951.946
ISA.normalize5.3540.5735.991
ISA.sweep13.021 2.32215.433
ISA.unique6.9130.9977.988
ISA2heatmap1.1540.0941.252
ISAExpressionSet5.4160.4985.952
ISAModules-class0.0130.0010.015
ListHyperGParams-class6.2950.5368.609
ListHyperGResult-class7.2380.5278.434
cond.plot2.3110.2382.603
eisa.biclust3.6161.1878.976
enrichment0.5390.0150.557
exp.plot1.7790.2092.122
gograph8.1550.6629.289
mnplot2.2530.1942.481
overlap0.8601.0691.932
profilePlot1.2090.1491.374
robustness2.6820.2762.970