Back to the "Multiple platform build/check report" A  B  C  D [E] F  G  H  I  J  K  L  M  N  O  P  Q  R  S  T  U  V  W  X  Y  Z 

BioC 3.2: CHECK report for eisa on oaxaca

This page was generated on 2015-06-15 10:04:37 -0700 (Mon, 15 Jun 2015).

Package 297/1037HostnameOS / ArchINSTALLBUILDCHECKBUILD BIN
eisa 1.21.0
Gabor Csardi
Snapshot Date: 2015-06-14 16:31:12 -0700 (Sun, 14 Jun 2015)
URL: https://hedgehog.fhcrc.org/bioconductor/trunk/madman/Rpacks/eisa
Last Changed Rev: 102594 / Revision: 104948
Last Changed Date: 2015-04-16 13:02:44 -0700 (Thu, 16 Apr 2015)
zin1 Linux (Ubuntu 14.04.2 LTS) / x86_64  OK  OK  OK UNNEEDED, same version exists in internal repository
moscato1 Windows Server 2008 R2 Enterprise SP1 (64-bit) / x64  OK  OK  OK  OK UNNEEDED, same version exists in internal repository
perceval Mac OS X Snow Leopard (10.6.8) / x86_64  OK  OK  OK  OK UNNEEDED, same version exists in internal repository
oaxaca Mac OS X Mavericks (10.9.5) / x86_64  OK  OK [ OK ] OK UNNEEDED, same version exists in internal repository

Summary

Package: eisa
Version: 1.21.0
Command: /Library/Frameworks/R.framework/Versions/Current/Resources/bin/R CMD check --no-vignettes --timings eisa_1.21.0.tar.gz
StartedAt: 2015-06-14 22:54:29 -0700 (Sun, 14 Jun 2015)
EndedAt: 2015-06-14 22:59:28 -0700 (Sun, 14 Jun 2015)
EllapsedTime: 298.7 seconds
RetCode: 0
Status:  OK 
CheckDir: eisa.Rcheck
Warnings: 0

Command output

##############################################################################
##############################################################################
###
### Running command:
###
###   /Library/Frameworks/R.framework/Versions/Current/Resources/bin/R CMD check --no-vignettes --timings eisa_1.21.0.tar.gz
###
##############################################################################
##############################################################################


* using log directory ‘/Users/biocbuild/bbs-3.2-bioc/meat/eisa.Rcheck’
* using R version 3.2.1 beta (2015-06-09 r68498)
* using platform: x86_64-apple-darwin13.4.0 (64-bit)
* using session charset: UTF-8
* using option ‘--no-vignettes’
* checking for file ‘eisa/DESCRIPTION’ ... OK
* this is package ‘eisa’ version ‘1.21.0’
* checking package namespace information ... OK
* checking package dependencies ... OK
* checking if this is a source package ... OK
* checking if there is a namespace ... OK
* checking for hidden files and directories ... OK
* checking for portable file names ... OK
* checking for sufficient/correct file permissions ... OK
* checking whether package ‘eisa’ can be installed ... [15s/15s] OK
* checking installed package size ... OK
* checking package directory ... OK
* checking ‘build’ directory ... OK
* checking DESCRIPTION meta-information ... OK
* checking top-level files ... OK
* checking for left-over files ... OK
* checking index information ... OK
* checking package subdirectories ... OK
* checking R files for non-ASCII characters ... OK
* checking R files for syntax errors ... OK
* checking whether the package can be loaded ... OK
* checking whether the package can be loaded with stated dependencies ... OK
* checking whether the package can be unloaded cleanly ... OK
* checking whether the namespace can be loaded with stated dependencies ... OK
* checking whether the namespace can be unloaded cleanly ... OK
* checking dependencies in R code ... NOTE
'library' or 'require' calls in package code:
  ‘GO.db’ ‘KEGG.db’ ‘MASS’ ‘biclust’ ‘igraph’ ‘xtable’
  Please use :: or requireNamespace() instead.
  See section 'Suggested packages' in the 'Writing R Extensions' manual.
Unexported objects imported by ':::' calls:
  ‘Category:::getDataEnv’ ‘Category:::getKeggToProbeMap’
  ‘Category:::probeToEntrezMapHelper’
  See the note in ?`:::` about the use of this operator.
* checking S3 generic/method consistency ... OK
* checking replacement functions ... OK
* checking foreign function calls ... OK
* checking R code for possible problems ... NOTE
ISAHTMLModules: no visible global function definition for ‘GO_dbconn’
ISAHTMLModules : go.graph: no visible global function definition for
  ‘graph.data.frame’
ISAHTMLTable: no visible global function definition for ‘GO_dbconn’
ISAHTMLTable : f: no visible binding for global variable
  ‘KEGGPATHID2NAME’
ISASweepGraph: no visible global function definition for ‘V’
ISASweepGraph: no visible global function definition for ‘V<-’
ISASweepGraph: no visible global function definition for
  ‘remove.vertex.attribute’
ISASweepGraphPlot: no visible global function definition for ‘V’
gograph: no visible binding for global variable ‘GOTERM’
gograph: no visible global function definition for ‘GO_dbconn’
gograph: no visible global function definition for ‘graph.data.frame’
gograph: no visible global function definition for ‘V’
gograph: no visible global function definition for ‘vcount’
gograph: no visible global function definition for ‘neighborhood’
gograph: no visible global function definition for ‘subgraph’
gograph: no visible global function definition for ‘V<-’
gograph: no visible global function definition for ‘topological.sort’
gograph: no visible global function definition for ‘unfold.tree’
gograph: no visible global function definition for ‘E’
gograph: no visible global function definition for ‘E<-’
gograph: no visible global function definition for
  ‘layout.reingold.tilford’
gographPlot: no visible global function definition for ‘V’
html.df: no visible global function definition for ‘xtable’
isa.autogen.module : tabulate: no visible binding for global variable
  ‘KEGGPATHID2NAME’
isa.autogen.module : gp: no visible global function definition for
  ‘graph.empty’
isa.autogen.module : ann: no visible global function definition for
  ‘vcount’
isa.autogen.module : ann: no visible global function definition for ‘V’
overlap: no visible global function definition for ‘isoMDS’
overlap: no visible global function definition for ‘graph.adjacency’
overlap: no visible global function definition for ‘V’
overlap: no visible global function definition for ‘V<-’
overlap: no visible global function definition for ‘graph.empty’
overlap: no visible global function definition for ‘E’
overlap: no visible global function definition for ‘E<-’
overlap: no visible global function definition for
  ‘layout.fruchterman.reingold’
overlap: no visible global function definition for ‘layout.drl’
overlap: no visible global function definition for ‘ecount’
overlapPlot: no visible global function definition for ‘V’
overlapPlot: no visible global function definition for ‘layout.norm’
htmlReport,GOListHyperGResult: no visible binding for global variable
  ‘GOTERM’
htmlReport,KEGGListHyperGResult: no visible binding for global variable
  ‘KEGGPATHID2NAME’
* checking Rd files ... OK
* checking Rd metadata ... OK
* checking Rd cross-references ... OK
* checking for missing documentation entries ... OK
* checking for code/documentation mismatches ... OK
* checking Rd \usage sections ... OK
* checking Rd contents ... OK
* checking for unstated dependencies in examples ... OK
* checking contents of ‘data’ directory ... OK
* checking data for non-ASCII characters ... OK
* checking data for ASCII and uncompressed saves ... OK
* checking sizes of PDF files under ‘inst/doc’ ... OK
* checking installed files from ‘inst/doc’ ... OK
* checking files in ‘vignettes’ ... OK
* checking examples ... [122s/132s] OK
Examples with CPU or elapsed time > 5s
                         user system elapsed
ISA.html               19.274  1.354  23.608
ISA                    17.139  0.736  18.166
ISA.sweep               9.756  1.079  10.840
gograph                 6.758  0.431   7.192
ISA.GO                  6.677  0.306  12.485
ListHyperGResult-class  6.540  0.320   6.879
ListHyperGParams-class  5.449  0.260   5.712
ISA.unique              5.238  0.453   5.712
ISA.iterate             5.120  0.448   5.578
* checking for unstated dependencies in vignettes ... OK
* checking package vignettes in ‘inst/doc’ ... OK
* checking running R code from vignettes ... SKIPPED
* checking re-building of vignette outputs ... SKIPPED
* checking PDF version of manual ... OK
* DONE

Status: 2 NOTEs
See
  ‘/Users/biocbuild/bbs-3.2-bioc/meat/eisa.Rcheck/00check.log’
for details.


eisa.Rcheck/00install.out:

* installing *source* package ‘eisa’ ...
** R
** data
** inst
** preparing package for lazy loading
in method for ‘coerce’ with signature ‘"Biclust","ISAModules"’: no definition for class “Biclust”
in method for ‘coerce’ with signature ‘"ISAModules","Biclust"’: no definition for class “Biclust”
** help
*** installing help indices
** building package indices
** installing vignettes
** testing if installed package can be loaded
* DONE (eisa)

eisa.Rcheck/eisa-Ex.timings:

nameusersystemelapsed
ALLModules0.0180.0020.020
ISA.CHR1.0030.0341.174
ISA.GO 6.677 0.30612.485
ISA.KEGG2.4630.0482.513
ISA17.139 0.73618.166
ISA.html19.274 1.35423.608
ISA.iterate5.1200.4485.578
ISA.miRNA0.8950.0451.750
ISA.normalize4.4890.2324.724
ISA.sweep 9.756 1.07910.840
ISA.unique5.2380.4535.712
ISA2heatmap1.2050.0541.409
ISAExpressionSet4.3280.1844.618
ISAModules-class0.0130.0010.014
ListHyperGParams-class5.4490.2605.712
ListHyperGResult-class6.5400.3206.879
cond.plot1.9030.1182.023
eisa.biclust2.9820.6143.703
enrichment0.4410.0190.461
exp.plot1.5600.0971.661
gograph6.7580.4317.192
mnplot1.6090.1031.714
overlap0.0820.0190.140
profilePlot1.1600.0471.208
robustness2.4440.1282.575