| Back to Multiple platform build/check report for BioC 3.19: simplified long |
|
This page was generated on 2024-10-18 20:40 -0400 (Fri, 18 Oct 2024).
| Hostname | OS | Arch (*) | R version | Installed pkgs |
|---|---|---|---|---|
| nebbiolo1 | Linux (Ubuntu 22.04.3 LTS) | x86_64 | 4.4.1 (2024-06-14) -- "Race for Your Life" | 4763 |
| palomino7 | Windows Server 2022 Datacenter | x64 | 4.4.1 (2024-06-14 ucrt) -- "Race for Your Life" | 4500 |
| merida1 | macOS 12.7.5 Monterey | x86_64 | 4.4.1 (2024-06-14) -- "Race for Your Life" | 4530 |
| kjohnson1 | macOS 13.6.6 Ventura | arm64 | 4.4.1 (2024-06-14) -- "Race for Your Life" | 4480 |
| Click on any hostname to see more info about the system (e.g. compilers) (*) as reported by 'uname -p', except on Windows and Mac OS X | ||||
| Package 1998/2300 | Hostname | OS / Arch | INSTALL | BUILD | CHECK | BUILD BIN | ||||||||
| sitePath 1.20.0 (landing page) Chengyang Ji
| nebbiolo1 | Linux (Ubuntu 22.04.3 LTS) / x86_64 | OK | OK | OK | |||||||||
| palomino7 | Windows Server 2022 Datacenter / x64 | OK | OK | OK | OK | |||||||||
| merida1 | macOS 12.7.5 Monterey / x86_64 | OK | OK | OK | OK | |||||||||
| kjohnson1 | macOS 13.6.6 Ventura / arm64 | OK | OK | OK | NA | |||||||||
|
To the developers/maintainers of the sitePath package: - Allow up to 24 hours (and sometimes 48 hours) for your latest push to git@git.bioconductor.org:packages/sitePath.git to reflect on this report. See Troubleshooting Build Report for more information. - Use the following Renviron settings to reproduce errors and warnings. - If 'R CMD check' started to fail recently on the Linux builder(s) over a missing dependency, add the missing dependency to 'Suggests:' in your DESCRIPTION file. See Renviron.bioc for more information. |
| Package: sitePath |
| Version: 1.20.0 |
| Command: E:\biocbuild\bbs-3.19-bioc\R\bin\R.exe CMD check --no-multiarch --install=check:sitePath.install-out.txt --library=E:\biocbuild\bbs-3.19-bioc\R\library --no-vignettes --timings sitePath_1.20.0.tar.gz |
| StartedAt: 2024-10-17 05:53:18 -0400 (Thu, 17 Oct 2024) |
| EndedAt: 2024-10-17 06:03:11 -0400 (Thu, 17 Oct 2024) |
| EllapsedTime: 592.7 seconds |
| RetCode: 0 |
| Status: OK |
| CheckDir: sitePath.Rcheck |
| Warnings: 0 |
##############################################################################
##############################################################################
###
### Running command:
###
### E:\biocbuild\bbs-3.19-bioc\R\bin\R.exe CMD check --no-multiarch --install=check:sitePath.install-out.txt --library=E:\biocbuild\bbs-3.19-bioc\R\library --no-vignettes --timings sitePath_1.20.0.tar.gz
###
##############################################################################
##############################################################################
* using log directory 'E:/biocbuild/bbs-3.19-bioc/meat/sitePath.Rcheck'
* using R version 4.4.1 (2024-06-14 ucrt)
* using platform: x86_64-w64-mingw32
* R was compiled by
gcc.exe (GCC) 13.2.0
GNU Fortran (GCC) 13.2.0
* running under: Windows Server 2022 x64 (build 20348)
* using session charset: UTF-8
* using option '--no-vignettes'
* checking for file 'sitePath/DESCRIPTION' ... OK
* checking extension type ... Package
* this is package 'sitePath' version '1.20.0'
* package encoding: UTF-8
* checking package namespace information ... OK
* checking package dependencies ... OK
* checking if this is a source package ... OK
* checking if there is a namespace ... OK
* checking for hidden files and directories ... OK
* checking for portable file names ... OK
* checking whether package 'sitePath' can be installed ... OK
* used C++ compiler: 'G__~1.EXE (GCC) 13.2.0'
* checking installed package size ... OK
* checking package directory ... OK
* checking 'build' directory ... OK
* checking DESCRIPTION meta-information ... NOTE
License stub is invalid DCF.
* checking top-level files ... OK
* checking for left-over files ... OK
* checking index information ... OK
* checking package subdirectories ... OK
* checking code files for non-ASCII characters ... OK
* checking R files for syntax errors ... OK
* checking whether the package can be loaded ... OK
* checking whether the package can be loaded with stated dependencies ... OK
* checking whether the package can be unloaded cleanly ... OK
* checking whether the namespace can be loaded with stated dependencies ... OK
* checking whether the namespace can be unloaded cleanly ... OK
* checking dependencies in R code ... OK
* checking S3 generic/method consistency ... OK
* checking replacement functions ... OK
* checking foreign function calls ... OK
* checking R code for possible problems ... NOTE
.createSNPplot: no visible binding for global variable 'Pos'
.createSNPplot: no visible binding for global variable 'Accession'
.createSNPplot: no visible binding for global variable 'SNP'
plot.fixationPath: no visible binding for global variable 'branch'
plot.fixationPath: no visible binding for global variable 'SNPs'
plot.fixationSites: no visible binding for global variable 'group'
plot.fixationSites: no visible binding for global variable 'branch'
plot.fixationSites: no visible binding for global variable 'SNPs'
plot.parallelSites: no visible binding for global variable 'branch'
plot.parallelSites: no visible binding for global variable 'SNPs'
plot.sitePath: no visible binding for global variable 'branch'
plot.sitePath: no visible binding for global variable 'SNPs'
plotMutSites.lineagePath: no visible binding for global variable 'node'
plotMutSites.paraFixSites: no visible binding for global variable
'group'
plotMutSites.paraFixSites: no visible binding for global variable
'branch'
plotMutSites.paraFixSites: no visible binding for global variable
'SNPs'
plotSingleSite.parallelSites: no visible binding for global variable
'branch'
plotSingleSite.parallelSites: no visible binding for global variable
'SNPs'
Undefined global functions or variables:
Accession Pos SNP SNPs branch group node
* checking Rd files ... OK
* checking Rd metadata ... OK
* checking Rd cross-references ... OK
* checking for missing documentation entries ... OK
* checking for code/documentation mismatches ... OK
* checking Rd \usage sections ... OK
* checking Rd contents ... OK
* checking for unstated dependencies in examples ... OK
* checking contents of 'data' directory ... OK
* checking data for non-ASCII characters ... OK
* checking data for ASCII and uncompressed saves ... OK
* checking line endings in C/C++/Fortran sources/headers ... OK
* checking compiled code ... NOTE
Note: information on .o files for x64 is not available
File 'E:/biocbuild/bbs-3.19-bioc/R/library/sitePath/libs/x64/sitePath.dll':
Found '_exit', possibly from '_exit' (C)
Found 'abort', possibly from 'abort' (C), 'runtime' (Fortran)
Found 'exit', possibly from 'exit' (C), 'stop' (Fortran)
Compiled code should not call entry points which might terminate R nor
write to stdout/stderr instead of to the console, nor use Fortran I/O
nor system RNGs nor [v]sprintf. The detected symbols are linked into
the code but might come from libraries and not actually be called.
See 'Writing portable packages' in the 'Writing R Extensions' manual.
* checking files in 'vignettes' ... OK
* checking examples ... OK
Examples with CPU (user + system) or elapsed time > 5s
user system elapsed
plotFunctions 14.39 0.46 15.01
plotSingleSite 10.75 0.17 10.92
plotParallelSites 9.15 0.24 9.44
* checking for unstated dependencies in 'tests' ... OK
* checking tests ...
Running 'testthat.R'
OK
* checking for unstated dependencies in vignettes ... OK
* checking package vignettes ... OK
* checking running R code from vignettes ... SKIPPED
* checking re-building of vignette outputs ... SKIPPED
* checking PDF version of manual ... OK
* DONE
Status: 3 NOTEs
See
'E:/biocbuild/bbs-3.19-bioc/meat/sitePath.Rcheck/00check.log'
for details.
sitePath.Rcheck/00install.out
##############################################################################
##############################################################################
###
### Running command:
###
### E:\biocbuild\bbs-3.19-bioc\R\bin\R.exe CMD INSTALL sitePath
###
##############################################################################
##############################################################################
* installing to library 'E:/biocbuild/bbs-3.19-bioc/R/library'
* installing *source* package 'sitePath' ...
** using staged installation
** libs
using C++ compiler: 'G__~1.EXE (GCC) 13.2.0'
g++ -std=gnu++17 -I"E:/biocbuild/bbs-3.19-bioc/R/include" -DNDEBUG -I'E:/biocbuild/bbs-3.19-bioc/R/library/Rcpp/include' -I"C:/rtools44/x86_64-w64-mingw32.static.posix/include" -O2 -Wall -mfpmath=sse -msse2 -mstackrealign -c RcppExports.cpp -o RcppExports.o
g++ -std=gnu++17 -I"E:/biocbuild/bbs-3.19-bioc/R/include" -DNDEBUG -I'E:/biocbuild/bbs-3.19-bioc/R/library/Rcpp/include' -I"C:/rtools44/x86_64-w64-mingw32.static.posix/include" -O2 -Wall -mfpmath=sse -msse2 -mstackrealign -c lumpyCluster.cpp -o lumpyCluster.o
lumpyCluster.cpp: In member function 'void LumpyCluster::Base::mergeClusters(const Treemer::clusters&, int)':
lumpyCluster.cpp:96:24: warning: comparison of integer expressions of different signedness: 'std::vector<Treemer::TipSeqLinker*>::size_type' {aka 'long long unsigned int'} and 'const int' [-Wsign-compare]
96 | if (allTips.size() >= m_maxSNPnum) {
| ~~~~~~~~~~~~~~~^~~~~~~~~~~~~~
g++ -std=gnu++17 -I"E:/biocbuild/bbs-3.19-bioc/R/include" -DNDEBUG -I'E:/biocbuild/bbs-3.19-bioc/R/library/Rcpp/include' -I"C:/rtools44/x86_64-w64-mingw32.static.posix/include" -O2 -Wall -mfpmath=sse -msse2 -mstackrealign -c minEntropy.cpp -o minEntropy.o
g++ -std=gnu++17 -I"E:/biocbuild/bbs-3.19-bioc/R/include" -DNDEBUG -I'E:/biocbuild/bbs-3.19-bioc/R/library/Rcpp/include' -I"C:/rtools44/x86_64-w64-mingw32.static.posix/include" -O2 -Wall -mfpmath=sse -msse2 -mstackrealign -c searchNode.cpp -o searchNode.o
g++ -std=gnu++17 -I"E:/biocbuild/bbs-3.19-bioc/R/include" -DNDEBUG -I'E:/biocbuild/bbs-3.19-bioc/R/library/Rcpp/include' -I"C:/rtools44/x86_64-w64-mingw32.static.posix/include" -O2 -Wall -mfpmath=sse -msse2 -mstackrealign -c searchTree.cpp -o searchTree.o
g++ -std=gnu++17 -I"E:/biocbuild/bbs-3.19-bioc/R/include" -DNDEBUG -I'E:/biocbuild/bbs-3.19-bioc/R/library/Rcpp/include' -I"C:/rtools44/x86_64-w64-mingw32.static.posix/include" -O2 -Wall -mfpmath=sse -msse2 -mstackrealign -c treemer.cpp -o treemer.o
g++ -std=gnu++17 -I"E:/biocbuild/bbs-3.19-bioc/R/include" -DNDEBUG -I'E:/biocbuild/bbs-3.19-bioc/R/library/Rcpp/include' -I"C:/rtools44/x86_64-w64-mingw32.static.posix/include" -O2 -Wall -mfpmath=sse -msse2 -mstackrealign -c util.cpp -o util.o
g++ -std=gnu++17 -shared -s -static-libgcc -o sitePath.dll tmp.def RcppExports.o lumpyCluster.o minEntropy.o searchNode.o searchTree.o treemer.o util.o -LC:/rtools44/x86_64-w64-mingw32.static.posix/lib/x64 -LC:/rtools44/x86_64-w64-mingw32.static.posix/lib -LE:/biocbuild/bbs-3.19-bioc/R/bin/x64 -lR
installing to E:/biocbuild/bbs-3.19-bioc/R/library/00LOCK-sitePath/00new/sitePath/libs/x64
** R
** data
** inst
** byte-compile and prepare package for lazy loading
** help
*** installing help indices
** building package indices
** installing vignettes
** testing if installed package can be loaded from temporary location
** testing if installed package can be loaded from final location
** testing if installed package keeps a record of temporary installation path
* DONE (sitePath)
sitePath.Rcheck/tests/testthat.Rout
R version 4.4.1 (2024-06-14 ucrt) -- "Race for Your Life"
Copyright (C) 2024 The R Foundation for Statistical Computing
Platform: x86_64-w64-mingw32/x64
R is free software and comes with ABSOLUTELY NO WARRANTY.
You are welcome to redistribute it under certain conditions.
Type 'license()' or 'licence()' for distribution details.
R is a collaborative project with many contributors.
Type 'contributors()' for more information and
'citation()' on how to cite R or R packages in publications.
Type 'demo()' for some demos, 'help()' for on-line help, or
'help.start()' for an HTML browser interface to help.
Type 'q()' to quit R.
> library(testthat)
> library(sitePath)
>
> test_check("sitePath")
Using 2 cores..
Multiprocessing ended.
Using 2 cores..
Multiprocessing ended.
[ FAIL 0 | WARN 1 | SKIP 0 | PASS 2312 ]
[ FAIL 0 | WARN 1 | SKIP 0 | PASS 2312 ]
>
> proc.time()
user system elapsed
323.56 14.65 442.98
sitePath.Rcheck/sitePath-Ex.timings
| name | user | system | elapsed | |
| SNPsites | 0.99 | 0.00 | 0.99 | |
| addMSA | 2.79 | 0.03 | 2.86 | |
| allSitesName | 3.25 | 0.02 | 3.27 | |
| as.data.frame | 1.77 | 0.01 | 1.78 | |
| extractSite | 1.68 | 0.00 | 1.69 | |
| extractTips | 1.30 | 0.03 | 1.32 | |
| fixationIndels | 1.47 | 0.05 | 1.52 | |
| fixationPath | 1.37 | 0.00 | 1.38 | |
| fixationSites | 1.25 | 0.02 | 1.26 | |
| groupTips | 2.38 | 0.03 | 2.41 | |
| lineagePath | 4.20 | 0.08 | 4.28 | |
| paraFixSites | 1.61 | 0.00 | 1.61 | |
| parallelSites | 1.49 | 0.03 | 1.51 | |
| plotFixationSites | 2.01 | 0.03 | 2.05 | |
| plotFunctions | 14.39 | 0.46 | 15.01 | |
| plotMutSites | 1.31 | 0.04 | 1.42 | |
| plotParallelSites | 9.15 | 0.24 | 9.44 | |
| plotSingleSite | 10.75 | 0.17 | 10.92 | |
| setSiteNumbering | 2.78 | 0.00 | 2.82 | |
| similarityMatrix | 2.56 | 0.00 | 2.56 | |
| sitesMinEntropy | 1.64 | 0.08 | 1.72 | |