| Back to Multiple platform build/check report for BioC 3.19: simplified long | 
  | 
This page was generated on 2024-10-18 20:38 -0400 (Fri, 18 Oct 2024).
| Hostname | OS | Arch (*) | R version | Installed pkgs | 
|---|---|---|---|---|
| nebbiolo1 | Linux (Ubuntu 22.04.3 LTS) | x86_64 | 4.4.1 (2024-06-14) -- "Race for Your Life" | 4763 | 
| palomino7 | Windows Server 2022 Datacenter | x64 | 4.4.1 (2024-06-14 ucrt) -- "Race for Your Life" | 4500 | 
| merida1 | macOS 12.7.5 Monterey | x86_64 | 4.4.1 (2024-06-14) -- "Race for Your Life" | 4530 | 
| kjohnson1 | macOS 13.6.6 Ventura | arm64 | 4.4.1 (2024-06-14) -- "Race for Your Life" | 4480 | 
| Click on any hostname to see more info about the system (e.g. compilers) (*) as reported by 'uname -p', except on Windows and Mac OS X | ||||
| Package 1998/2300 | Hostname | OS / Arch | INSTALL | BUILD | CHECK | BUILD BIN | ||||||||
| sitePath 1.20.0  (landing page) Chengyang Ji 
  | nebbiolo1 | Linux (Ubuntu 22.04.3 LTS) / x86_64 | OK | OK | OK | |||||||||
| palomino7 | Windows Server 2022 Datacenter / x64 | OK | OK | OK | OK | |||||||||
| merida1 | macOS 12.7.5 Monterey / x86_64 | OK | OK | OK | OK | |||||||||
| kjohnson1 | macOS 13.6.6 Ventura / arm64 | OK | OK | OK | NA | |||||||||
| 
To the developers/maintainers of the sitePath package: - Allow up to 24 hours (and sometimes 48 hours) for your latest push to git@git.bioconductor.org:packages/sitePath.git to reflect on this report. See Troubleshooting Build Report for more information. - Use the following Renviron settings to reproduce errors and warnings. - If 'R CMD check' started to fail recently on the Linux builder(s) over a missing dependency, add the missing dependency to 'Suggests:' in your DESCRIPTION file. See Renviron.bioc for more information.  | 
| Package: sitePath | 
| Version: 1.20.0 | 
| Command: /home/biocbuild/bbs-3.19-bioc/R/bin/R CMD check --install=check:sitePath.install-out.txt --library=/home/biocbuild/bbs-3.19-bioc/R/site-library --timings sitePath_1.20.0.tar.gz | 
| StartedAt: 2024-10-17 05:15:09 -0400 (Thu, 17 Oct 2024) | 
| EndedAt: 2024-10-17 05:22:30 -0400 (Thu, 17 Oct 2024) | 
| EllapsedTime: 440.9 seconds | 
| RetCode: 0 | 
| Status: OK | 
| CheckDir: sitePath.Rcheck | 
| Warnings: 0 | 
##############################################################################
##############################################################################
###
### Running command:
###
###   /home/biocbuild/bbs-3.19-bioc/R/bin/R CMD check --install=check:sitePath.install-out.txt --library=/home/biocbuild/bbs-3.19-bioc/R/site-library --timings sitePath_1.20.0.tar.gz
###
##############################################################################
##############################################################################
* using log directory ‘/home/biocbuild/bbs-3.19-bioc/meat/sitePath.Rcheck’
* using R version 4.4.1 (2024-06-14)
* using platform: x86_64-pc-linux-gnu
* R was compiled by
    gcc (Ubuntu 11.4.0-1ubuntu1~22.04) 11.4.0
    GNU Fortran (Ubuntu 11.4.0-1ubuntu1~22.04) 11.4.0
* running under: Ubuntu 22.04.5 LTS
* using session charset: UTF-8
* checking for file ‘sitePath/DESCRIPTION’ ... OK
* checking extension type ... Package
* this is package ‘sitePath’ version ‘1.20.0’
* package encoding: UTF-8
* checking package namespace information ... OK
* checking package dependencies ... OK
* checking if this is a source package ... OK
* checking if there is a namespace ... OK
* checking for hidden files and directories ... OK
* checking for portable file names ... OK
* checking for sufficient/correct file permissions ... OK
* checking whether package ‘sitePath’ can be installed ... OK
* used C++ compiler: ‘g++ (Ubuntu 11.4.0-1ubuntu1~22.04) 11.4.0’
* checking installed package size ... OK
* checking package directory ... OK
* checking ‘build’ directory ... OK
* checking DESCRIPTION meta-information ... NOTE
License stub is invalid DCF.
* checking top-level files ... OK
* checking for left-over files ... OK
* checking index information ... OK
* checking package subdirectories ... OK
* checking code files for non-ASCII characters ... OK
* checking R files for syntax errors ... OK
* checking whether the package can be loaded ... OK
* checking whether the package can be loaded with stated dependencies ... OK
* checking whether the package can be unloaded cleanly ... OK
* checking whether the namespace can be loaded with stated dependencies ... OK
* checking whether the namespace can be unloaded cleanly ... OK
* checking loading without being on the library search path ... OK
* checking dependencies in R code ... OK
* checking S3 generic/method consistency ... OK
* checking replacement functions ... OK
* checking foreign function calls ... OK
* checking R code for possible problems ... NOTE
.createSNPplot: no visible binding for global variable ‘Pos’
.createSNPplot: no visible binding for global variable ‘Accession’
.createSNPplot: no visible binding for global variable ‘SNP’
plot.fixationPath: no visible binding for global variable ‘branch’
plot.fixationPath: no visible binding for global variable ‘SNPs’
plot.fixationSites: no visible binding for global variable ‘group’
plot.fixationSites: no visible binding for global variable ‘branch’
plot.fixationSites: no visible binding for global variable ‘SNPs’
plot.parallelSites: no visible binding for global variable ‘branch’
plot.parallelSites: no visible binding for global variable ‘SNPs’
plot.sitePath: no visible binding for global variable ‘branch’
plot.sitePath: no visible binding for global variable ‘SNPs’
plotMutSites.lineagePath: no visible binding for global variable ‘node’
plotMutSites.paraFixSites: no visible binding for global variable
  ‘group’
plotMutSites.paraFixSites: no visible binding for global variable
  ‘branch’
plotMutSites.paraFixSites: no visible binding for global variable
  ‘SNPs’
plotSingleSite.parallelSites: no visible binding for global variable
  ‘branch’
plotSingleSite.parallelSites: no visible binding for global variable
  ‘SNPs’
Undefined global functions or variables:
  Accession Pos SNP SNPs branch group node
* checking Rd files ... OK
* checking Rd metadata ... OK
* checking Rd cross-references ... OK
* checking for missing documentation entries ... OK
* checking for code/documentation mismatches ... OK
* checking Rd \usage sections ... OK
* checking Rd contents ... OK
* checking for unstated dependencies in examples ... OK
* checking contents of ‘data’ directory ... OK
* checking data for non-ASCII characters ... OK
* checking data for ASCII and uncompressed saves ... OK
* checking line endings in C/C++/Fortran sources/headers ... OK
* checking compiled code ... NOTE
Note: information on .o files is not available
* checking files in ‘vignettes’ ... OK
* checking examples ... OK
Examples with CPU (user + system) or elapsed time > 5s
                    user system elapsed
plotFunctions     12.604  0.052  12.656
plotSingleSite     7.372  0.004   7.376
plotParallelSites  6.987  0.012   7.000
* checking for unstated dependencies in ‘tests’ ... OK
* checking tests ...
  Running ‘testthat.R’
 OK
* checking for unstated dependencies in vignettes ... OK
* checking package vignettes ... OK
* checking re-building of vignette outputs ... OK
* checking PDF version of manual ... OK
* DONE
Status: 3 NOTEs
See
  ‘/home/biocbuild/bbs-3.19-bioc/meat/sitePath.Rcheck/00check.log’
for details.
sitePath.Rcheck/00install.out
##############################################################################
##############################################################################
###
### Running command:
###
###   /home/biocbuild/bbs-3.19-bioc/R/bin/R CMD INSTALL sitePath
###
##############################################################################
##############################################################################
* installing to library ‘/home/biocbuild/bbs-3.19-bioc/R/site-library’
* installing *source* package ‘sitePath’ ...
** using staged installation
** libs
using C++ compiler: ‘g++ (Ubuntu 11.4.0-1ubuntu1~22.04) 11.4.0’
g++ -std=gnu++17 -I"/home/biocbuild/bbs-3.19-bioc/R/include" -DNDEBUG  -I'/home/biocbuild/bbs-3.19-bioc/R/site-library/Rcpp/include' -I/usr/local/include    -fpic  -g -O2  -Wall  -c RcppExports.cpp -o RcppExports.o
g++ -std=gnu++17 -I"/home/biocbuild/bbs-3.19-bioc/R/include" -DNDEBUG  -I'/home/biocbuild/bbs-3.19-bioc/R/site-library/Rcpp/include' -I/usr/local/include    -fpic  -g -O2  -Wall  -c lumpyCluster.cpp -o lumpyCluster.o
lumpyCluster.cpp: In member function ‘void LumpyCluster::Base::mergeClusters(const clusters&, int)’:
lumpyCluster.cpp:96:24: warning: comparison of integer expressions of different signedness: ‘std::vector<Treemer::TipSeqLinker*>::size_type’ {aka ‘long unsigned int’} and ‘const int’ [-Wsign-compare]
   96 |     if (allTips.size() >= m_maxSNPnum) {
      |         ~~~~~~~~~~~~~~~^~~~~~~~~~~~~~
g++ -std=gnu++17 -I"/home/biocbuild/bbs-3.19-bioc/R/include" -DNDEBUG  -I'/home/biocbuild/bbs-3.19-bioc/R/site-library/Rcpp/include' -I/usr/local/include    -fpic  -g -O2  -Wall  -c minEntropy.cpp -o minEntropy.o
g++ -std=gnu++17 -I"/home/biocbuild/bbs-3.19-bioc/R/include" -DNDEBUG  -I'/home/biocbuild/bbs-3.19-bioc/R/site-library/Rcpp/include' -I/usr/local/include    -fpic  -g -O2  -Wall  -c searchNode.cpp -o searchNode.o
g++ -std=gnu++17 -I"/home/biocbuild/bbs-3.19-bioc/R/include" -DNDEBUG  -I'/home/biocbuild/bbs-3.19-bioc/R/site-library/Rcpp/include' -I/usr/local/include    -fpic  -g -O2  -Wall  -c searchTree.cpp -o searchTree.o
g++ -std=gnu++17 -I"/home/biocbuild/bbs-3.19-bioc/R/include" -DNDEBUG  -I'/home/biocbuild/bbs-3.19-bioc/R/site-library/Rcpp/include' -I/usr/local/include    -fpic  -g -O2  -Wall  -c treemer.cpp -o treemer.o
g++ -std=gnu++17 -I"/home/biocbuild/bbs-3.19-bioc/R/include" -DNDEBUG  -I'/home/biocbuild/bbs-3.19-bioc/R/site-library/Rcpp/include' -I/usr/local/include    -fpic  -g -O2  -Wall  -c util.cpp -o util.o
g++ -std=gnu++17 -shared -L/home/biocbuild/bbs-3.19-bioc/R/lib -L/usr/local/lib -o sitePath.so RcppExports.o lumpyCluster.o minEntropy.o searchNode.o searchTree.o treemer.o util.o -L/home/biocbuild/bbs-3.19-bioc/R/lib -lR
installing to /home/biocbuild/bbs-3.19-bioc/R/site-library/00LOCK-sitePath/00new/sitePath/libs
** R
** data
** inst
** byte-compile and prepare package for lazy loading
** help
*** installing help indices
** building package indices
** installing vignettes
** testing if installed package can be loaded from temporary location
** checking absolute paths in shared objects and dynamic libraries
** testing if installed package can be loaded from final location
** testing if installed package keeps a record of temporary installation path
* DONE (sitePath)
sitePath.Rcheck/tests/testthat.Rout
R version 4.4.1 (2024-06-14) -- "Race for Your Life"
Copyright (C) 2024 The R Foundation for Statistical Computing
Platform: x86_64-pc-linux-gnu
R is free software and comes with ABSOLUTELY NO WARRANTY.
You are welcome to redistribute it under certain conditions.
Type 'license()' or 'licence()' for distribution details.
R is a collaborative project with many contributors.
Type 'contributors()' for more information and
'citation()' on how to cite R or R packages in publications.
Type 'demo()' for some demos, 'help()' for on-line help, or
'help.start()' for an HTML browser interface to help.
Type 'q()' to quit R.
> library(testthat)
> library(sitePath)
> 
> test_check("sitePath")
Using 2 cores..
Multiprocessing ended.
Using 2 cores..
Multiprocessing ended.
[ FAIL 0 | WARN 1 | SKIP 0 | PASS 2312 ]
[ FAIL 0 | WARN 1 | SKIP 0 | PASS 2312 ]
> 
> proc.time()
   user  system elapsed 
246.389   1.713 324.492 
sitePath.Rcheck/sitePath-Ex.timings
| name | user | system | elapsed | |
| SNPsites | 0.544 | 0.004 | 0.548 | |
| addMSA | 1.681 | 0.028 | 1.710 | |
| allSitesName | 2.021 | 0.008 | 2.029 | |
| as.data.frame | 1.185 | 0.024 | 1.210 | |
| extractSite | 1.185 | 0.000 | 1.185 | |
| extractTips | 1.260 | 0.008 | 1.268 | |
| fixationIndels | 1.273 | 0.004 | 1.277 | |
| fixationPath | 1.130 | 0.004 | 1.134 | |
| fixationSites | 1.174 | 0.028 | 1.203 | |
| groupTips | 1.662 | 0.004 | 1.666 | |
| lineagePath | 3.118 | 0.052 | 3.169 | |
| paraFixSites | 1.179 | 0.012 | 1.191 | |
| parallelSites | 1.167 | 0.004 | 1.171 | |
| plotFixationSites | 1.566 | 0.004 | 1.570 | |
| plotFunctions | 12.604 | 0.052 | 12.656 | |
| plotMutSites | 1.016 | 0.024 | 1.039 | |
| plotParallelSites | 6.987 | 0.012 | 7.000 | |
| plotSingleSite | 7.372 | 0.004 | 7.376 | |
| setSiteNumbering | 1.907 | 0.000 | 1.908 | |
| similarityMatrix | 1.966 | 0.027 | 1.994 | |
| sitesMinEntropy | 1.071 | 0.004 | 1.076 | |