| Back to Multiple platform build/check report for BioC 3.19: simplified long |
|
This page was generated on 2024-03-04 11:39:35 -0500 (Mon, 04 Mar 2024).
| Hostname | OS | Arch (*) | R version | Installed pkgs |
|---|---|---|---|---|
| nebbiolo1 | Linux (Ubuntu 22.04.3 LTS) | x86_64 | R Under development (unstable) (2024-01-16 r85808) -- "Unsuffered Consequences" | 4676 |
| palomino3 | Windows Server 2022 Datacenter | x64 | R Under development (unstable) (2024-01-14 r85805 ucrt) -- "Unsuffered Consequences" | 4414 |
| merida1 | macOS 12.7.1 Monterey | x86_64 | R Under development (unstable) (2024-01-16 r85808) -- "Unsuffered Consequences" | 4441 |
| kunpeng2 | Linux (openEuler 22.03 LTS-SP1) | aarch64 | R Under development (unstable) (2024-01-16 r85812) -- "Unsuffered Consequences" | 4417 |
| Click on any hostname to see more info about the system (e.g. compilers) (*) as reported by 'uname -p', except on Windows and Mac OS X | ||||
| Package 1374/2251 | Hostname | OS / Arch | INSTALL | BUILD | CHECK | BUILD BIN | ||||||||
| nanotatoR 1.19.0 (landing page) Surajit Bhattacharya
| nebbiolo1 | Linux (Ubuntu 22.04.3 LTS) / x86_64 | OK | OK | OK | |||||||||
| palomino3 | Windows Server 2022 Datacenter / x64 | OK | OK | OK | OK | |||||||||
| merida1 | macOS 12.7.1 Monterey / x86_64 | OK | OK | OK | OK | |||||||||
| kunpeng2 | Linux (openEuler 22.03 LTS-SP1) / aarch64 | OK | OK | OK | ||||||||||
|
To the developers/maintainers of the nanotatoR package: - Allow up to 24 hours (and sometimes 48 hours) for your latest push to git@git.bioconductor.org:packages/nanotatoR.git to reflect on this report. See Troubleshooting Build Report for more information. - Use the following Renviron settings to reproduce errors and warnings. - If 'R CMD check' started to fail recently on the Linux builder(s) over a missing dependency, add the missing dependency to 'Suggests:' in your DESCRIPTION file. See Renviron.bioc for more information. |
| Package: nanotatoR |
| Version: 1.19.0 |
| Command: /Library/Frameworks/R.framework/Resources/bin/R CMD check --install=check:nanotatoR.install-out.txt --library=/Library/Frameworks/R.framework/Resources/library --no-vignettes --timings nanotatoR_1.19.0.tar.gz |
| StartedAt: 2024-03-02 07:34:30 -0500 (Sat, 02 Mar 2024) |
| EndedAt: 2024-03-02 07:40:36 -0500 (Sat, 02 Mar 2024) |
| EllapsedTime: 366.4 seconds |
| RetCode: 0 |
| Status: OK |
| CheckDir: nanotatoR.Rcheck |
| Warnings: 0 |
##############################################################################
##############################################################################
###
### Running command:
###
### /Library/Frameworks/R.framework/Resources/bin/R CMD check --install=check:nanotatoR.install-out.txt --library=/Library/Frameworks/R.framework/Resources/library --no-vignettes --timings nanotatoR_1.19.0.tar.gz
###
##############################################################################
##############################################################################
* using log directory ‘/Users/biocbuild/bbs-3.19-bioc/meat/nanotatoR.Rcheck’
* using R Under development (unstable) (2024-01-16 r85808)
* using platform: x86_64-apple-darwin20
* R was compiled by
Apple clang version 14.0.0 (clang-1400.0.29.202)
GNU Fortran (GCC) 12.2.0
* running under: macOS Monterey 12.7.1
* using session charset: UTF-8
* using option ‘--no-vignettes’
* checking for file ‘nanotatoR/DESCRIPTION’ ... OK
* this is package ‘nanotatoR’ version ‘1.19.0’
* package encoding: UTF-8
* checking package namespace information ... OK
* checking package dependencies ... OK
* checking if this is a source package ... OK
* checking if there is a namespace ... OK
* checking for hidden files and directories ... NOTE
Found the following hidden files and directories:
.travis.yml
These were most likely included in error. See section ‘Package
structure’ in the ‘Writing R Extensions’ manual.
* checking for portable file names ... OK
* checking for sufficient/correct file permissions ... OK
* checking whether package ‘nanotatoR’ can be installed ... OK
* checking installed package size ... OK
* checking package directory ... OK
* checking ‘build’ directory ... OK
* checking DESCRIPTION meta-information ... OK
* checking top-level files ... OK
* checking for left-over files ... OK
* checking index information ... OK
* checking package subdirectories ... OK
* checking R files for non-ASCII characters ... OK
* checking R files for syntax errors ... OK
* checking whether the package can be loaded ... OK
* checking whether the package can be loaded with stated dependencies ... OK
* checking whether the package can be unloaded cleanly ... OK
* checking whether the namespace can be loaded with stated dependencies ... OK
* checking whether the namespace can be unloaded cleanly ... OK
* checking dependencies in R code ... NOTE
Namespace in Imports field not imported from: ‘GenomicRanges’
All declared Imports should be used.
* checking S3 generic/method consistency ... OK
* checking replacement functions ... OK
* checking foreign function calls ... OK
* checking R code for possible problems ... OK
* checking Rd files ... OK
* checking Rd metadata ... OK
* checking Rd cross-references ... OK
* checking for missing documentation entries ... OK
* checking for code/documentation mismatches ... OK
* checking Rd \usage sections ... OK
* checking Rd contents ... OK
* checking for unstated dependencies in examples ... OK
* checking files in ‘vignettes’ ... OK
* checking examples ... OK
Examples with CPU (user + system) or elapsed time > 5s
user system elapsed
gene_extraction 1.14 0.053 7.996
* checking for unstated dependencies in ‘tests’ ... OK
* checking tests ...
Running ‘testthat.R’
OK
* checking for unstated dependencies in vignettes ... OK
* checking package vignettes ... OK
* checking running R code from vignettes ... SKIPPED
* checking re-building of vignette outputs ... SKIPPED
* checking PDF version of manual ... OK
* DONE
Status: 2 NOTEs
See
‘/Users/biocbuild/bbs-3.19-bioc/meat/nanotatoR.Rcheck/00check.log’
for details.
nanotatoR.Rcheck/00install.out
############################################################################## ############################################################################## ### ### Running command: ### ### /Library/Frameworks/R.framework/Resources/bin/R CMD INSTALL nanotatoR ### ############################################################################## ############################################################################## * installing to library ‘/Library/Frameworks/R.framework/Versions/4.4-x86_64/Resources/library’ * installing *source* package ‘nanotatoR’ ... ** using staged installation ** R ** inst ** byte-compile and prepare package for lazy loading ** help *** installing help indices ** building package indices ** installing vignettes ** testing if installed package can be loaded from temporary location ** testing if installed package can be loaded from final location ** testing if installed package keeps a record of temporary installation path * DONE (nanotatoR)
nanotatoR.Rcheck/tests/testthat.Rout
R Under development (unstable) (2024-01-16 r85808) -- "Unsuffered Consequences"
Copyright (C) 2024 The R Foundation for Statistical Computing
Platform: x86_64-apple-darwin20
R is free software and comes with ABSOLUTELY NO WARRANTY.
You are welcome to redistribute it under certain conditions.
Type 'license()' or 'licence()' for distribution details.
R is a collaborative project with many contributors.
Type 'contributors()' for more information and
'citation()' on how to cite R or R packages in publications.
Type 'demo()' for some demos, 'help()' for on-line help, or
'help.start()' for an HTML browser interface to help.
Type 'q()' to quit R.
> library(testthat)
> library(nanotatoR)
>
> test_check("nanotatoR")
[ FAIL 0 | WARN 0 | SKIP 0 | PASS 0 ]
>
> proc.time()
user system elapsed
10.749 0.652 12.843
nanotatoR.Rcheck/nanotatoR-Ex.timings
| name | user | system | elapsed | |
| BNDBfrequency | 0.130 | 0.031 | 0.192 | |
| DGVfrequency | 0.054 | 0.010 | 0.075 | |
| Decipherfrequency | 0.070 | 0.013 | 0.093 | |
| FamilyInfoPrep | 0.033 | 0.008 | 0.051 | |
| OverlapRNAseq | 0.391 | 0.036 | 0.474 | |
| OverlapRNAseq_solo | 0.303 | 0.012 | 0.335 | |
| RNAseqcombine | 0.001 | 0.001 | 0.000 | |
| RNAseqcombine_solo | 0.257 | 0.006 | 0.294 | |
| SVexpression_duo_trio | 0.000 | 0.001 | 0.001 | |
| SVexpression_solo | 0.384 | 0.013 | 0.450 | |
| buildrunBNBedFiles | 0.009 | 0.001 | 0.011 | |
| clinvar_gene | 0.029 | 0.003 | 0.034 | |
| extract_clinvar_mod | 0.032 | 0.004 | 0.042 | |
| gene_extraction | 1.140 | 0.053 | 7.996 | |
| gene_list_generation | 1.476 | 0.045 | 2.772 | |
| gtr_gene | 0.005 | 0.002 | 0.007 | |
| internalFrequencyTrio_Duo | 0.201 | 0.006 | 0.211 | |
| internalFrequency_solo | 0.371 | 0.006 | 0.408 | |
| makeInternalBNDatabase | 0.002 | 0.001 | 0.003 | |
| mergingSMAP_SE | 0.048 | 0.005 | 0.058 | |
| mergingSMAP_SVMerge | 0.019 | 0.002 | 0.023 | |
| merging_SE_SVMerge | 0.088 | 0.010 | 0.107 | |
| nanotatoR | 0.002 | 0.001 | 0.003 | |
| nanotatoR_Duo_SVmerge | 0.001 | 0.001 | 0.002 | |
| nanotatoR_SVmerge_Trio | 0.000 | 0.001 | 0.001 | |
| nanotatoR_main_Duo_SE | 0.001 | 0.002 | 0.002 | |
| nanotatoR_main_Solo_SE | 1.134 | 0.074 | 1.364 | |
| nanotatoR_main_Solo_SVmerge | 0.295 | 0.040 | 0.364 | |
| nanotatoR_main_Trio_SE | 0.173 | 0.030 | 0.224 | |
| nonOverlapGenes | 0.042 | 0.009 | 0.058 | |
| nonOverlapRNAseq | 0.297 | 0.021 | 0.353 | |
| nonOverlapRNAseq_solo | 0.266 | 0.017 | 0.308 | |
| nonOverlappingDNGenes | 0.055 | 0.009 | 0.071 | |
| nonOverlappingUPGenes | 0.091 | 0.012 | 0.111 | |
| omim_gene | 0.030 | 0.002 | 0.534 | |
| overlapGenes | 0.028 | 0.003 | 0.033 | |
| overlapnearestgeneSearch | 0.062 | 0.005 | 0.067 | |
| overlappingGenes | 0.050 | 0.004 | 0.054 | |
| phenoextractHPO_mod | 0.009 | 0.001 | 0.011 | |
| readBNBedFiles | 0.005 | 0.001 | 0.006 | |
| readSMap | 0.034 | 0.013 | 0.047 | |
| readSMap_DLE | 0.023 | 0.007 | 0.031 | |
| reading_GTR | 0.004 | 0.001 | 0.005 | |
| reading_mim2gene | 0.005 | 0.001 | 0.006 | |
| run_bionano_filter_SE_Trio | 0.542 | 0.026 | 0.628 | |
| run_bionano_filter_SE_duo | 0.001 | 0.001 | 0.001 | |
| run_bionano_filter_SE_solo | 0.815 | 0.028 | 0.958 | |
| run_bionano_filter_SVMerge_Trio | 0.000 | 0.000 | 0.001 | |
| run_bionano_filter_SVMerge_duo | 0.001 | 0.001 | 0.001 | |
| run_bionano_filter_SVMerge_solo | 0.696 | 0.027 | 0.828 | |