| Back to Multiple platform build/check report for BioC 3.19: simplified long |
|
This page was generated on 2024-04-18 11:45:33 -0400 (Thu, 18 Apr 2024).
| Hostname | OS | Arch (*) | R version | Installed pkgs |
|---|---|---|---|---|
| nebbiolo1 | Linux (Ubuntu 22.04.3 LTS) | x86_64 | 4.4.0 beta (2024-04-15 r86425) -- "Puppy Cup" | 4507 |
| palomino3 | Windows Server 2022 Datacenter | x64 | 4.4.0 beta (2024-04-15 r86425 ucrt) -- "Puppy Cup" | 3861 |
| lconway | macOS 12.7.1 Monterey | x86_64 | 4.4.0 beta (2024-04-14 r86421) -- "Puppy Cup" | 4448 |
| kunpeng2 | Linux (openEuler 22.03 LTS-SP1) | aarch64 | R Under development (unstable) (2024-03-19 r86153) -- "Unsuffered Consequences" | 4467 |
| Click on any hostname to see more info about the system (e.g. compilers) (*) as reported by 'uname -p', except on Windows and Mac OS X | ||||
| Package 1392/2285 | Hostname | OS / Arch | INSTALL | BUILD | CHECK | BUILD BIN | ||||||||
| nanotatoR 1.19.0 (landing page) Surajit Bhattacharya
| nebbiolo1 | Linux (Ubuntu 22.04.3 LTS) / x86_64 | ERROR | ERROR | skipped | |||||||||
| palomino3 | Windows Server 2022 Datacenter / x64 | ERROR | ERROR | skipped | skipped | |||||||||
| lconway | macOS 12.7.1 Monterey / x86_64 | ERROR | ERROR | skipped | skipped | |||||||||
| kunpeng2 | Linux (openEuler 22.03 LTS-SP1) / aarch64 | OK | OK | OK | ||||||||||
| kjohnson3 | macOS 13.6.5 Ventura / arm64 | see weekly results here | ||||||||||||
|
To the developers/maintainers of the nanotatoR package: - Allow up to 24 hours (and sometimes 48 hours) for your latest push to git@git.bioconductor.org:packages/nanotatoR.git to reflect on this report. See Troubleshooting Build Report for more information. - Use the following Renviron settings to reproduce errors and warnings. - If 'R CMD check' started to fail recently on the Linux builder(s) over a missing dependency, add the missing dependency to 'Suggests:' in your DESCRIPTION file. See Renviron.bioc for more information. - See Martin Grigorov's blog post for how to debug Linux ARM64 related issues on a x86_64 host. |
| Package: nanotatoR |
| Version: 1.19.0 |
| Command: /home/biocbuild/R/R-4.4-devel-2024.03.20/bin/R CMD check --install=check:nanotatoR.install-out.txt --library=/home/biocbuild/R/R-4.4-devel-2024.03.20/site-library --no-vignettes --timings nanotatoR_1.19.0.tar.gz |
| StartedAt: 2024-04-18 07:47:29 -0000 (Thu, 18 Apr 2024) |
| EndedAt: 2024-04-18 07:50:40 -0000 (Thu, 18 Apr 2024) |
| EllapsedTime: 191.5 seconds |
| RetCode: 0 |
| Status: OK |
| CheckDir: nanotatoR.Rcheck |
| Warnings: 0 |
##############################################################################
##############################################################################
###
### Running command:
###
### /home/biocbuild/R/R-4.4-devel-2024.03.20/bin/R CMD check --install=check:nanotatoR.install-out.txt --library=/home/biocbuild/R/R-4.4-devel-2024.03.20/site-library --no-vignettes --timings nanotatoR_1.19.0.tar.gz
###
##############################################################################
##############################################################################
* using log directory ‘/home/biocbuild/bbs-3.19-bioc/meat/nanotatoR.Rcheck’
* using R Under development (unstable) (2024-03-19 r86153)
* using platform: aarch64-unknown-linux-gnu
* R was compiled by
gcc (GCC) 10.3.1
GNU Fortran (GCC) 10.3.1
* running under: openEuler 22.03 (LTS-SP1)
* using session charset: UTF-8
* using option ‘--no-vignettes’
* checking for file ‘nanotatoR/DESCRIPTION’ ... OK
* this is package ‘nanotatoR’ version ‘1.19.0’
* package encoding: UTF-8
* checking package namespace information ... OK
* checking package dependencies ... OK
* checking if this is a source package ... OK
* checking if there is a namespace ... OK
* checking for hidden files and directories ... NOTE
Found the following hidden files and directories:
.travis.yml
These were most likely included in error. See section ‘Package
structure’ in the ‘Writing R Extensions’ manual.
* checking for portable file names ... OK
* checking for sufficient/correct file permissions ... OK
* checking whether package ‘nanotatoR’ can be installed ... OK
* checking installed package size ... OK
* checking package directory ... OK
* checking ‘build’ directory ... OK
* checking DESCRIPTION meta-information ... OK
* checking top-level files ... OK
* checking for left-over files ... OK
* checking index information ... OK
* checking package subdirectories ... OK
* checking code files for non-ASCII characters ... OK
* checking R files for syntax errors ... OK
* checking whether the package can be loaded ... OK
* checking whether the package can be loaded with stated dependencies ... OK
* checking whether the package can be unloaded cleanly ... OK
* checking whether the namespace can be loaded with stated dependencies ... OK
* checking whether the namespace can be unloaded cleanly ... OK
* checking loading without being on the library search path ... OK
* checking dependencies in R code ... NOTE
Namespace in Imports field not imported from: ‘GenomicRanges’
All declared Imports should be used.
* checking S3 generic/method consistency ... OK
* checking replacement functions ... OK
* checking foreign function calls ... OK
* checking R code for possible problems ... OK
* checking Rd files ... NOTE
checkRd: (-1) overlapnearestgeneSearch.Rd:29-34: Lost braces
29 | awk '{
| ^
* checking Rd metadata ... OK
* checking Rd cross-references ... OK
* checking for missing documentation entries ... OK
* checking for code/documentation mismatches ... OK
* checking Rd \usage sections ... OK
* checking Rd contents ... OK
* checking for unstated dependencies in examples ... OK
* checking files in ‘vignettes’ ... OK
* checking examples ... OK
* checking for unstated dependencies in ‘tests’ ... OK
* checking tests ...
Running ‘testthat.R’
OK
* checking for unstated dependencies in vignettes ... OK
* checking package vignettes ... OK
* checking running R code from vignettes ... SKIPPED
* checking re-building of vignette outputs ... SKIPPED
* checking PDF version of manual ... OK
* DONE
Status: 3 NOTEs
See
‘/home/biocbuild/bbs-3.19-bioc/meat/nanotatoR.Rcheck/00check.log’
for details.
nanotatoR.Rcheck/00install.out
############################################################################## ############################################################################## ### ### Running command: ### ### /home/biocbuild/R/R-4.4-devel-2024.03.20/bin/R CMD INSTALL nanotatoR ### ############################################################################## ############################################################################## * installing to library ‘/home/biocbuild/R/R-4.4-devel-2024.03.20/site-library’ * installing *source* package ‘nanotatoR’ ... ** using staged installation ** R ** inst ** byte-compile and prepare package for lazy loading ** help *** installing help indices ** building package indices ** installing vignettes ** testing if installed package can be loaded from temporary location ** testing if installed package can be loaded from final location ** testing if installed package keeps a record of temporary installation path * DONE (nanotatoR)
nanotatoR.Rcheck/tests/testthat.Rout
R Under development (unstable) (2024-03-19 r86153) -- "Unsuffered Consequences"
Copyright (C) 2024 The R Foundation for Statistical Computing
Platform: aarch64-unknown-linux-gnu
R is free software and comes with ABSOLUTELY NO WARRANTY.
You are welcome to redistribute it under certain conditions.
Type 'license()' or 'licence()' for distribution details.
R is a collaborative project with many contributors.
Type 'contributors()' for more information and
'citation()' on how to cite R or R packages in publications.
Type 'demo()' for some demos, 'help()' for on-line help, or
'help.start()' for an HTML browser interface to help.
Type 'q()' to quit R.
> library(testthat)
> library(nanotatoR)
>
> test_check("nanotatoR")
[ FAIL 0 | WARN 0 | SKIP 0 | PASS 0 ]
>
> proc.time()
user system elapsed
6.726 0.278 7.002
nanotatoR.Rcheck/nanotatoR-Ex.timings
| name | user | system | elapsed | |
| BNDBfrequency | 0.068 | 0.004 | 0.081 | |
| DGVfrequency | 0.027 | 0.000 | 0.028 | |
| Decipherfrequency | 0.034 | 0.000 | 0.035 | |
| FamilyInfoPrep | 0.007 | 0.012 | 0.021 | |
| OverlapRNAseq | 0.252 | 0.008 | 0.262 | |
| OverlapRNAseq_solo | 0.136 | 0.000 | 0.137 | |
| RNAseqcombine | 0 | 0 | 0 | |
| RNAseqcombine_solo | 0.134 | 0.004 | 0.138 | |
| SVexpression_duo_trio | 0 | 0 | 0 | |
| SVexpression_solo | 0.192 | 0.028 | 0.221 | |
| buildrunBNBedFiles | 0.005 | 0.000 | 0.005 | |
| clinvar_gene | 0.018 | 0.000 | 0.019 | |
| extract_clinvar_mod | 0.015 | 0.004 | 0.020 | |
| gene_extraction | 0.784 | 0.024 | 3.702 | |
| gene_list_generation | 1.254 | 0.036 | 2.685 | |
| gtr_gene | 0.003 | 0.000 | 0.003 | |
| internalFrequencyTrio_Duo | 0.121 | 0.000 | 0.123 | |
| internalFrequency_solo | 0.216 | 0.000 | 0.216 | |
| makeInternalBNDatabase | 0.001 | 0.000 | 0.001 | |
| mergingSMAP_SE | 0.025 | 0.000 | 0.028 | |
| mergingSMAP_SVMerge | 0.009 | 0.000 | 0.010 | |
| merging_SE_SVMerge | 0.045 | 0.000 | 0.045 | |
| nanotatoR | 0.001 | 0.000 | 0.001 | |
| nanotatoR_Duo_SVmerge | 0.000 | 0.000 | 0.001 | |
| nanotatoR_SVmerge_Trio | 0 | 0 | 0 | |
| nanotatoR_main_Duo_SE | 0.001 | 0.000 | 0.000 | |
| nanotatoR_main_Solo_SE | 0.609 | 0.032 | 0.643 | |
| nanotatoR_main_Solo_SVmerge | 0.151 | 0.000 | 0.153 | |
| nanotatoR_main_Trio_SE | 0.083 | 0.004 | 0.088 | |
| nonOverlapGenes | 0.021 | 0.000 | 0.021 | |
| nonOverlapRNAseq | 0.150 | 0.008 | 0.159 | |
| nonOverlapRNAseq_solo | 0.140 | 0.004 | 0.145 | |
| nonOverlappingDNGenes | 0.031 | 0.000 | 0.032 | |
| nonOverlappingUPGenes | 0.027 | 0.004 | 0.031 | |
| omim_gene | 0.017 | 0.000 | 0.662 | |
| overlapGenes | 0.015 | 0.000 | 0.015 | |
| overlapnearestgeneSearch | 0.030 | 0.004 | 0.034 | |
| overlappingGenes | 0.028 | 0.000 | 0.028 | |
| phenoextractHPO_mod | 0.006 | 0.000 | 0.006 | |
| readBNBedFiles | 0.003 | 0.000 | 0.004 | |
| readSMap | 0.016 | 0.000 | 0.016 | |
| readSMap_DLE | 0.012 | 0.000 | 0.012 | |
| reading_GTR | 0.003 | 0.000 | 0.002 | |
| reading_mim2gene | 0.003 | 0.000 | 0.002 | |
| run_bionano_filter_SE_Trio | 0.314 | 0.012 | 0.327 | |
| run_bionano_filter_SE_duo | 0 | 0 | 0 | |
| run_bionano_filter_SE_solo | 0.439 | 0.012 | 0.452 | |
| run_bionano_filter_SVMerge_Trio | 0 | 0 | 0 | |
| run_bionano_filter_SVMerge_duo | 0 | 0 | 0 | |
| run_bionano_filter_SVMerge_solo | 0.386 | 0.000 | 0.387 | |