| Back to Multiple platform build/check report for BioC 3.19: simplified long |
|
This page was generated on 2024-10-18 20:39 -0400 (Fri, 18 Oct 2024).
| Hostname | OS | Arch (*) | R version | Installed pkgs |
|---|---|---|---|---|
| nebbiolo1 | Linux (Ubuntu 22.04.3 LTS) | x86_64 | 4.4.1 (2024-06-14) -- "Race for Your Life" | 4763 |
| palomino7 | Windows Server 2022 Datacenter | x64 | 4.4.1 (2024-06-14 ucrt) -- "Race for Your Life" | 4500 |
| merida1 | macOS 12.7.5 Monterey | x86_64 | 4.4.1 (2024-06-14) -- "Race for Your Life" | 4530 |
| kjohnson1 | macOS 13.6.6 Ventura | arm64 | 4.4.1 (2024-06-14) -- "Race for Your Life" | 4480 |
| Click on any hostname to see more info about the system (e.g. compilers) (*) as reported by 'uname -p', except on Windows and Mac OS X | ||||
| Package 1392/2300 | Hostname | OS / Arch | INSTALL | BUILD | CHECK | BUILD BIN | ||||||||
| musicatk 1.14.1 (landing page) Joshua D. Campbell
| nebbiolo1 | Linux (Ubuntu 22.04.3 LTS) / x86_64 | OK | OK | OK | |||||||||
| palomino7 | Windows Server 2022 Datacenter / x64 | OK | OK | OK | OK | |||||||||
| merida1 | macOS 12.7.5 Monterey / x86_64 | OK | OK | OK | OK | |||||||||
| kjohnson1 | macOS 13.6.6 Ventura / arm64 | OK | OK | OK | OK | |||||||||
|
To the developers/maintainers of the musicatk package: - Allow up to 24 hours (and sometimes 48 hours) for your latest push to git@git.bioconductor.org:packages/musicatk.git to reflect on this report. See Troubleshooting Build Report for more information. - Use the following Renviron settings to reproduce errors and warnings. - If 'R CMD check' started to fail recently on the Linux builder(s) over a missing dependency, add the missing dependency to 'Suggests:' in your DESCRIPTION file. See Renviron.bioc for more information. |
| Package: musicatk |
| Version: 1.14.1 |
| Command: E:\biocbuild\bbs-3.19-bioc\R\bin\R.exe CMD check --no-multiarch --install=check:musicatk.install-out.txt --library=E:\biocbuild\bbs-3.19-bioc\R\library --no-vignettes --timings musicatk_1.14.1.tar.gz |
| StartedAt: 2024-10-17 03:50:22 -0400 (Thu, 17 Oct 2024) |
| EndedAt: 2024-10-17 03:57:38 -0400 (Thu, 17 Oct 2024) |
| EllapsedTime: 435.6 seconds |
| RetCode: 0 |
| Status: OK |
| CheckDir: musicatk.Rcheck |
| Warnings: 0 |
##############################################################################
##############################################################################
###
### Running command:
###
### E:\biocbuild\bbs-3.19-bioc\R\bin\R.exe CMD check --no-multiarch --install=check:musicatk.install-out.txt --library=E:\biocbuild\bbs-3.19-bioc\R\library --no-vignettes --timings musicatk_1.14.1.tar.gz
###
##############################################################################
##############################################################################
* using log directory 'E:/biocbuild/bbs-3.19-bioc/meat/musicatk.Rcheck'
* using R version 4.4.1 (2024-06-14 ucrt)
* using platform: x86_64-w64-mingw32
* R was compiled by
gcc.exe (GCC) 13.2.0
GNU Fortran (GCC) 13.2.0
* running under: Windows Server 2022 x64 (build 20348)
* using session charset: UTF-8
* using option '--no-vignettes'
* checking for file 'musicatk/DESCRIPTION' ... OK
* checking extension type ... Package
* this is package 'musicatk' version '1.14.1'
* package encoding: UTF-8
* checking package namespace information ... OK
* checking package dependencies ... OK
* checking if this is a source package ... OK
* checking if there is a namespace ... OK
* checking for hidden files and directories ... OK
* checking for portable file names ... OK
* checking whether package 'musicatk' can be installed ... OK
* checking installed package size ... OK
* checking package directory ... OK
* checking 'build' directory ... OK
* checking DESCRIPTION meta-information ... OK
* checking top-level files ... OK
* checking for left-over files ... OK
* checking index information ... OK
* checking package subdirectories ... OK
* checking code files for non-ASCII characters ... OK
* checking R files for syntax errors ... OK
* checking whether the package can be loaded ... OK
* checking whether the package can be loaded with stated dependencies ... OK
* checking whether the package can be unloaded cleanly ... OK
* checking whether the namespace can be loaded with stated dependencies ... OK
* checking whether the namespace can be unloaded cleanly ... OK
* checking dependencies in R code ... OK
* checking S3 generic/method consistency ... OK
* checking replacement functions ... OK
* checking foreign function calls ... OK
* checking R code for possible problems ... OK
* checking Rd files ... OK
* checking Rd metadata ... OK
* checking Rd cross-references ... OK
* checking for missing documentation entries ... OK
* checking for code/documentation mismatches ... OK
* checking Rd \usage sections ... OK
* checking Rd contents ... OK
* checking for unstated dependencies in examples ... OK
* checking contents of 'data' directory ... OK
* checking data for non-ASCII characters ... OK
* checking LazyData ... OK
* checking data for ASCII and uncompressed saves ... OK
* checking files in 'vignettes' ... OK
* checking examples ... OK
Examples with CPU (user + system) or elapsed time > 5s
user system elapsed
build_standard_table 8.66 1.76 10.44
create_umap 5.75 0.09 6.02
plot_cluster 5.45 0.21 5.69
extract_variants 5.21 0.02 5.28
plot_umap 5.07 0.07 5.17
* checking for unstated dependencies in 'tests' ... OK
* checking tests ...
Running 'testthat.R'
OK
* checking for unstated dependencies in vignettes ... OK
* checking package vignettes ... OK
* checking running R code from vignettes ... SKIPPED
* checking re-building of vignette outputs ... SKIPPED
* checking PDF version of manual ... OK
* DONE
Status: OK
musicatk.Rcheck/00install.out
############################################################################## ############################################################################## ### ### Running command: ### ### E:\biocbuild\bbs-3.19-bioc\R\bin\R.exe CMD INSTALL musicatk ### ############################################################################## ############################################################################## * installing to library 'E:/biocbuild/bbs-3.19-bioc/R/library' * installing *source* package 'musicatk' ... ** using staged installation ** R ** data *** moving datasets to lazyload DB ** inst ** byte-compile and prepare package for lazy loading ** help *** installing help indices ** building package indices ** installing vignettes ** testing if installed package can be loaded from temporary location ** testing if installed package can be loaded from final location ** testing if installed package keeps a record of temporary installation path * DONE (musicatk)
musicatk.Rcheck/tests/testthat.Rout
R version 4.4.1 (2024-06-14 ucrt) -- "Race for Your Life"
Copyright (C) 2024 The R Foundation for Statistical Computing
Platform: x86_64-w64-mingw32/x64
R is free software and comes with ABSOLUTELY NO WARRANTY.
You are welcome to redistribute it under certain conditions.
Type 'license()' or 'licence()' for distribution details.
R is a collaborative project with many contributors.
Type 'contributors()' for more information and
'citation()' on how to cite R or R packages in publications.
Type 'demo()' for some demos, 'help()' for on-line help, or
'help.start()' for an HTML browser interface to help.
Type 'q()' to quit R.
> library("testthat")
> library("musicatk")
Loading required package: NMF
Loading required package: registry
Loading required package: rngtools
Loading required package: cluster
NMF - BioConductor layer [OK] | Shared memory capabilities [NO: windows] | Cores 2/2
Attaching package: 'NMF'
The following object is masked from 'package:testthat':
compare
>
> test_check("musicatk")
[ FAIL 0 | WARN 2 | SKIP 0 | PASS 42 ]
[ FAIL 0 | WARN 2 | SKIP 0 | PASS 42 ]
>
> proc.time()
user system elapsed
23.78 2.17 25.26
musicatk.Rcheck/musicatk-Ex.timings
| name | user | system | elapsed | |
| add_flank_to_variants | 3.44 | 0.35 | 3.86 | |
| add_variant_type | 0.03 | 0.00 | 0.03 | |
| annotate_replication_strand | 0.22 | 0.01 | 0.24 | |
| annotate_transcript_strand | 1.30 | 0.09 | 1.39 | |
| annotate_variant_length | 0.01 | 0.00 | 0.02 | |
| annotate_variant_type | 0.00 | 0.02 | 0.01 | |
| auto_predict_grid | 3.61 | 0.09 | 3.81 | |
| build_custom_table | 1.19 | 0.04 | 1.22 | |
| build_standard_table | 8.66 | 1.76 | 10.44 | |
| built_tables | 0 | 0 | 0 | |
| cluster_exposure | 0.03 | 0.00 | 0.09 | |
| combine_count_tables | 2.78 | 0.42 | 3.21 | |
| combine_predict_grid | 2.36 | 0.03 | 2.47 | |
| compare_cosmic_v2 | 2.81 | 0.08 | 3.00 | |
| compare_cosmic_v3 | 2.06 | 0.02 | 2.07 | |
| compare_results | 2.33 | 0.00 | 2.33 | |
| cosmic_v2_subtype_map | 0 | 0 | 0 | |
| create_musica | 0.88 | 0.33 | 1.75 | |
| create_umap | 5.75 | 0.09 | 6.02 | |
| discover_signatures | 1.01 | 0.20 | 1.75 | |
| drop_annotation | 0.00 | 0.02 | 0.01 | |
| exposure_differential_analysis | 0.02 | 0.00 | 0.02 | |
| exposures | 0.01 | 0.01 | 0.03 | |
| extract_count_tables | 0 | 0 | 0 | |
| extract_variants | 5.21 | 0.02 | 5.28 | |
| extract_variants_from_maf | 0.18 | 0.00 | 0.18 | |
| extract_variants_from_maf_file | 0.11 | 0.00 | 0.11 | |
| extract_variants_from_matrix | 0.14 | 0.00 | 0.14 | |
| extract_variants_from_vcf | 0.94 | 0.01 | 0.96 | |
| extract_variants_from_vcf_file | 0.45 | 0.00 | 0.46 | |
| generate_result_grid | 0.36 | 0.00 | 0.36 | |
| get_musica | 0.02 | 0.02 | 0.03 | |
| k_select | 0.79 | 0.01 | 0.86 | |
| musicatk | 0 | 0 | 0 | |
| name_signatures | 0 | 0 | 0 | |
| pipe | 0.02 | 0.00 | 0.01 | |
| plot_cluster | 5.45 | 0.21 | 5.69 | |
| plot_differential_analysis | 0.33 | 0.01 | 0.34 | |
| plot_exposures | 0.20 | 0.00 | 0.21 | |
| plot_heatmap | 1.04 | 0.52 | 1.35 | |
| plot_sample_counts | 0.65 | 0.07 | 0.62 | |
| plot_sample_reconstruction_error | 0.79 | 0.00 | 0.80 | |
| plot_signatures | 0.85 | 0.04 | 0.87 | |
| plot_umap | 5.07 | 0.07 | 5.17 | |
| predict_exposure | 1.41 | 0.22 | 1.63 | |
| rc | 0 | 0 | 0 | |
| samp_annot | 0.02 | 0.00 | 0.01 | |
| sample_names | 0 | 0 | 0 | |
| select_genome | 0 | 0 | 0 | |
| signatures | 0.01 | 0.00 | 0.02 | |
| subset_musica_by_annotation | 0.00 | 0.02 | 0.03 | |
| subset_musica_by_counts | 0.02 | 0.00 | 0.02 | |
| subset_variant_by_type | 0.00 | 0.01 | 0.01 | |
| subset_variants_by_samples | 0 | 0 | 0 | |
| table_selected | 0.01 | 0.00 | 0.01 | |
| tables | 0.02 | 0.00 | 0.02 | |
| umap | 0.00 | 0.02 | 0.02 | |
| variants | 0.03 | 0.00 | 0.03 | |