| Back to Multiple platform build/check report for BioC 3.19: simplified long |
|
This page was generated on 2024-10-18 20:42 -0400 (Fri, 18 Oct 2024).
| Hostname | OS | Arch (*) | R version | Installed pkgs |
|---|---|---|---|---|
| nebbiolo1 | Linux (Ubuntu 22.04.3 LTS) | x86_64 | 4.4.1 (2024-06-14) -- "Race for Your Life" | 4763 |
| palomino7 | Windows Server 2022 Datacenter | x64 | 4.4.1 (2024-06-14 ucrt) -- "Race for Your Life" | 4500 |
| merida1 | macOS 12.7.5 Monterey | x86_64 | 4.4.1 (2024-06-14) -- "Race for Your Life" | 4530 |
| kjohnson1 | macOS 13.6.6 Ventura | arm64 | 4.4.1 (2024-06-14) -- "Race for Your Life" | 4480 |
| Click on any hostname to see more info about the system (e.g. compilers) (*) as reported by 'uname -p', except on Windows and Mac OS X | ||||
| Package 1392/2300 | Hostname | OS / Arch | INSTALL | BUILD | CHECK | BUILD BIN | ||||||||
| musicatk 1.14.1 (landing page) Joshua D. Campbell
| nebbiolo1 | Linux (Ubuntu 22.04.3 LTS) / x86_64 | OK | OK | OK | |||||||||
| palomino7 | Windows Server 2022 Datacenter / x64 | OK | OK | OK | OK | |||||||||
| merida1 | macOS 12.7.5 Monterey / x86_64 | OK | OK | OK | OK | |||||||||
| kjohnson1 | macOS 13.6.6 Ventura / arm64 | OK | OK | OK | OK | |||||||||
|
To the developers/maintainers of the musicatk package: - Allow up to 24 hours (and sometimes 48 hours) for your latest push to git@git.bioconductor.org:packages/musicatk.git to reflect on this report. See Troubleshooting Build Report for more information. - Use the following Renviron settings to reproduce errors and warnings. - If 'R CMD check' started to fail recently on the Linux builder(s) over a missing dependency, add the missing dependency to 'Suggests:' in your DESCRIPTION file. See Renviron.bioc for more information. |
| Package: musicatk |
| Version: 1.14.1 |
| Command: /Library/Frameworks/R.framework/Resources/bin/R CMD check --install=check:musicatk.install-out.txt --library=/Library/Frameworks/R.framework/Resources/library --no-vignettes --timings musicatk_1.14.1.tar.gz |
| StartedAt: 2024-10-18 05:36:28 -0400 (Fri, 18 Oct 2024) |
| EndedAt: 2024-10-18 05:43:45 -0400 (Fri, 18 Oct 2024) |
| EllapsedTime: 437.3 seconds |
| RetCode: 0 |
| Status: OK |
| CheckDir: musicatk.Rcheck |
| Warnings: 0 |
##############################################################################
##############################################################################
###
### Running command:
###
### /Library/Frameworks/R.framework/Resources/bin/R CMD check --install=check:musicatk.install-out.txt --library=/Library/Frameworks/R.framework/Resources/library --no-vignettes --timings musicatk_1.14.1.tar.gz
###
##############################################################################
##############################################################################
* using log directory ‘/Users/biocbuild/bbs-3.19-bioc/meat/musicatk.Rcheck’
* using R version 4.4.1 (2024-06-14)
* using platform: aarch64-apple-darwin20
* R was compiled by
Apple clang version 14.0.0 (clang-1400.0.29.202)
GNU Fortran (GCC) 12.2.0
* running under: macOS Ventura 13.6.6
* using session charset: UTF-8
* using option ‘--no-vignettes’
* checking for file ‘musicatk/DESCRIPTION’ ... OK
* checking extension type ... Package
* this is package ‘musicatk’ version ‘1.14.1’
* package encoding: UTF-8
* checking package namespace information ... OK
* checking package dependencies ... OK
* checking if this is a source package ... OK
* checking if there is a namespace ... OK
* checking for hidden files and directories ... OK
* checking for portable file names ... OK
* checking for sufficient/correct file permissions ... OK
* checking whether package ‘musicatk’ can be installed ... OK
* checking installed package size ... OK
* checking package directory ... OK
* checking ‘build’ directory ... OK
* checking DESCRIPTION meta-information ... OK
* checking top-level files ... OK
* checking for left-over files ... OK
* checking index information ... OK
* checking package subdirectories ... OK
* checking code files for non-ASCII characters ... OK
* checking R files for syntax errors ... OK
* checking whether the package can be loaded ... OK
* checking whether the package can be loaded with stated dependencies ... OK
* checking whether the package can be unloaded cleanly ... OK
* checking whether the namespace can be loaded with stated dependencies ... OK
* checking whether the namespace can be unloaded cleanly ... OK
* checking dependencies in R code ... OK
* checking S3 generic/method consistency ... OK
* checking replacement functions ... OK
* checking foreign function calls ... OK
* checking R code for possible problems ... OK
* checking Rd files ... OK
* checking Rd metadata ... OK
* checking Rd cross-references ... OK
* checking for missing documentation entries ... OK
* checking for code/documentation mismatches ... OK
* checking Rd \usage sections ... OK
* checking Rd contents ... OK
* checking for unstated dependencies in examples ... OK
* checking contents of ‘data’ directory ... OK
* checking data for non-ASCII characters ... OK
* checking LazyData ... OK
* checking data for ASCII and uncompressed saves ... OK
* checking files in ‘vignettes’ ... OK
* checking examples ... OK
Examples with CPU (user + system) or elapsed time > 5s
user system elapsed
build_standard_table 7.833 1.154 9.190
plot_cluster 6.206 0.116 6.373
create_umap 6.045 0.086 6.149
plot_umap 5.865 0.051 5.936
* checking for unstated dependencies in ‘tests’ ... OK
* checking tests ...
Running ‘testthat.R’
OK
* checking for unstated dependencies in vignettes ... OK
* checking package vignettes ... OK
* checking running R code from vignettes ... SKIPPED
* checking re-building of vignette outputs ... SKIPPED
* checking PDF version of manual ... OK
* DONE
Status: OK
musicatk.Rcheck/00install.out
############################################################################## ############################################################################## ### ### Running command: ### ### /Library/Frameworks/R.framework/Resources/bin/R CMD INSTALL musicatk ### ############################################################################## ############################################################################## * installing to library ‘/Library/Frameworks/R.framework/Versions/4.4-arm64/Resources/library’ * installing *source* package ‘musicatk’ ... ** using staged installation ** R ** data *** moving datasets to lazyload DB ** inst ** byte-compile and prepare package for lazy loading ** help *** installing help indices ** building package indices ** installing vignettes ** testing if installed package can be loaded from temporary location ** testing if installed package can be loaded from final location ** testing if installed package keeps a record of temporary installation path * DONE (musicatk)
musicatk.Rcheck/tests/testthat.Rout
R version 4.4.1 (2024-06-14) -- "Race for Your Life"
Copyright (C) 2024 The R Foundation for Statistical Computing
Platform: aarch64-apple-darwin20
R is free software and comes with ABSOLUTELY NO WARRANTY.
You are welcome to redistribute it under certain conditions.
Type 'license()' or 'licence()' for distribution details.
R is a collaborative project with many contributors.
Type 'contributors()' for more information and
'citation()' on how to cite R or R packages in publications.
Type 'demo()' for some demos, 'help()' for on-line help, or
'help.start()' for an HTML browser interface to help.
Type 'q()' to quit R.
> library("testthat")
> library("musicatk")
Loading required package: NMF
Loading required package: registry
Loading required package: rngtools
Loading required package: cluster
NMF - BioConductor layer [OK] | Shared memory capabilities [NO: synchronicity] | Cores 2/2
To enable shared memory capabilities, try: install.extras('
NMF
')
Attaching package: 'NMF'
The following object is masked from 'package:testthat':
compare
>
> test_check("musicatk")
[ FAIL 0 | WARN 2 | SKIP 0 | PASS 42 ]
[ FAIL 0 | WARN 2 | SKIP 0 | PASS 42 ]
>
> proc.time()
user system elapsed
24.493 1.318 26.372
musicatk.Rcheck/musicatk-Ex.timings
| name | user | system | elapsed | |
| add_flank_to_variants | 3.613 | 0.285 | 3.919 | |
| add_variant_type | 0.024 | 0.004 | 0.029 | |
| annotate_replication_strand | 0.158 | 0.018 | 0.176 | |
| annotate_transcript_strand | 1.436 | 0.055 | 1.494 | |
| annotate_variant_length | 0.015 | 0.003 | 0.018 | |
| annotate_variant_type | 0.003 | 0.002 | 0.005 | |
| auto_predict_grid | 3.400 | 0.117 | 3.539 | |
| build_custom_table | 1.061 | 0.032 | 1.092 | |
| build_standard_table | 7.833 | 1.154 | 9.190 | |
| built_tables | 0.003 | 0.002 | 0.005 | |
| cluster_exposure | 0.020 | 0.005 | 0.026 | |
| combine_count_tables | 2.668 | 0.326 | 3.003 | |
| combine_predict_grid | 2.027 | 0.043 | 2.103 | |
| compare_cosmic_v2 | 2.517 | 0.031 | 2.551 | |
| compare_cosmic_v3 | 1.463 | 0.009 | 1.475 | |
| compare_results | 1.666 | 0.012 | 1.681 | |
| cosmic_v2_subtype_map | 0.002 | 0.001 | 0.002 | |
| create_musica | 1.049 | 0.285 | 1.370 | |
| create_umap | 6.045 | 0.086 | 6.149 | |
| discover_signatures | 0.748 | 0.151 | 1.034 | |
| drop_annotation | 0.002 | 0.002 | 0.005 | |
| exposure_differential_analysis | 0.012 | 0.003 | 0.014 | |
| exposures | 0.005 | 0.005 | 0.009 | |
| extract_count_tables | 0.005 | 0.002 | 0.007 | |
| extract_variants | 4.399 | 0.086 | 4.248 | |
| extract_variants_from_maf | 0.135 | 0.007 | 0.121 | |
| extract_variants_from_maf_file | 0.171 | 0.010 | 0.101 | |
| extract_variants_from_matrix | 0.200 | 0.012 | 0.115 | |
| extract_variants_from_vcf | 0.829 | 0.031 | 0.738 | |
| extract_variants_from_vcf_file | 0.469 | 0.006 | 0.476 | |
| generate_result_grid | 0.233 | 0.004 | 0.237 | |
| get_musica | 0.008 | 0.003 | 0.012 | |
| k_select | 0.743 | 0.015 | 0.760 | |
| musicatk | 0.000 | 0.001 | 0.000 | |
| name_signatures | 0.003 | 0.002 | 0.005 | |
| pipe | 0.003 | 0.001 | 0.004 | |
| plot_cluster | 6.206 | 0.116 | 6.373 | |
| plot_differential_analysis | 0.316 | 0.010 | 0.342 | |
| plot_exposures | 0.196 | 0.006 | 0.208 | |
| plot_heatmap | 0.780 | 0.016 | 0.863 | |
| plot_sample_counts | 0.549 | 0.006 | 0.569 | |
| plot_sample_reconstruction_error | 0.768 | 0.008 | 0.789 | |
| plot_signatures | 0.736 | 0.011 | 0.753 | |
| plot_umap | 5.865 | 0.051 | 5.936 | |
| predict_exposure | 1.188 | 0.211 | 1.533 | |
| rc | 0.002 | 0.001 | 0.002 | |
| samp_annot | 0.012 | 0.005 | 0.018 | |
| sample_names | 0.003 | 0.002 | 0.006 | |
| select_genome | 0 | 0 | 0 | |
| signatures | 0.005 | 0.006 | 0.013 | |
| subset_musica_by_annotation | 0.006 | 0.002 | 0.009 | |
| subset_musica_by_counts | 0.010 | 0.003 | 0.014 | |
| subset_variant_by_type | 0.007 | 0.003 | 0.009 | |
| subset_variants_by_samples | 0.006 | 0.003 | 0.010 | |
| table_selected | 0.002 | 0.003 | 0.006 | |
| tables | 0.009 | 0.005 | 0.013 | |
| umap | 0.004 | 0.004 | 0.008 | |
| variants | 0.011 | 0.006 | 0.016 | |