| Back to Multiple platform build/check report for BioC 3.19: simplified long | 
  | 
This page was generated on 2024-05-09 11:41:04 -0400 (Thu, 09 May 2024).
| Hostname | OS | Arch (*) | R version | Installed pkgs | 
|---|---|---|---|---|
| nebbiolo1 | Linux (Ubuntu 22.04.3 LTS) | x86_64 | 4.4.0 (2024-04-24) -- "Puppy Cup" | 4748 | 
| palomino3 | Windows Server 2022 Datacenter | x64 | 4.4.0 (2024-04-24 ucrt) -- "Puppy Cup" | 4484 | 
| lconway | macOS 12.7.1 Monterey | x86_64 | 4.4.0 (2024-04-24) -- "Puppy Cup" | 4514 | 
| kunpeng2 | Linux (openEuler 22.03 LTS-SP1) | aarch64 | 4.4.0 beta (2024-04-15 r86425) -- "Puppy Cup" | 4480 | 
| Click on any hostname to see more info about the system (e.g. compilers) (*) as reported by 'uname -p', except on Windows and Mac OS X | ||||
| Package 1207/2300 | Hostname | OS / Arch | INSTALL | BUILD | CHECK | BUILD BIN | ||||||||
| metabinR 1.6.0  (landing page) Anestis Gkanogiannis 
  | nebbiolo1 | Linux (Ubuntu 22.04.3 LTS) / x86_64 | OK | OK | OK | |||||||||
| palomino3 | Windows Server 2022 Datacenter / x64 | OK | OK | OK | OK | |||||||||
| lconway | macOS 12.7.1 Monterey / x86_64 | OK | OK | OK | OK | |||||||||
| kunpeng2 | Linux (openEuler 22.03 LTS-SP1) / aarch64 | OK | OK | OK | ||||||||||
| kjohnson3 | macOS 13.6.5 Ventura / arm64 | see weekly results here | ||||||||||||
| 
To the developers/maintainers of the metabinR package: - Allow up to 24 hours (and sometimes 48 hours) for your latest push to git@git.bioconductor.org:packages/metabinR.git to reflect on this report. See Troubleshooting Build Report for more information. - Use the following Renviron settings to reproduce errors and warnings. - If 'R CMD check' started to fail recently on the Linux builder(s) over a missing dependency, add the missing dependency to 'Suggests:' in your DESCRIPTION file. See Renviron.bioc for more information. - See Martin Grigorov's blog post for how to debug Linux ARM64 related issues on a x86_64 host.  | 
| Package: metabinR | 
| Version: 1.6.0 | 
| Command: /home/biocbuild/R/R-beta-2024-04-15_r86425/bin/R CMD check --install=check:metabinR.install-out.txt --library=/home/biocbuild/R/R-beta-2024-04-15_r86425/site-library --no-vignettes --timings metabinR_1.6.0.tar.gz | 
| StartedAt: 2024-05-09 09:08:57 -0000 (Thu, 09 May 2024) | 
| EndedAt: 2024-05-09 09:09:58 -0000 (Thu, 09 May 2024) | 
| EllapsedTime: 61.1 seconds | 
| RetCode: 0 | 
| Status: OK | 
| CheckDir: metabinR.Rcheck | 
| Warnings: 0 | 
##############################################################################
##############################################################################
###
### Running command:
###
###   /home/biocbuild/R/R-beta-2024-04-15_r86425/bin/R CMD check --install=check:metabinR.install-out.txt --library=/home/biocbuild/R/R-beta-2024-04-15_r86425/site-library --no-vignettes --timings metabinR_1.6.0.tar.gz
###
##############################################################################
##############################################################################
* using log directory ‘/home/biocbuild/bbs-3.19-bioc/meat/metabinR.Rcheck’
* using R version 4.4.0 beta (2024-04-15 r86425)
* using platform: aarch64-unknown-linux-gnu
* R was compiled by
    gcc (GCC) 10.3.1
    GNU Fortran (GCC) 10.3.1
* running under: openEuler 22.03 (LTS-SP1)
* using session charset: UTF-8
* using option ‘--no-vignettes’
* checking for file ‘metabinR/DESCRIPTION’ ... OK
* checking extension type ... Package
* this is package ‘metabinR’ version ‘1.6.0’
* package encoding: UTF-8
* checking package namespace information ... OK
* checking package dependencies ... OK
* checking if this is a source package ... OK
* checking if there is a namespace ... OK
* checking for hidden files and directories ... OK
* checking for portable file names ... OK
* checking for sufficient/correct file permissions ... OK
* checking whether package ‘metabinR’ can be installed ... OK
* checking installed package size ... OK
* checking package directory ... OK
* checking ‘build’ directory ... OK
* checking DESCRIPTION meta-information ... OK
* checking top-level files ... OK
* checking for left-over files ... OK
* checking index information ... OK
* checking package subdirectories ... OK
* checking code files for non-ASCII characters ... OK
* checking R files for syntax errors ... OK
* checking whether the package can be loaded ... OK
* checking whether the package can be loaded with stated dependencies ... OK
* checking whether the package can be unloaded cleanly ... OK
* checking whether the namespace can be loaded with stated dependencies ... OK
* checking whether the namespace can be unloaded cleanly ... OK
* checking loading without being on the library search path ... OK
* checking whether startup messages can be suppressed ... OK
* checking dependencies in R code ... OK
* checking S3 generic/method consistency ... OK
* checking replacement functions ... OK
* checking foreign function calls ... OK
* checking R code for possible problems ... OK
* checking Rd files ... OK
* checking Rd metadata ... OK
* checking Rd cross-references ... OK
* checking for missing documentation entries ... OK
* checking for code/documentation mismatches ... OK
* checking Rd \usage sections ... OK
* checking Rd contents ... OK
* checking for unstated dependencies in examples ... OK
* checking files in ‘vignettes’ ... OK
* checking examples ... OK
Examples with CPU (user + system) or elapsed time > 5s
                         user system elapsed
abundance_based_binning 8.772   0.34   5.891
* checking for unstated dependencies in ‘tests’ ... OK
* checking tests ...
  Running ‘spelling.R’
  Running ‘testthat.R’
 OK
* checking for unstated dependencies in vignettes ... OK
* checking package vignettes ... OK
* checking running R code from vignettes ... SKIPPED
* checking re-building of vignette outputs ... SKIPPED
* checking PDF version of manual ... OK
* DONE
Status: OK
metabinR.Rcheck/00install.out
############################################################################## ############################################################################## ### ### Running command: ### ### /home/biocbuild/R/R-beta-2024-04-15_r86425/bin/R CMD INSTALL metabinR ### ############################################################################## ############################################################################## * installing to library ‘/home/biocbuild/R/R-beta-2024-04-15_r86425/site-library’ * installing *source* package ‘metabinR’ ... ** using staged installation ** R ** inst ** byte-compile and prepare package for lazy loading ** help *** installing help indices ** building package indices ** installing vignettes ** testing if installed package can be loaded from temporary location ** testing if installed package can be loaded from final location ** testing if installed package keeps a record of temporary installation path * DONE (metabinR)
metabinR.Rcheck/tests/spelling.Rout
R version 4.4.0 beta (2024-04-15 r86425) -- "Puppy Cup"
Copyright (C) 2024 The R Foundation for Statistical Computing
Platform: aarch64-unknown-linux-gnu
R is free software and comes with ABSOLUTELY NO WARRANTY.
You are welcome to redistribute it under certain conditions.
Type 'license()' or 'licence()' for distribution details.
R is a collaborative project with many contributors.
Type 'contributors()' for more information and
'citation()' on how to cite R or R packages in publications.
Type 'demo()' for some demos, 'help()' for on-line help, or
'help.start()' for an HTML browser interface to help.
Type 'q()' to quit R.
> if(requireNamespace('spelling', quietly = TRUE))
+     spelling::spell_check_test(vignettes = TRUE, error = FALSE,
+                                                         skip_on_cran = TRUE)
NULL
> 
> proc.time()
   user  system elapsed 
  0.200   0.021   0.206 
metabinR.Rcheck/tests/testthat.Rout
R version 4.4.0 beta (2024-04-15 r86425) -- "Puppy Cup"
Copyright (C) 2024 The R Foundation for Statistical Computing
Platform: aarch64-unknown-linux-gnu
R is free software and comes with ABSOLUTELY NO WARRANTY.
You are welcome to redistribute it under certain conditions.
Type 'license()' or 'licence()' for distribution details.
R is a collaborative project with many contributors.
Type 'contributors()' for more information and
'citation()' on how to cite R or R packages in publications.
Type 'demo()' for some demos, 'help()' for on-line help, or
'help.start()' for an HTML browser interface to help.
Type 'q()' to quit R.
> library(testthat)
> library(metabinR)
> 
> test_check("metabinR")
version MTxAB =Wed May 08 20:06:40 UTC 2024
cpus=32
using=1
2024/05/09 09:09:34 Using Dictionary ORIGINAL
2024/05/09 09:09:34 START of AB Counting
2024/05/09 09:09:34 FastaManager: START READ
2024/05/09 09:09:34 SequenceProcessor: 0	AB_KMERCOUNT START
CHUNK_SIZE=67108864
2024/05/09 09:09:34 FastaManager: lines read 53328
2024/05/09 09:09:34 FastaManager: END READ
2024/05/09 09:09:34 FastaManager: FASTA
2024/05/09 09:09:36 SequenceProcessor: 0	AB_KMERCOUNT EXIT
2024/05/09 09:09:36 END of AB Counting
2024/05/09 09:09:36 Loaded sequences: 26664
2024/05/09 09:09:36 Total kmers(before remove):	65536
##### Heap utilization statistics [GB] #####
Max Memory=0.5
Current Total Memory=0.5
Current Used Memory=0.286
Current Free Memory=0.214
############################################
2024/05/09 09:09:36
Unique:		0
Distinct:	65536
Total:		7625904
MaxCount:	1574
2024/05/09 09:09:36 START of EMsync
	Run=1
	Run=2
	Run=3
	Run=4
	Run=5
	Run=6
	Run=7
	Run=8
	Run=9
	Run=10
	Run=11
	Run=12
	Run=13
	Run=14
	Run=15
	Run=16
	Run=17
	Run=18
	Run=19
	Run=20
	Run=21
	Run=22
	Run=23
	Run=24
	Run=25
2024/05/09 09:09:36	Runs=25
2024/05/09 09:09:36 END of EMsync
2024/05/09 09:09:36 START of Creating AB Cluster Vectors
	Cluster 1	Abundance=241.01134335779187	Length=16168.173737759447	LowLimit=163	HighLimit=318
	Cluster 2	Abundance=75.538888587297	Length=49367.82626224055	LowLimit=32	HighLimit=118
2024/05/09 09:09:36	Trove size/4=18022
2024/05/09 09:09:36	Trove size/4=18022
2024/05/09 09:09:36	Cluster 1	size in kmers=65536	norm=126.50589485137961
2024/05/09 09:09:36	Cluster 2	size in kmers=65536	norm=221.81983091435748
2024/05/09 09:09:36 END of Creating AB Cluster Vectors
cpus=32
using=1
2024/05/09 09:09:36 START of AB Binning
2024/05/09 09:09:36 FastaManager: START READ
2024/05/09 09:09:36 SequenceProcessor: 0	AB_BINNING START
2024/05/09 09:09:37 FastaManager: lines read 53328
2024/05/09 09:09:37 FastaManager: END READ
2024/05/09 09:09:37 FastaManager: FASTA
2024/05/09 09:09:39 SequenceProcessor: 0	AB_BINNING EXIT
2024/05/09 09:09:39 END of AB Binning
	Clustered reads:
		AB Cluster 1: 19871
		AB Cluster 2: 6793
##### Heap utilization statistics [GB] #####
Max Memory=0.5
Current Total Memory=0.5
Current Used Memory=0.274
Current Free Memory=0.226
############################################
version MTxCB =Wed May 08 20:06:40 UTC 2024
cpus=32
using=1
2024/05/09 09:09:39 START of CB Counting
2024/05/09 09:09:39 FastaManager: START READ
2024/05/09 09:09:39 SequenceProcessor: 0	CB_SEQUENCEVECTORBUILD START
2024/05/09 09:09:39 FastaManager: lines read 53328
2024/05/09 09:09:39 FastaManager: END READ
2024/05/09 09:09:39 FastaManager: FASTA
2024/05/09 09:09:40 SequenceProcessor: 0	CB_SEQUENCEVECTORBUILD EXIT
2024/05/09 09:09:40 END of CB Counting
2024/05/09 09:09:40 Loaded sequences: 26664
##### Heap utilization statistics [GB] #####
Max Memory=0.5
Current Total Memory=0.408
Current Used Memory=0.217
Current Free Memory=0.191
############################################
cpus=32
using=1
2024/05/09 09:09:40 START of Creating CB Clusters	Size=26664
K-Means clustering started
... centers initialized
... concurrent processing mode with 1 subtask threads
... iteration 1 moves = 2767
... iteration 2 moves = 441
... iteration 3 moves = 190
... iteration 4 moves = 144
... iteration 5 moves = 85
... iteration 6 moves = 55
... iteration 7 moves = 35
... iteration 8 moves = 38
... iteration 9 moves = 30
... iteration 10 moves = 15
... iteration 11 moves = 8
... iteration 12 moves = 16
... iteration 13 moves = 6
... iteration 14 moves = 7
... iteration 15 moves = 1
... iteration 16 moves = 0
...end.	6.435 seconds.
2024/05/09 09:09:47 : kMeans cleanup.
2024/05/09 09:09:47 END of Creating CB Clusters.
cpus=32
using=1
2024/05/09 09:09:47 START of CB Binning
2024/05/09 09:09:47 FastaManager: START READ
2024/05/09 09:09:47 SequenceProcessor: 0	CB_BINNING START
2024/05/09 09:09:47 FastaManager: lines read 53328
2024/05/09 09:09:47 FastaManager: END READ
2024/05/09 09:09:47 FastaManager: FASTA
2024/05/09 09:09:47 SequenceProcessor: 0	CB_BINNING EXIT
	Clustered reads:
		CB Cluster 1: 9303
		CB Cluster 2: 17361
##### Heap utilization statistics [GB] #####
Max Memory=0.5
Current Total Memory=0.408
Current Used Memory=0.31
Current Free Memory=0.098
############################################
version MTxABxCB =Wed May 08 20:06:40 UTC 2024
cpus=32
using=1
2024/05/09 09:09:47 Using Dictionary ORIGINAL
2024/05/09 09:09:47 START of AB Counting
2024/05/09 09:09:47 FastaManager: START READ
2024/05/09 09:09:47 SequenceProcessor: 0	AB_KMERCOUNT START
2024/05/09 09:09:47 FastaManager: lines read 53328
2024/05/09 09:09:47 FastaManager: END READ
2024/05/09 09:09:47 FastaManager: FASTA
2024/05/09 09:09:49 SequenceProcessor: 0	AB_KMERCOUNT EXIT
2024/05/09 09:09:49 END of AB Counting
2024/05/09 09:09:49 Loaded sequences: 26664
2024/05/09 09:09:49 Distinct kmers(before remove):	65536
##### Heap utilization statistics [GB] #####
Max Memory=0.5
Current Total Memory=0.408
Current Used Memory=0.335
Current Free Memory=0.073
############################################
2024/05/09 09:09:49
Unique:		0
Distinct:	65536
Total:		7625904
MaxCount:	1574
2024/05/09 09:09:49 START of EMsync
	Run=1
	Run=2
	Run=3
	Run=4
	Run=5
	Run=6
	Run=7
	Run=8
	Run=9
	Run=10
	Run=11
	Run=12
	Run=13
	Run=14
	Run=15
	Run=16
	Run=17
	Run=18
	Run=19
	Run=20
	Run=21
	Run=22
	Run=23
	Run=24
	Run=25
2024/05/09 09:09:49	Runs=25
2024/05/09 09:09:49 END of EMsync
2024/05/09 09:09:49	Filter before=2
2024/05/09 09:09:49	Filter after=2
2024/05/09 09:09:49 START of Creating AB Cluster Vectors
	Cluster 1	Abundance=75.538888587297	Length=49367.82626224055	LowLimit=32	HighLimit=118
	Cluster 2	Abundance=241.01134335779187	Length=16168.173737759447	LowLimit=163	HighLimit=318
2024/05/09 09:09:49	Trove size/4=18022
2024/05/09 09:09:49	Trove size/4=18022
2024/05/09 09:09:49	Cluster 1	size in kmers=65536	norm=221.81983091435748
2024/05/09 09:09:49	Cluster 2	size in kmers=65536	norm=126.50589485137961
2024/05/09 09:09:49 END of Creating AB Cluster Vectors
cpus=32
using=1
2024/05/09 09:09:49 START of AB Binning
2024/05/09 09:09:49 FastaManager: START READ
2024/05/09 09:09:49 SequenceProcessor: 0	AB_BINNING START
2024/05/09 09:09:49 FastaManager: lines read 53328
2024/05/09 09:09:49 FastaManager: END READ
2024/05/09 09:09:49 FastaManager: FASTA
2024/05/09 09:09:51 SequenceProcessor: 0	AB_BINNING EXIT
2024/05/09 09:09:51 END of AB Binning
cpus=32
using=1
2024/05/09 09:09:51 START of CB Counting
2024/05/09 09:09:51 FastaManager: START READ
2024/05/09 09:09:51 SequenceProcessor: 0	CB_SEQUENCEVECTORBUILD START
2024/05/09 09:09:51 FastaManager: lines read 53328
2024/05/09 09:09:51 FastaManager: END READ
2024/05/09 09:09:51 FastaManager: FASTA
2024/05/09 09:09:52 SequenceProcessor: 0	CB_SEQUENCEVECTORBUILD EXIT
2024/05/09 09:09:52 END of CB Counting
2024/05/09 09:09:52 Loaded sequences: 26664
##### Heap utilization statistics [GB] #####
Max Memory=0.5
Current Total Memory=0.477
Current Used Memory=0.283
Current Free Memory=0.193
############################################
2024/05/09 09:09:52 AB Cluster=1	Size=6793
2024/05/09 09:09:52 AB Cluster=2	Size=19871
cpus=32
using=1
 ABid	    size	   abundance	  EMLength	 newLength	 EMspecies	newspecies
-----	    ----	   ---------	  --------	 ---------	 ---------	----------
    1	   6,793	    75.53889	    49,367	    13,489	    1		    1
2024/05/09 09:09:52 START of Creating CB Clusters for AB Cluster=1	Size=6793
K-Means clustering started
... centers initialized
... concurrent processing mode with 1 subtask threads
... iteration 1 moves = 0
...end.	0.776 seconds.
2024/05/09 09:09:53 : kMeans cleanup.
2024/05/09 09:09:53 END of Creating CB Clusters for AB Cluster=1
cpus=32
using=1
 ABid	    size	   abundance	  EMLength	 newLength	 EMspecies	newspecies
-----	    ----	   ---------	  --------	 ---------	 ---------	----------
    2	  19,871	   241.01134	    16,168	    12,367	    1		    1
2024/05/09 09:09:53 START of Creating CB Clusters for AB Cluster=2	Size=19871
K-Means clustering started
... centers initialized
... concurrent processing mode with 1 subtask threads
... iteration 1 moves = 0
...end.	2.189 seconds.
2024/05/09 09:09:55 : kMeans cleanup.
2024/05/09 09:09:55 END of Creating CB Clusters for AB Cluster=2
##### Heap utilization statistics [GB] #####
Max Memory=0.5
Current Total Memory=0.477
Current Used Memory=0.349
Current Free Memory=0.128
############################################
cpus=32
using=1
2024/05/09 09:09:55 START of CB Binning
2024/05/09 09:09:55 FastaManager: START READ
2024/05/09 09:09:55 SequenceProcessor: 0	CB_BINNING START
2024/05/09 09:09:55 FastaManager: lines read 53328
2024/05/09 09:09:55 FastaManager: END READ
2024/05/09 09:09:55 FastaManager: FASTA
2024/05/09 09:09:55 SequenceProcessor: 0	CB_BINNING EXIT
	Clustered reads:
		ABxCB Cluster 1: 6793
		ABxCB Cluster 2: 19871
##### Heap utilization statistics [GB] #####
Max Memory=0.5
Current Total Memory=0.5
Current Used Memory=0.331
Current Free Memory=0.169
############################################
[ FAIL 0 | WARN 0 | SKIP 0 | PASS 52 ]
> 
> proc.time()
   user  system elapsed 
 31.295   0.886  22.760 
metabinR.Rcheck/metabinR-Ex.timings
| name | user | system | elapsed | |
| abundance_based_binning | 8.772 | 0.340 | 5.891 | |
| composition_based_binning | 4.422 | 0.154 | 1.583 | |
| hierarchical_binning | 4.574 | 0.104 | 2.993 | |