| Back to Multiple platform build/check report for BioC 3.19: simplified long |
|
This page was generated on 2024-06-28 17:41 -0400 (Fri, 28 Jun 2024).
| Hostname | OS | Arch (*) | R version | Installed pkgs |
|---|---|---|---|---|
| nebbiolo1 | Linux (Ubuntu 22.04.3 LTS) | x86_64 | 4.4.0 (2024-04-24) -- "Puppy Cup" | 4760 |
| palomino3 | Windows Server 2022 Datacenter | x64 | 4.4.0 (2024-04-24 ucrt) -- "Puppy Cup" | 4494 |
| merida1 | macOS 12.7.4 Monterey | x86_64 | 4.4.0 (2024-04-24) -- "Puppy Cup" | 4508 |
| kjohnson1 | macOS 13.6.6 Ventura | arm64 | 4.4.0 (2024-04-24) -- "Puppy Cup" | 4466 |
| palomino7 | Windows Server 2022 Datacenter | x64 | 4.4.1 (2024-06-14 ucrt) -- "Race for Your Life" | 4362 |
| Click on any hostname to see more info about the system (e.g. compilers) (*) as reported by 'uname -p', except on Windows and Mac OS X | ||||
| Package 1207/2300 | Hostname | OS / Arch | INSTALL | BUILD | CHECK | BUILD BIN | ||||||||
| metabinR 1.6.0 (landing page) Anestis Gkanogiannis
| nebbiolo1 | Linux (Ubuntu 22.04.3 LTS) / x86_64 | OK | OK | OK | |||||||||
| palomino3 | Windows Server 2022 Datacenter / x64 | OK | OK | OK | OK | |||||||||
| merida1 | macOS 12.7.4 Monterey / x86_64 | OK | OK | OK | OK | |||||||||
| kjohnson1 | macOS 13.6.6 Ventura / arm64 | OK | OK | OK | OK | |||||||||
| palomino7 | Windows Server 2022 Datacenter / x64 | OK | OK | OK | OK | |||||||||
|
To the developers/maintainers of the metabinR package: - Allow up to 24 hours (and sometimes 48 hours) for your latest push to git@git.bioconductor.org:packages/metabinR.git to reflect on this report. See Troubleshooting Build Report for more information. - Use the following Renviron settings to reproduce errors and warnings. - If 'R CMD check' started to fail recently on the Linux builder(s) over a missing dependency, add the missing dependency to 'Suggests:' in your DESCRIPTION file. See Renviron.bioc for more information. |
| Package: metabinR |
| Version: 1.6.0 |
| Command: F:\biocbuild\bbs-3.19-bioc\R\bin\R.exe CMD check --no-multiarch --install=check:metabinR.install-out.txt --library=F:\biocbuild\bbs-3.19-bioc\R\library --no-vignettes --timings metabinR_1.6.0.tar.gz |
| StartedAt: 2024-06-27 03:22:22 -0400 (Thu, 27 Jun 2024) |
| EndedAt: 2024-06-27 03:23:41 -0400 (Thu, 27 Jun 2024) |
| EllapsedTime: 78.8 seconds |
| RetCode: 0 |
| Status: OK |
| CheckDir: metabinR.Rcheck |
| Warnings: 0 |
##############################################################################
##############################################################################
###
### Running command:
###
### F:\biocbuild\bbs-3.19-bioc\R\bin\R.exe CMD check --no-multiarch --install=check:metabinR.install-out.txt --library=F:\biocbuild\bbs-3.19-bioc\R\library --no-vignettes --timings metabinR_1.6.0.tar.gz
###
##############################################################################
##############################################################################
* using log directory 'F:/biocbuild/bbs-3.19-bioc/meat/metabinR.Rcheck'
* using R version 4.4.0 (2024-04-24 ucrt)
* using platform: x86_64-w64-mingw32
* R was compiled by
gcc.exe (GCC) 13.2.0
GNU Fortran (GCC) 13.2.0
* running under: Windows Server 2022 x64 (build 20348)
* using session charset: UTF-8
* using option '--no-vignettes'
* checking for file 'metabinR/DESCRIPTION' ... OK
* checking extension type ... Package
* this is package 'metabinR' version '1.6.0'
* package encoding: UTF-8
* checking package namespace information ... OK
* checking package dependencies ... OK
* checking if this is a source package ... OK
* checking if there is a namespace ... OK
* checking for hidden files and directories ... OK
* checking for portable file names ... OK
* checking whether package 'metabinR' can be installed ... OK
* checking installed package size ... OK
* checking package directory ... OK
* checking 'build' directory ... OK
* checking DESCRIPTION meta-information ... OK
* checking top-level files ... OK
* checking for left-over files ... OK
* checking index information ... OK
* checking package subdirectories ... OK
* checking code files for non-ASCII characters ... OK
* checking R files for syntax errors ... OK
* checking whether the package can be loaded ... OK
* checking whether the package can be loaded with stated dependencies ... OK
* checking whether the package can be unloaded cleanly ... OK
* checking whether the namespace can be loaded with stated dependencies ... OK
* checking whether the namespace can be unloaded cleanly ... OK
* checking whether startup messages can be suppressed ... OK
* checking dependencies in R code ... OK
* checking S3 generic/method consistency ... OK
* checking replacement functions ... OK
* checking foreign function calls ... OK
* checking R code for possible problems ... OK
* checking Rd files ... OK
* checking Rd metadata ... OK
* checking Rd cross-references ... OK
* checking for missing documentation entries ... OK
* checking for code/documentation mismatches ... OK
* checking Rd \usage sections ... OK
* checking Rd contents ... OK
* checking for unstated dependencies in examples ... OK
* checking files in 'vignettes' ... OK
* checking examples ... OK
Examples with CPU (user + system) or elapsed time > 5s
user system elapsed
abundance_based_binning 8.82 0.96 7.40
composition_based_binning 6.84 1.00 2.70
hierarchical_binning 5.37 0.61 3.93
* checking for unstated dependencies in 'tests' ... OK
* checking tests ...
Running 'spelling.R'
Running 'testthat.R'
OK
* checking for unstated dependencies in vignettes ... OK
* checking package vignettes ... OK
* checking running R code from vignettes ... SKIPPED
* checking re-building of vignette outputs ... SKIPPED
* checking PDF version of manual ... OK
* DONE
Status: OK
metabinR.Rcheck/00install.out
############################################################################## ############################################################################## ### ### Running command: ### ### F:\biocbuild\bbs-3.19-bioc\R\bin\R.exe CMD INSTALL metabinR ### ############################################################################## ############################################################################## * installing to library 'F:/biocbuild/bbs-3.19-bioc/R/library' * installing *source* package 'metabinR' ... ** using staged installation ** R ** inst ** byte-compile and prepare package for lazy loading ** help *** installing help indices ** building package indices ** installing vignettes ** testing if installed package can be loaded from temporary location ** testing if installed package can be loaded from final location ** testing if installed package keeps a record of temporary installation path * DONE (metabinR)
metabinR.Rcheck/tests/spelling.Rout
R version 4.4.0 (2024-04-24 ucrt) -- "Puppy Cup"
Copyright (C) 2024 The R Foundation for Statistical Computing
Platform: x86_64-w64-mingw32/x64
R is free software and comes with ABSOLUTELY NO WARRANTY.
You are welcome to redistribute it under certain conditions.
Type 'license()' or 'licence()' for distribution details.
R is a collaborative project with many contributors.
Type 'contributors()' for more information and
'citation()' on how to cite R or R packages in publications.
Type 'demo()' for some demos, 'help()' for on-line help, or
'help.start()' for an HTML browser interface to help.
Type 'q()' to quit R.
> if(requireNamespace('spelling', quietly = TRUE))
+ spelling::spell_check_test(vignettes = TRUE, error = FALSE,
+ skip_on_cran = TRUE)
NULL
>
> proc.time()
user system elapsed
0.25 0.07 0.28
metabinR.Rcheck/tests/testthat.Rout
R version 4.4.0 (2024-04-24 ucrt) -- "Puppy Cup"
Copyright (C) 2024 The R Foundation for Statistical Computing
Platform: x86_64-w64-mingw32/x64
R is free software and comes with ABSOLUTELY NO WARRANTY.
You are welcome to redistribute it under certain conditions.
Type 'license()' or 'licence()' for distribution details.
R is a collaborative project with many contributors.
Type 'contributors()' for more information and
'citation()' on how to cite R or R packages in publications.
Type 'demo()' for some demos, 'help()' for on-line help, or
'help.start()' for an HTML browser interface to help.
Type 'q()' to quit R.
> library(testthat)
> library(metabinR)
>
> test_check("metabinR")
version MTxAB =Wed Jun 26 15:43:26 EDT 2024
cpus=32
using=1
2024/06/27 03:23:07 Using Dictionary ORIGINAL
2024/06/27 03:23:07 START of AB Counting
2024/06/27 03:23:07 FastaManager: START READ
2024/06/27 03:23:07 SequenceProcessor: 0 AB_KMERCOUNT START
CHUNK_SIZE=67108864
2024/06/27 03:23:08 FastaManager: lines read 53328
2024/06/27 03:23:08 FastaManager: END READ
2024/06/27 03:23:08 FastaManager: FASTA
2024/06/27 03:23:09 SequenceProcessor: 0 AB_KMERCOUNT EXIT
2024/06/27 03:23:09 END of AB Counting
2024/06/27 03:23:09 Loaded sequences: 26664
2024/06/27 03:23:09 Total kmers(before remove): 65536
##### Heap utilization statistics [GB] #####
Max Memory=0.5
Current Total Memory=0.5
Current Used Memory=0.302
Current Free Memory=0.198
############################################
2024/06/27 03:23:09
Unique: 0
Distinct: 65536
Total: 7625904
MaxCount: 1574
2024/06/27 03:23:09 START of EMsync
Run=1
Run=2
Run=3
Run=4
Run=5
Run=6
Run=7
Run=8
Run=9
Run=10
Run=11
Run=12
Run=13
Run=14
Run=15
Run=16
Run=17
Run=18
Run=19
Run=20
Run=21
Run=22
Run=23
Run=24
Run=25
2024/06/27 03:23:09 Runs=25
2024/06/27 03:23:09 END of EMsync
2024/06/27 03:23:09 START of Creating AB Cluster Vectors
Cluster 1 Abundance=241.01134335779187 Length=16168.173737759438 LowLimit=163 HighLimit=318
Cluster 2 Abundance=75.53888858729701 Length=49367.826262240575 LowLimit=32 HighLimit=118
2024/06/27 03:23:09 Trove size/4=18022
2024/06/27 03:23:09 Trove size/4=18022
2024/06/27 03:23:09 Cluster 2 size in kmers=65536 norm=221.81983091435748
2024/06/27 03:23:09 Cluster 1 size in kmers=65536 norm=126.5058948513796
2024/06/27 03:23:09 END of Creating AB Cluster Vectors
cpus=32
using=1
2024/06/27 03:23:09 START of AB Binning
2024/06/27 03:23:09 FastaManager: START READ
2024/06/27 03:23:09 SequenceProcessor: 0 AB_BINNING START
2024/06/27 03:23:10 FastaManager: lines read 53328
2024/06/27 03:23:10 FastaManager: END READ
2024/06/27 03:23:10 FastaManager: FASTA
2024/06/27 03:23:12 SequenceProcessor: 0 AB_BINNING EXIT
2024/06/27 03:23:12 END of AB Binning
Clustered reads:
AB Cluster 1: 19871
AB Cluster 2: 6793
##### Heap utilization statistics [GB] #####
Max Memory=0.5
Current Total Memory=0.5
Current Used Memory=0.384
Current Free Memory=0.116
############################################
version MTxCB =Wed Jun 26 15:43:26 EDT 2024
cpus=32
using=1
2024/06/27 03:23:12 START of CB Counting
2024/06/27 03:23:12 FastaManager: START READ
2024/06/27 03:23:12 SequenceProcessor: 0 CB_SEQUENCEVECTORBUILD START
2024/06/27 03:23:12 FastaManager: lines read 53328
2024/06/27 03:23:12 FastaManager: END READ
2024/06/27 03:23:12 FastaManager: FASTA
2024/06/27 03:23:13 SequenceProcessor: 0 CB_SEQUENCEVECTORBUILD EXIT
2024/06/27 03:23:13 END of CB Counting
2024/06/27 03:23:13 Loaded sequences: 26664
##### Heap utilization statistics [GB] #####
Max Memory=0.5
Current Total Memory=0.5
Current Used Memory=0.4
Current Free Memory=0.1
############################################
cpus=32
using=1
2024/06/27 03:23:13 START of Creating CB Clusters Size=26664
K-Means clustering started
... centers initialized
... concurrent processing mode with 1 subtask threads
... iteration 1 moves = 5721
... iteration 2 moves = 1696
... iteration 3 moves = 625
... iteration 4 moves = 349
... iteration 5 moves = 234
... iteration 6 moves = 178
... iteration 7 moves = 107
... iteration 8 moves = 67
... iteration 9 moves = 34
... iteration 10 moves = 18
... iteration 11 moves = 29
... iteration 12 moves = 35
... iteration 13 moves = 18
... iteration 14 moves = 11
... iteration 15 moves = 17
... iteration 16 moves = 15
... iteration 17 moves = 15
... iteration 18 moves = 14
... iteration 19 moves = 34
... iteration 20 moves = 37
... iteration 21 moves = 21
... iteration 22 moves = 32
... iteration 23 moves = 30
... iteration 24 moves = 53
... iteration 25 moves = 31
...end. 7.07 seconds.
2024/06/27 03:23:20 : kMeans cleanup.
2024/06/27 03:23:20 END of Creating CB Clusters.
cpus=32
using=1
2024/06/27 03:23:20 START of CB Binning
2024/06/27 03:23:20 FastaManager: START READ
2024/06/27 03:23:20 SequenceProcessor: 0 CB_BINNING START
2024/06/27 03:23:20 FastaManager: lines read 53328
2024/06/27 03:23:20 FastaManager: END READ
2024/06/27 03:23:20 FastaManager: FASTA
2024/06/27 03:23:20 SequenceProcessor: 0 CB_BINNING EXIT
Clustered reads:
CB Cluster 1: 7534
CB Cluster 2: 19130
##### Heap utilization statistics [GB] #####
Max Memory=0.5
Current Total Memory=0.5
Current Used Memory=0.427
Current Free Memory=0.073
############################################
version MTxABxCB =Wed Jun 26 15:43:26 EDT 2024
cpus=32
using=1
2024/06/27 03:23:21 Using Dictionary ORIGINAL
2024/06/27 03:23:21 START of AB Counting
2024/06/27 03:23:21 FastaManager: START READ
2024/06/27 03:23:21 SequenceProcessor: 0 AB_KMERCOUNT START
2024/06/27 03:23:21 FastaManager: lines read 53328
2024/06/27 03:23:21 FastaManager: END READ
2024/06/27 03:23:21 FastaManager: FASTA
2024/06/27 03:23:22 SequenceProcessor: 0 AB_KMERCOUNT EXIT
2024/06/27 03:23:22 END of AB Counting
2024/06/27 03:23:22 Loaded sequences: 26664
2024/06/27 03:23:22 Distinct kmers(before remove): 65536
##### Heap utilization statistics [GB] #####
Max Memory=0.5
Current Total Memory=0.5
Current Used Memory=0.303
Current Free Memory=0.197
############################################
2024/06/27 03:23:22
Unique: 0
Distinct: 65536
Total: 7625904
MaxCount: 1574
2024/06/27 03:23:22 START of EMsync
Run=1
Run=2
Run=3
Run=4
Run=5
Run=6
Run=7
Run=8
Run=9
Run=10
Run=11
Run=12
Run=13
Run=14
Run=15
Run=16
Run=17
Run=18
Run=19
Run=20
Run=21
Run=22
Run=23
Run=24
Run=25
2024/06/27 03:23:22 Runs=25
2024/06/27 03:23:22 END of EMsync
2024/06/27 03:23:22 Filter before=2
2024/06/27 03:23:22 Filter after=2
2024/06/27 03:23:22 START of Creating AB Cluster Vectors
Cluster 1 Abundance=241.01134335779187 Length=16168.173737759438 LowLimit=163 HighLimit=318
Cluster 2 Abundance=75.53888858729701 Length=49367.826262240575 LowLimit=32 HighLimit=118
2024/06/27 03:23:22 Trove size/4=18022
2024/06/27 03:23:22 Trove size/4=18022
2024/06/27 03:23:22 Cluster 1 size in kmers=65536 norm=126.5058948513796
2024/06/27 03:23:22 Cluster 2 size in kmers=65536 norm=221.81983091435748
2024/06/27 03:23:22 END of Creating AB Cluster Vectors
cpus=32
using=1
2024/06/27 03:23:22 START of AB Binning
2024/06/27 03:23:22 FastaManager: START READ
2024/06/27 03:23:22 SequenceProcessor: 0 AB_BINNING START
2024/06/27 03:23:23 FastaManager: lines read 53328
2024/06/27 03:23:23 FastaManager: END READ
2024/06/27 03:23:23 FastaManager: FASTA
2024/06/27 03:23:25 SequenceProcessor: 0 AB_BINNING EXIT
2024/06/27 03:23:25 END of AB Binning
cpus=32
using=1
2024/06/27 03:23:25 START of CB Counting
2024/06/27 03:23:25 FastaManager: START READ
2024/06/27 03:23:25 SequenceProcessor: 0 CB_SEQUENCEVECTORBUILD START
2024/06/27 03:23:25 FastaManager: lines read 53328
2024/06/27 03:23:25 FastaManager: END READ
2024/06/27 03:23:25 FastaManager: FASTA
2024/06/27 03:23:25 SequenceProcessor: 0 CB_SEQUENCEVECTORBUILD EXIT
2024/06/27 03:23:25 END of CB Counting
2024/06/27 03:23:25 Loaded sequences: 26664
##### Heap utilization statistics [GB] #####
Max Memory=0.5
Current Total Memory=0.385
Current Used Memory=0.274
Current Free Memory=0.11
############################################
2024/06/27 03:23:25 AB Cluster=1 Size=19871
2024/06/27 03:23:25 AB Cluster=2 Size=6793
cpus=32
using=1
ABid size abundance EMLength newLength EMspecies newspecies
----- ---- --------- -------- --------- --------- ----------
1 19,871 241.01134 16,168 12,367 1 1
2024/06/27 03:23:25 START of Creating CB Clusters for AB Cluster=1 Size=19871
K-Means clustering started
... centers initialized
... concurrent processing mode with 1 subtask threads
... iteration 1 moves = 0
...end. 2.442 seconds.
2024/06/27 03:23:28 : kMeans cleanup.
2024/06/27 03:23:28 END of Creating CB Clusters for AB Cluster=1
cpus=32
using=1
ABid size abundance EMLength newLength EMspecies newspecies
----- ---- --------- -------- --------- --------- ----------
2 6,793 75.53889 49,367 13,489 1 1
2024/06/27 03:23:28 START of Creating CB Clusters for AB Cluster=2 Size=6793
K-Means clustering started
... centers initialized
... concurrent processing mode with 1 subtask threads
... iteration 1 moves = 0
...end. 0.768 seconds.
2024/06/27 03:23:29 : kMeans cleanup.
2024/06/27 03:23:29 END of Creating CB Clusters for AB Cluster=2
##### Heap utilization statistics [GB] #####
Max Memory=0.5
Current Total Memory=0.414
Current Used Memory=0.342
Current Free Memory=0.072
############################################
cpus=32
using=1
2024/06/27 03:23:29 START of CB Binning
2024/06/27 03:23:29 FastaManager: START READ
2024/06/27 03:23:29 SequenceProcessor: 0 CB_BINNING START
2024/06/27 03:23:29 FastaManager: lines read 53328
2024/06/27 03:23:29 FastaManager: END READ
2024/06/27 03:23:29 FastaManager: FASTA
2024/06/27 03:23:29 SequenceProcessor: 0 CB_BINNING EXIT
Clustered reads:
ABxCB Cluster 1: 19871
ABxCB Cluster 2: 6793
##### Heap utilization statistics [GB] #####
Max Memory=0.5
Current Total Memory=0.5
Current Used Memory=0.429
Current Free Memory=0.071
############################################
[ FAIL 0 | WARN 0 | SKIP 0 | PASS 52 ]
>
> proc.time()
user system elapsed
33.90 1.85 23.31
metabinR.Rcheck/metabinR-Ex.timings
| name | user | system | elapsed | |
| abundance_based_binning | 8.82 | 0.96 | 7.40 | |
| composition_based_binning | 6.84 | 1.00 | 2.70 | |
| hierarchical_binning | 5.37 | 0.61 | 3.93 | |