| Back to Multiple platform build/check report for BioC 3.19: simplified long |
|
This page was generated on 2024-05-09 11:41:00 -0400 (Thu, 09 May 2024).
| Hostname | OS | Arch (*) | R version | Installed pkgs |
|---|---|---|---|---|
| nebbiolo1 | Linux (Ubuntu 22.04.3 LTS) | x86_64 | 4.4.0 (2024-04-24) -- "Puppy Cup" | 4748 |
| palomino3 | Windows Server 2022 Datacenter | x64 | 4.4.0 (2024-04-24 ucrt) -- "Puppy Cup" | 4484 |
| lconway | macOS 12.7.1 Monterey | x86_64 | 4.4.0 (2024-04-24) -- "Puppy Cup" | 4514 |
| kunpeng2 | Linux (openEuler 22.03 LTS-SP1) | aarch64 | 4.4.0 beta (2024-04-15 r86425) -- "Puppy Cup" | 4480 |
| Click on any hostname to see more info about the system (e.g. compilers) (*) as reported by 'uname -p', except on Windows and Mac OS X | ||||
| Package 1061/2300 | Hostname | OS / Arch | INSTALL | BUILD | CHECK | BUILD BIN | ||||||||
| ISAnalytics 1.14.0 (landing page) Giulia Pais
| nebbiolo1 | Linux (Ubuntu 22.04.3 LTS) / x86_64 | OK | OK | OK | |||||||||
| palomino3 | Windows Server 2022 Datacenter / x64 | OK | OK | OK | OK | |||||||||
| lconway | macOS 12.7.1 Monterey / x86_64 | OK | OK | OK | OK | |||||||||
| kunpeng2 | Linux (openEuler 22.03 LTS-SP1) / aarch64 | OK | OK | OK | ||||||||||
| kjohnson3 | macOS 13.6.5 Ventura / arm64 | see weekly results here | ||||||||||||
|
To the developers/maintainers of the ISAnalytics package: - Allow up to 24 hours (and sometimes 48 hours) for your latest push to git@git.bioconductor.org:packages/ISAnalytics.git to reflect on this report. See Troubleshooting Build Report for more information. - Use the following Renviron settings to reproduce errors and warnings. - If 'R CMD check' started to fail recently on the Linux builder(s) over a missing dependency, add the missing dependency to 'Suggests:' in your DESCRIPTION file. See Renviron.bioc for more information. - See Martin Grigorov's blog post for how to debug Linux ARM64 related issues on a x86_64 host. |
| Package: ISAnalytics |
| Version: 1.14.0 |
| Command: /home/biocbuild/R/R-beta-2024-04-15_r86425/bin/R CMD check --install=check:ISAnalytics.install-out.txt --library=/home/biocbuild/R/R-beta-2024-04-15_r86425/site-library --no-vignettes --timings ISAnalytics_1.14.0.tar.gz |
| StartedAt: 2024-05-09 08:40:53 -0000 (Thu, 09 May 2024) |
| EndedAt: 2024-05-09 08:50:34 -0000 (Thu, 09 May 2024) |
| EllapsedTime: 581.1 seconds |
| RetCode: 0 |
| Status: OK |
| CheckDir: ISAnalytics.Rcheck |
| Warnings: 0 |
##############################################################################
##############################################################################
###
### Running command:
###
### /home/biocbuild/R/R-beta-2024-04-15_r86425/bin/R CMD check --install=check:ISAnalytics.install-out.txt --library=/home/biocbuild/R/R-beta-2024-04-15_r86425/site-library --no-vignettes --timings ISAnalytics_1.14.0.tar.gz
###
##############################################################################
##############################################################################
* using log directory ‘/home/biocbuild/bbs-3.19-bioc/meat/ISAnalytics.Rcheck’
* using R version 4.4.0 beta (2024-04-15 r86425)
* using platform: aarch64-unknown-linux-gnu
* R was compiled by
gcc (GCC) 10.3.1
GNU Fortran (GCC) 10.3.1
* running under: openEuler 22.03 (LTS-SP1)
* using session charset: UTF-8
* using option ‘--no-vignettes’
* checking for file ‘ISAnalytics/DESCRIPTION’ ... OK
* this is package ‘ISAnalytics’ version ‘1.14.0’
* package encoding: UTF-8
* checking package namespace information ... OK
* checking package dependencies ... OK
* checking if this is a source package ... OK
* checking if there is a namespace ... OK
* checking for hidden files and directories ... OK
* checking for portable file names ... OK
* checking for sufficient/correct file permissions ... OK
* checking whether package ‘ISAnalytics’ can be installed ... OK
* checking installed package size ... OK
* checking package directory ... OK
* checking ‘build’ directory ... OK
* checking DESCRIPTION meta-information ... OK
* checking top-level files ... OK
* checking for left-over files ... OK
* checking index information ... OK
* checking package subdirectories ... OK
* checking code files for non-ASCII characters ... OK
* checking R files for syntax errors ... OK
* checking whether the package can be loaded ... OK
* checking whether the package can be loaded with stated dependencies ... OK
* checking whether the package can be unloaded cleanly ... OK
* checking whether the namespace can be loaded with stated dependencies ... OK
* checking whether the namespace can be unloaded cleanly ... OK
* checking loading without being on the library search path ... OK
* checking whether startup messages can be suppressed ... OK
* checking dependencies in R code ... OK
* checking S3 generic/method consistency ... OK
* checking replacement functions ... OK
* checking foreign function calls ... OK
* checking R code for possible problems ... OK
* checking Rd files ... NOTE
checkRd: (-1) refGenes_hg19.Rd:21: Lost braces; missing escapes or markup?
21 | \item Download from {http://hgdownload.soe.ucsc.edu/goldenPath/hg19/database/}
| ^
* checking Rd metadata ... OK
* checking Rd cross-references ... OK
* checking for missing documentation entries ... OK
* checking for code/documentation mismatches ... OK
* checking Rd \usage sections ... OK
* checking Rd contents ... OK
* checking for unstated dependencies in examples ... OK
* checking contents of ‘data’ directory ... OK
* checking data for non-ASCII characters ... OK
* checking data for ASCII and uncompressed saves ... OK
* checking files in ‘vignettes’ ... OK
* checking examples ... OK
Examples with CPU (user + system) or elapsed time > 5s
user system elapsed
integration_alluvial_plot 4.075 0.135 11.141
sharing_venn 3.190 0.205 42.294
import_parallel_Vispa2Matrices 2.199 0.227 15.443
sharing_heatmap 1.647 0.159 11.516
CIS_grubbs_overtime 1.566 0.088 7.990
top_cis_overtime_heatmap 1.541 0.076 8.265
import_Vispa2_stats 1.431 0.144 7.517
iss_source 1.071 0.085 8.192
HSC_population_plot 0.912 0.077 7.376
is_sharing 0.921 0.054 9.333
realign_after_collisions 0.829 0.068 6.681
remove_collisions 0.808 0.053 6.603
compute_near_integrations 0.656 0.032 11.421
HSC_population_size_estimate 0.628 0.007 6.952
* checking for unstated dependencies in ‘tests’ ... OK
* checking tests ...
Running ‘testthat.R’
OK
* checking for unstated dependencies in vignettes ... OK
* checking package vignettes ... OK
* checking running R code from vignettes ... SKIPPED
* checking re-building of vignette outputs ... SKIPPED
* checking PDF version of manual ... OK
* DONE
Status: 1 NOTE
See
‘/home/biocbuild/bbs-3.19-bioc/meat/ISAnalytics.Rcheck/00check.log’
for details.
ISAnalytics.Rcheck/00install.out
############################################################################## ############################################################################## ### ### Running command: ### ### /home/biocbuild/R/R-beta-2024-04-15_r86425/bin/R CMD INSTALL ISAnalytics ### ############################################################################## ############################################################################## * installing to library ‘/home/biocbuild/R/R-beta-2024-04-15_r86425/site-library’ * installing *source* package ‘ISAnalytics’ ... ** using staged installation ** R ** data ** inst ** byte-compile and prepare package for lazy loading ** help *** installing help indices *** copying figures ** building package indices ** installing vignettes ** testing if installed package can be loaded from temporary location ** testing if installed package can be loaded from final location ** testing if installed package keeps a record of temporary installation path * DONE (ISAnalytics)
ISAnalytics.Rcheck/tests/testthat.Rout
R version 4.4.0 beta (2024-04-15 r86425) -- "Puppy Cup"
Copyright (C) 2024 The R Foundation for Statistical Computing
Platform: aarch64-unknown-linux-gnu
R is free software and comes with ABSOLUTELY NO WARRANTY.
You are welcome to redistribute it under certain conditions.
Type 'license()' or 'licence()' for distribution details.
R is a collaborative project with many contributors.
Type 'contributors()' for more information and
'citation()' on how to cite R or R packages in publications.
Type 'demo()' for some demos, 'help()' for on-line help, or
'help.start()' for an HTML browser interface to help.
Type 'q()' to quit R.
> library(testthat)
> library(ISAnalytics)
>
> test_check("ISAnalytics")
Loading required namespace: plotly
Loading required namespace: rmarkdown
Report correctly saved
i Report saved to: /home/biocbuild/tmp/RtmpNOmUc2/file3682e17585c14c/2024-05-09_collision_removal_report.html
Report correctly saved
i Report saved to: /home/biocbuild/tmp/RtmpNOmUc2/file3682e176450799/2024-05-09_outlier_test_pool_fragments_report.html
[ FAIL 0 | WARN 0 | SKIP 0 | PASS 834 ]
>
> proc.time()
user system elapsed
125.227 5.174 321.042
ISAnalytics.Rcheck/ISAnalytics-Ex.timings
| name | user | system | elapsed | |
| CIS_grubbs | 1.348 | 0.064 | 1.415 | |
| CIS_grubbs_overtime | 1.566 | 0.088 | 7.990 | |
| CIS_volcano_plot | 1.768 | 0.319 | 2.091 | |
| HSC_population_plot | 0.912 | 0.077 | 7.376 | |
| HSC_population_size_estimate | 0.628 | 0.007 | 6.952 | |
| NGSdataExplorer | 0 | 0 | 0 | |
| aggregate_metadata | 0.144 | 0.000 | 0.145 | |
| aggregate_values_by_key | 0.103 | 0.000 | 0.103 | |
| annotation_issues | 0.038 | 0.000 | 0.037 | |
| as_sparse_matrix | 0.072 | 0.000 | 0.072 | |
| available_outlier_tests | 0.001 | 0.000 | 0.000 | |
| available_tags | 0.032 | 0.000 | 0.032 | |
| blood_lineages_default | 0.032 | 0.000 | 0.033 | |
| circos_genomic_density | 0 | 0 | 0 | |
| clinical_relevant_suspicious_genes | 0.018 | 0.000 | 0.018 | |
| comparison_matrix | 0.051 | 0.000 | 0.051 | |
| compute_abundance | 0.048 | 0.000 | 0.049 | |
| compute_near_integrations | 0.656 | 0.032 | 11.421 | |
| cumulative_count_union | 0.000 | 0.000 | 0.001 | |
| cumulative_is | 0.235 | 0.000 | 0.235 | |
| date_formats | 0 | 0 | 0 | |
| default_af_transform | 0 | 0 | 0 | |
| default_iss_file_prefixes | 0 | 0 | 0 | |
| default_meta_agg | 0.024 | 0.000 | 0.024 | |
| default_rec_agg_lambdas | 0.001 | 0.000 | 0.001 | |
| default_report_path | 0.009 | 0.000 | 0.009 | |
| default_stats | 1.389 | 0.020 | 1.412 | |
| enable_progress_bars | 0.02 | 0.00 | 0.02 | |
| export_ISA_settings | 0.095 | 0.000 | 0.095 | |
| fisher_scatterplot | 1.828 | 0.068 | 1.899 | |
| gene_frequency_fisher | 1.238 | 0.016 | 1.256 | |
| generate_Vispa2_launch_AF | 0.257 | 0.024 | 0.281 | |
| generate_blank_association_file | 0.013 | 0.005 | 0.018 | |
| generate_default_folder_structure | 0.503 | 0.073 | 0.542 | |
| import_ISA_settings | 0.083 | 0.000 | 0.084 | |
| import_Vispa2_stats | 1.431 | 0.144 | 7.517 | |
| import_association_file | 0.824 | 0.163 | 0.940 | |
| import_parallel_Vispa2Matrices | 2.199 | 0.227 | 15.443 | |
| import_single_Vispa2Matrix | 1.102 | 0.153 | 1.212 | |
| inspect_tags | 0.017 | 0.000 | 0.018 | |
| integration_alluvial_plot | 4.075 | 0.135 | 11.141 | |
| is_sharing | 0.921 | 0.054 | 9.333 | |
| iss_source | 1.071 | 0.085 | 8.192 | |
| known_clinical_oncogenes | 0.016 | 0.000 | 0.016 | |
| mandatory_IS_vars | 0.143 | 0.004 | 0.146 | |
| matching_options | 0 | 0 | 0 | |
| outlier_filter | 0.227 | 0.011 | 0.239 | |
| outliers_by_pool_fragments | 0.230 | 0.001 | 0.231 | |
| pcr_id_column | 0.027 | 0.000 | 0.026 | |
| purity_filter | 0.507 | 0.083 | 0.591 | |
| quantification_types | 0.001 | 0.000 | 0.000 | |
| realign_after_collisions | 0.829 | 0.068 | 6.681 | |
| reduced_AF_columns | 0.063 | 0.000 | 0.062 | |
| refGene_table_cols | 0.001 | 0.000 | 0.000 | |
| remove_collisions | 0.808 | 0.053 | 6.603 | |
| reset_mandatory_IS_vars | 0.007 | 0.000 | 0.008 | |
| sample_statistics | 0.454 | 0.036 | 0.491 | |
| separate_quant_matrices | 0.012 | 0.008 | 0.019 | |
| set_mandatory_IS_vars | 0.143 | 0.016 | 0.163 | |
| set_matrix_file_suffixes | 0.025 | 0.004 | 0.028 | |
| sharing_heatmap | 1.647 | 0.159 | 11.516 | |
| sharing_venn | 3.190 | 0.205 | 42.294 | |
| threshold_filter | 0 | 0 | 0 | |
| top_abund_tableGrob | 0.983 | 0.023 | 1.008 | |
| top_cis_overtime_heatmap | 1.541 | 0.076 | 8.265 | |
| top_integrations | 0.042 | 0.000 | 0.042 | |
| top_targeted_genes | 0.683 | 0.043 | 0.728 | |
| transform_columns | 0.029 | 0.000 | 0.029 | |