| Back to Multiple platform build/check report for BioC 3.19: simplified long |
|
This page was generated on 2024-06-11 14:42 -0400 (Tue, 11 Jun 2024).
| Hostname | OS | Arch (*) | R version | Installed pkgs |
|---|---|---|---|---|
| nebbiolo1 | Linux (Ubuntu 22.04.3 LTS) | x86_64 | 4.4.0 (2024-04-24) -- "Puppy Cup" | 4757 |
| palomino3 | Windows Server 2022 Datacenter | x64 | 4.4.0 (2024-04-24 ucrt) -- "Puppy Cup" | 4491 |
| lconway | macOS 12.7.1 Monterey | x86_64 | 4.4.0 (2024-04-24) -- "Puppy Cup" | 4522 |
| kjohnson3 | macOS 13.6.5 Ventura | arm64 | 4.4.0 (2024-04-24) -- "Puppy Cup" | 4468 |
| Click on any hostname to see more info about the system (e.g. compilers) (*) as reported by 'uname -p', except on Windows and Mac OS X | ||||
| Package 1061/2300 | Hostname | OS / Arch | INSTALL | BUILD | CHECK | BUILD BIN | ||||||||
| ISAnalytics 1.14.0 (landing page) Giulia Pais
| nebbiolo1 | Linux (Ubuntu 22.04.3 LTS) / x86_64 | OK | OK | OK | |||||||||
| palomino3 | Windows Server 2022 Datacenter / x64 | OK | OK | OK | OK | |||||||||
| lconway | macOS 12.7.1 Monterey / x86_64 | OK | OK | OK | OK | |||||||||
| kjohnson3 | macOS 13.6.5 Ventura / arm64 | OK | OK | OK | OK | |||||||||
|
To the developers/maintainers of the ISAnalytics package: - Allow up to 24 hours (and sometimes 48 hours) for your latest push to git@git.bioconductor.org:packages/ISAnalytics.git to reflect on this report. See Troubleshooting Build Report for more information. - Use the following Renviron settings to reproduce errors and warnings. - If 'R CMD check' started to fail recently on the Linux builder(s) over a missing dependency, add the missing dependency to 'Suggests:' in your DESCRIPTION file. See Renviron.bioc for more information. |
| Package: ISAnalytics |
| Version: 1.14.0 |
| Command: /Library/Frameworks/R.framework/Resources/bin/R CMD check --install=check:ISAnalytics.install-out.txt --library=/Library/Frameworks/R.framework/Resources/library --no-vignettes --timings ISAnalytics_1.14.0.tar.gz |
| StartedAt: 2024-06-09 21:03:59 -0400 (Sun, 09 Jun 2024) |
| EndedAt: 2024-06-09 21:12:39 -0400 (Sun, 09 Jun 2024) |
| EllapsedTime: 519.7 seconds |
| RetCode: 0 |
| Status: OK |
| CheckDir: ISAnalytics.Rcheck |
| Warnings: 0 |
##############################################################################
##############################################################################
###
### Running command:
###
### /Library/Frameworks/R.framework/Resources/bin/R CMD check --install=check:ISAnalytics.install-out.txt --library=/Library/Frameworks/R.framework/Resources/library --no-vignettes --timings ISAnalytics_1.14.0.tar.gz
###
##############################################################################
##############################################################################
* using log directory ‘/Users/biocbuild/bbs-3.19-bioc/meat/ISAnalytics.Rcheck’
* using R version 4.4.0 (2024-04-24)
* using platform: x86_64-apple-darwin20
* R was compiled by
Apple clang version 14.0.0 (clang-1400.0.29.202)
GNU Fortran (GCC) 12.2.0
* running under: macOS Monterey 12.7.1
* using session charset: UTF-8
* using option ‘--no-vignettes’
* checking for file ‘ISAnalytics/DESCRIPTION’ ... OK
* this is package ‘ISAnalytics’ version ‘1.14.0’
* package encoding: UTF-8
* checking package namespace information ... OK
* checking package dependencies ... OK
* checking if this is a source package ... OK
* checking if there is a namespace ... OK
* checking for hidden files and directories ... OK
* checking for portable file names ... OK
* checking for sufficient/correct file permissions ... OK
* checking whether package ‘ISAnalytics’ can be installed ... OK
* checking installed package size ... OK
* checking package directory ... OK
* checking ‘build’ directory ... OK
* checking DESCRIPTION meta-information ... OK
* checking top-level files ... OK
* checking for left-over files ... OK
* checking index information ... OK
* checking package subdirectories ... OK
* checking code files for non-ASCII characters ... OK
* checking R files for syntax errors ... OK
* checking whether the package can be loaded ... OK
* checking whether the package can be loaded with stated dependencies ... OK
* checking whether the package can be unloaded cleanly ... OK
* checking whether the namespace can be loaded with stated dependencies ... OK
* checking whether the namespace can be unloaded cleanly ... OK
* checking whether startup messages can be suppressed ... OK
* checking dependencies in R code ... OK
* checking S3 generic/method consistency ... OK
* checking replacement functions ... OK
* checking foreign function calls ... OK
* checking R code for possible problems ... OK
* checking Rd files ... NOTE
checkRd: (-1) refGenes_hg19.Rd:21: Lost braces; missing escapes or markup?
21 | \item Download from {http://hgdownload.soe.ucsc.edu/goldenPath/hg19/database/}
| ^
* checking Rd metadata ... OK
* checking Rd cross-references ... OK
* checking for missing documentation entries ... OK
* checking for code/documentation mismatches ... OK
* checking Rd \usage sections ... OK
* checking Rd contents ... OK
* checking for unstated dependencies in examples ... OK
* checking contents of ‘data’ directory ... OK
* checking data for non-ASCII characters ... OK
* checking data for ASCII and uncompressed saves ... OK
* checking files in ‘vignettes’ ... OK
* checking examples ... OK
Examples with CPU (user + system) or elapsed time > 5s
user system elapsed
integration_alluvial_plot 2.564 0.045 8.815
import_parallel_Vispa2Matrices 1.877 0.137 14.301
CIS_grubbs_overtime 1.474 0.209 7.989
import_Vispa2_stats 1.284 0.122 6.272
sharing_venn 1.274 0.077 34.722
top_cis_overtime_heatmap 1.229 0.041 7.356
sharing_heatmap 1.100 0.023 9.556
iss_source 0.872 0.021 7.499
HSC_population_plot 0.801 0.018 6.610
remove_collisions 0.706 0.024 6.156
is_sharing 0.682 0.019 7.842
realign_after_collisions 0.681 0.017 5.891
HSC_population_size_estimate 0.556 0.014 6.167
compute_near_integrations 0.535 0.018 10.250
* checking for unstated dependencies in ‘tests’ ... OK
* checking tests ...
Running ‘testthat.R’
OK
* checking for unstated dependencies in vignettes ... OK
* checking package vignettes ... OK
* checking running R code from vignettes ... SKIPPED
* checking re-building of vignette outputs ... SKIPPED
* checking PDF version of manual ... OK
* DONE
Status: 1 NOTE
See
‘/Users/biocbuild/bbs-3.19-bioc/meat/ISAnalytics.Rcheck/00check.log’
for details.
ISAnalytics.Rcheck/00install.out
############################################################################## ############################################################################## ### ### Running command: ### ### /Library/Frameworks/R.framework/Resources/bin/R CMD INSTALL ISAnalytics ### ############################################################################## ############################################################################## * installing to library ‘/Library/Frameworks/R.framework/Versions/4.4-x86_64/Resources/library’ * installing *source* package ‘ISAnalytics’ ... ** using staged installation ** R ** data ** inst ** byte-compile and prepare package for lazy loading ** help *** installing help indices *** copying figures ** building package indices ** installing vignettes ** testing if installed package can be loaded from temporary location ** testing if installed package can be loaded from final location ** testing if installed package keeps a record of temporary installation path * DONE (ISAnalytics)
ISAnalytics.Rcheck/tests/testthat.Rout
R version 4.4.0 (2024-04-24) -- "Puppy Cup"
Copyright (C) 2024 The R Foundation for Statistical Computing
Platform: x86_64-apple-darwin20
R is free software and comes with ABSOLUTELY NO WARRANTY.
You are welcome to redistribute it under certain conditions.
Type 'license()' or 'licence()' for distribution details.
R is a collaborative project with many contributors.
Type 'contributors()' for more information and
'citation()' on how to cite R or R packages in publications.
Type 'demo()' for some demos, 'help()' for on-line help, or
'help.start()' for an HTML browser interface to help.
Type 'q()' to quit R.
> library(testthat)
> library(ISAnalytics)
>
> test_check("ISAnalytics")
Loading required namespace: plotly
Loading required namespace: rmarkdown
2024-06-09 21:08:48.807 R[73440:33001522] XType: com.apple.fonts is not accessible.
2024-06-09 21:08:48.807 R[73440:33001522] XType: XTFontStaticRegistry is enabled.
Report correctly saved
i Report saved to: /tmp/RtmphWvmst/file11ee0ca17362/2024-06-09_collision_removal_report.html
Report correctly saved
i Report saved to: /tmp/RtmphWvmst/file11ee01fd570ae/2024-06-09_outlier_test_pool_fragments_report.html
[ FAIL 0 | WARN 0 | SKIP 0 | PASS 834 ]
>
> proc.time()
user system elapsed
96.955 4.806 280.643
ISAnalytics.Rcheck/ISAnalytics-Ex.timings
| name | user | system | elapsed | |
| CIS_grubbs | 1.001 | 0.049 | 1.056 | |
| CIS_grubbs_overtime | 1.474 | 0.209 | 7.989 | |
| CIS_volcano_plot | 1.437 | 0.025 | 1.465 | |
| HSC_population_plot | 0.801 | 0.018 | 6.610 | |
| HSC_population_size_estimate | 0.556 | 0.014 | 6.167 | |
| NGSdataExplorer | 0.001 | 0.000 | 0.000 | |
| aggregate_metadata | 0.130 | 0.003 | 0.133 | |
| aggregate_values_by_key | 0.081 | 0.003 | 0.085 | |
| annotation_issues | 0.023 | 0.001 | 0.025 | |
| as_sparse_matrix | 0.045 | 0.001 | 0.046 | |
| available_outlier_tests | 0 | 0 | 0 | |
| available_tags | 0.02 | 0.00 | 0.02 | |
| blood_lineages_default | 0.020 | 0.000 | 0.019 | |
| circos_genomic_density | 0 | 0 | 0 | |
| clinical_relevant_suspicious_genes | 0.011 | 0.000 | 0.011 | |
| comparison_matrix | 0.032 | 0.001 | 0.032 | |
| compute_abundance | 0.031 | 0.001 | 0.031 | |
| compute_near_integrations | 0.535 | 0.018 | 10.250 | |
| cumulative_count_union | 0.001 | 0.000 | 0.000 | |
| cumulative_is | 0.205 | 0.003 | 0.209 | |
| date_formats | 0 | 0 | 0 | |
| default_af_transform | 0.001 | 0.000 | 0.000 | |
| default_iss_file_prefixes | 0 | 0 | 0 | |
| default_meta_agg | 0.019 | 0.000 | 0.019 | |
| default_rec_agg_lambdas | 0.000 | 0.000 | 0.001 | |
| default_report_path | 0.008 | 0.002 | 0.010 | |
| default_stats | 1.095 | 0.043 | 1.141 | |
| enable_progress_bars | 0.016 | 0.003 | 0.018 | |
| export_ISA_settings | 0.088 | 0.007 | 0.095 | |
| fisher_scatterplot | 1.174 | 0.027 | 1.204 | |
| gene_frequency_fisher | 1.308 | 0.018 | 1.329 | |
| generate_Vispa2_launch_AF | 0.257 | 0.019 | 0.286 | |
| generate_blank_association_file | 0.015 | 0.001 | 0.016 | |
| generate_default_folder_structure | 0.431 | 0.080 | 0.461 | |
| import_ISA_settings | 0.077 | 0.001 | 0.078 | |
| import_Vispa2_stats | 1.284 | 0.122 | 6.272 | |
| import_association_file | 0.735 | 0.114 | 0.785 | |
| import_parallel_Vispa2Matrices | 1.877 | 0.137 | 14.301 | |
| import_single_Vispa2Matrix | 0.975 | 0.117 | 1.045 | |
| inspect_tags | 0.013 | 0.000 | 0.014 | |
| integration_alluvial_plot | 2.564 | 0.045 | 8.815 | |
| is_sharing | 0.682 | 0.019 | 7.842 | |
| iss_source | 0.872 | 0.021 | 7.499 | |
| known_clinical_oncogenes | 0.010 | 0.000 | 0.011 | |
| mandatory_IS_vars | 0.104 | 0.007 | 0.112 | |
| matching_options | 0.000 | 0.000 | 0.001 | |
| outlier_filter | 0.188 | 0.009 | 0.196 | |
| outliers_by_pool_fragments | 0.192 | 0.002 | 0.194 | |
| pcr_id_column | 0.024 | 0.001 | 0.024 | |
| purity_filter | 0.390 | 0.004 | 0.396 | |
| quantification_types | 0.000 | 0.001 | 0.000 | |
| realign_after_collisions | 0.681 | 0.017 | 5.891 | |
| reduced_AF_columns | 0.059 | 0.001 | 0.060 | |
| refGene_table_cols | 0 | 0 | 0 | |
| remove_collisions | 0.706 | 0.024 | 6.156 | |
| reset_mandatory_IS_vars | 0.007 | 0.001 | 0.008 | |
| sample_statistics | 0.392 | 0.056 | 0.449 | |
| separate_quant_matrices | 0.016 | 0.001 | 0.017 | |
| set_mandatory_IS_vars | 0.115 | 0.004 | 0.119 | |
| set_matrix_file_suffixes | 0.022 | 0.000 | 0.022 | |
| sharing_heatmap | 1.100 | 0.023 | 9.556 | |
| sharing_venn | 1.274 | 0.077 | 34.722 | |
| threshold_filter | 0.001 | 0.001 | 0.001 | |
| top_abund_tableGrob | 0.782 | 0.010 | 0.795 | |
| top_cis_overtime_heatmap | 1.229 | 0.041 | 7.356 | |
| top_integrations | 0.025 | 0.000 | 0.025 | |
| top_targeted_genes | 0.363 | 0.002 | 0.364 | |
| transform_columns | 0.016 | 0.000 | 0.016 | |