| Back to Multiple platform build/check report for BioC 3.18: simplified long |
|
This page was generated on 2024-03-04 11:37:45 -0500 (Mon, 04 Mar 2024).
| Hostname | OS | Arch (*) | R version | Installed pkgs |
|---|---|---|---|---|
| nebbiolo2 | Linux (Ubuntu 22.04.3 LTS) | x86_64 | 4.3.2 Patched (2023-11-13 r85521) -- "Eye Holes" | 4692 |
| palomino4 | Windows Server 2022 Datacenter | x64 | 4.3.2 (2023-10-31 ucrt) -- "Eye Holes" | 4445 |
| lconway | macOS 12.7.1 Monterey | x86_64 | 4.3.2 Patched (2023-11-01 r85457) -- "Eye Holes" | 4466 |
| Click on any hostname to see more info about the system (e.g. compilers) (*) as reported by 'uname -p', except on Windows and Mac OS X | ||||
| Package 1711/2266 | Hostname | OS / Arch | INSTALL | BUILD | CHECK | BUILD BIN | ||||||||
| regioneR 1.34.0 (landing page) Bernat Gel
| nebbiolo2 | Linux (Ubuntu 22.04.3 LTS) / x86_64 | OK | OK | OK | |||||||||
| palomino4 | Windows Server 2022 Datacenter / x64 | OK | OK | OK | OK | |||||||||
| lconway | macOS 12.7.1 Monterey / x86_64 | OK | OK | OK | OK | |||||||||
| kjohnson1 | macOS 13.6.1 Ventura / arm64 | see weekly results here | ||||||||||||
|
To the developers/maintainers of the regioneR package: - Allow up to 24 hours (and sometimes 48 hours) for your latest push to git@git.bioconductor.org:packages/regioneR.git to reflect on this report. See Troubleshooting Build Report for more information. - Use the following Renviron settings to reproduce errors and warnings. - If 'R CMD check' started to fail recently on the Linux builder(s) over a missing dependency, add the missing dependency to 'Suggests:' in your DESCRIPTION file. See Renviron.bioc for more information. |
| Package: regioneR |
| Version: 1.34.0 |
| Command: /Library/Frameworks/R.framework/Resources/bin/R CMD check --install=check:regioneR.install-out.txt --library=/Library/Frameworks/R.framework/Resources/library --no-vignettes --timings regioneR_1.34.0.tar.gz |
| StartedAt: 2024-03-03 22:52:59 -0500 (Sun, 03 Mar 2024) |
| EndedAt: 2024-03-03 23:01:33 -0500 (Sun, 03 Mar 2024) |
| EllapsedTime: 514.2 seconds |
| RetCode: 0 |
| Status: OK |
| CheckDir: regioneR.Rcheck |
| Warnings: 0 |
##############################################################################
##############################################################################
###
### Running command:
###
### /Library/Frameworks/R.framework/Resources/bin/R CMD check --install=check:regioneR.install-out.txt --library=/Library/Frameworks/R.framework/Resources/library --no-vignettes --timings regioneR_1.34.0.tar.gz
###
##############################################################################
##############################################################################
* using log directory ‘/Users/biocbuild/bbs-3.18-bioc/meat/regioneR.Rcheck’
* using R version 4.3.2 Patched (2023-11-01 r85457)
* using platform: x86_64-apple-darwin20 (64-bit)
* R was compiled by
Apple clang version 14.0.3 (clang-1403.0.22.14.1)
GNU Fortran (GCC) 12.2.0
* running under: macOS Monterey 12.7.1
* using session charset: UTF-8
* using option ‘--no-vignettes’
* checking for file ‘regioneR/DESCRIPTION’ ... OK
* checking extension type ... Package
* this is package ‘regioneR’ version ‘1.34.0’
* package encoding: UTF-8
* checking package namespace information ... OK
* checking package dependencies ... OK
* checking if this is a source package ... OK
* checking if there is a namespace ... OK
* checking for hidden files and directories ... OK
* checking for portable file names ... OK
* checking for sufficient/correct file permissions ... OK
* checking whether package ‘regioneR’ can be installed ... OK
* checking installed package size ... OK
* checking package directory ... OK
* checking ‘build’ directory ... OK
* checking DESCRIPTION meta-information ... NOTE
Package listed in more than one of Depends, Imports, Suggests, Enhances:
‘GenomicRanges’
A package should be listed in only one of these fields.
* checking top-level files ... OK
* checking for left-over files ... OK
* checking index information ... OK
* checking package subdirectories ... OK
* checking R files for non-ASCII characters ... OK
* checking R files for syntax errors ... OK
* checking whether the package can be loaded ... OK
* checking whether the package can be loaded with stated dependencies ... OK
* checking whether the package can be unloaded cleanly ... OK
* checking whether the namespace can be loaded with stated dependencies ... OK
* checking whether the namespace can be unloaded cleanly ... OK
* checking dependencies in R code ... OK
* checking S3 generic/method consistency ... OK
* checking replacement functions ... OK
* checking foreign function calls ... OK
* checking R code for possible problems ... OK
* checking Rd files ... OK
* checking Rd metadata ... OK
* checking Rd cross-references ... OK
* checking for missing documentation entries ... OK
* checking for code/documentation mismatches ... OK
* checking Rd \usage sections ... OK
* checking Rd contents ... OK
* checking for unstated dependencies in examples ... OK
* checking files in ‘vignettes’ ... OK
* checking examples ... OK
Examples with CPU (user + system) or elapsed time > 5s
user system elapsed
circularRandomizeRegions 39.036 3.841 43.438
maskFromBSGenome 36.599 4.838 39.434
filterChromosomes 35.744 3.102 39.269
getMask 35.599 2.925 39.110
resampleGenome 9.268 1.052 10.416
localZScore 4.045 0.422 5.900
* checking for unstated dependencies in ‘tests’ ... OK
* checking tests ...
Running ‘testthat.R’
OK
* checking for unstated dependencies in vignettes ... OK
* checking package vignettes in ‘inst/doc’ ... OK
* checking running R code from vignettes ... SKIPPED
* checking re-building of vignette outputs ... SKIPPED
* checking PDF version of manual ... OK
* DONE
Status: 1 NOTE
See
‘/Users/biocbuild/bbs-3.18-bioc/meat/regioneR.Rcheck/00check.log’
for details.
regioneR.Rcheck/00install.out
############################################################################## ############################################################################## ### ### Running command: ### ### /Library/Frameworks/R.framework/Resources/bin/R CMD INSTALL regioneR ### ############################################################################## ############################################################################## * installing to library ‘/Library/Frameworks/R.framework/Versions/4.3-x86_64/Resources/library’ * installing *source* package ‘regioneR’ ... ** using staged installation ** R ** inst ** byte-compile and prepare package for lazy loading ** help *** installing help indices ** building package indices ** installing vignettes ** testing if installed package can be loaded from temporary location ** testing if installed package can be loaded from final location ** testing if installed package keeps a record of temporary installation path * DONE (regioneR)
regioneR.Rcheck/tests/testthat.Rout
R version 4.3.2 Patched (2023-11-01 r85457) -- "Eye Holes"
Copyright (C) 2023 The R Foundation for Statistical Computing
Platform: x86_64-apple-darwin20 (64-bit)
R is free software and comes with ABSOLUTELY NO WARRANTY.
You are welcome to redistribute it under certain conditions.
Type 'license()' or 'licence()' for distribution details.
R is a collaborative project with many contributors.
Type 'contributors()' for more information and
'citation()' on how to cite R or R packages in publications.
Type 'demo()' for some demos, 'help()' for on-line help, or
'help.start()' for an HTML browser interface to help.
Type 'q()' to quit R.
> library(testthat)
> library(regioneR)
Loading required package: GenomicRanges
Loading required package: stats4
Loading required package: BiocGenerics
Attaching package: 'BiocGenerics'
The following objects are masked from 'package:stats':
IQR, mad, sd, var, xtabs
The following objects are masked from 'package:base':
Filter, Find, Map, Position, Reduce, anyDuplicated, aperm, append,
as.data.frame, basename, cbind, colnames, dirname, do.call,
duplicated, eval, evalq, get, grep, grepl, intersect, is.unsorted,
lapply, mapply, match, mget, order, paste, pmax, pmax.int, pmin,
pmin.int, rank, rbind, rownames, sapply, setdiff, sort, table,
tapply, union, unique, unsplit, which.max, which.min
Loading required package: S4Vectors
Attaching package: 'S4Vectors'
The following object is masked from 'package:utils':
findMatches
The following objects are masked from 'package:base':
I, expand.grid, unname
Loading required package: IRanges
Loading required package: GenomeInfoDb
>
> test_check("regioneR")
[ FAIL 0 | WARN 0 | SKIP 0 | PASS 89 ]
>
> proc.time()
user system elapsed
57.134 5.450 64.456
regioneR.Rcheck/regioneR-Ex.timings
| name | user | system | elapsed | |
| characterToBSGenome | 2.414 | 0.982 | 3.516 | |
| circularRandomizeRegions | 39.036 | 3.841 | 43.438 | |
| commonRegions | 0.294 | 0.004 | 0.301 | |
| createFunctionsList | 0.507 | 0.023 | 0.533 | |
| createRandomRegions | 0.228 | 0.004 | 0.233 | |
| emptyCacheRegioneR | 0.001 | 0.000 | 0.001 | |
| extendRegions | 0.135 | 0.002 | 0.138 | |
| filterChromosomes | 35.744 | 3.102 | 39.269 | |
| getChromosomesByOrganism | 0.001 | 0.001 | 0.002 | |
| getGenome | 0.224 | 0.024 | 0.251 | |
| getGenomeAndMask | 0.058 | 0.002 | 0.062 | |
| getMask | 35.599 | 2.925 | 39.110 | |
| joinRegions | 0.152 | 0.003 | 0.158 | |
| listChrTypes | 0.010 | 0.001 | 0.011 | |
| localZScore | 4.045 | 0.422 | 5.900 | |
| maskFromBSGenome | 36.599 | 4.838 | 39.434 | |
| meanDistance | 0.099 | 0.002 | 0.101 | |
| meanInRegions | 0.111 | 0.001 | 0.113 | |
| mergeRegions | 0.097 | 0.002 | 0.101 | |
| numOverlaps | 0.198 | 0.002 | 0.203 | |
| overlapGraphicalSummary | 0.109 | 0.002 | 0.112 | |
| overlapPermTest | 1.802 | 0.020 | 1.835 | |
| overlapRegions | 0.044 | 0.001 | 0.044 | |
| permTest | 1.388 | 0.017 | 1.420 | |
| plot.localZScoreResults | 1.415 | 0.010 | 1.432 | |
| plot.localZScoreResultsList | 2.793 | 0.022 | 2.830 | |
| plot.permTestResults | 2.100 | 0.105 | 2.221 | |
| plot.permTestResultsList | 2.326 | 0.017 | 2.357 | |
| plotRegions | 0.044 | 0.001 | 0.044 | |
| print.permTestResults | 1.503 | 0.012 | 1.522 | |
| randomizeRegions | 0.272 | 0.003 | 0.275 | |
| recomputePermTest | 1.051 | 0.009 | 1.068 | |
| resampleGenome | 9.268 | 1.052 | 10.416 | |
| resampleRegions | 0.048 | 0.002 | 0.050 | |
| splitRegions | 0.080 | 0.002 | 0.082 | |
| subtractRegions | 0.175 | 0.002 | 0.176 | |
| toDataframe | 0.018 | 0.000 | 0.019 | |
| toGRanges | 0.746 | 0.067 | 0.818 | |
| uniqueRegions | 0.347 | 0.005 | 0.355 | |