| Back to Multiple platform build/check report for BioC 3.18: simplified long |
|
This page was generated on 2024-04-17 11:37:06 -0400 (Wed, 17 Apr 2024).
| Hostname | OS | Arch (*) | R version | Installed pkgs |
|---|---|---|---|---|
| nebbiolo2 | Linux (Ubuntu 22.04.3 LTS) | x86_64 | 4.3.3 (2024-02-29) -- "Angel Food Cake" | 4676 |
| palomino4 | Windows Server 2022 Datacenter | x64 | 4.3.3 (2024-02-29 ucrt) -- "Angel Food Cake" | 4414 |
| merida1 | macOS 12.7.1 Monterey | x86_64 | 4.3.3 (2024-02-29) -- "Angel Food Cake" | 4437 |
| Click on any hostname to see more info about the system (e.g. compilers) (*) as reported by 'uname -p', except on Windows and Mac OS X | ||||
| Package 1508/2266 | Hostname | OS / Arch | INSTALL | BUILD | CHECK | BUILD BIN | ||||||||
| pathVar 1.32.0 (landing page) Samuel Zimmerman
| nebbiolo2 | Linux (Ubuntu 22.04.3 LTS) / x86_64 | OK | OK | ERROR | |||||||||
| palomino4 | Windows Server 2022 Datacenter / x64 | OK | OK | OK | OK | |||||||||
| merida1 | macOS 12.7.1 Monterey / x86_64 | OK | OK | OK | OK | |||||||||
| kjohnson1 | macOS 13.6.1 Ventura / arm64 | see weekly results here | ||||||||||||
|
To the developers/maintainers of the pathVar package: - Allow up to 24 hours (and sometimes 48 hours) for your latest push to git@git.bioconductor.org:packages/pathVar.git to reflect on this report. See Troubleshooting Build Report for more information. - Use the following Renviron settings to reproduce errors and warnings. - If 'R CMD check' started to fail recently on the Linux builder(s) over a missing dependency, add the missing dependency to 'Suggests:' in your DESCRIPTION file. See Renviron.bioc for more information. |
| Package: pathVar |
| Version: 1.32.0 |
| Command: F:\biocbuild\bbs-3.18-bioc\R\bin\R.exe CMD check --no-multiarch --install=check:pathVar.install-out.txt --library=F:\biocbuild\bbs-3.18-bioc\R\library --no-vignettes --timings pathVar_1.32.0.tar.gz |
| StartedAt: 2024-04-16 03:37:00 -0400 (Tue, 16 Apr 2024) |
| EndedAt: 2024-04-16 03:41:01 -0400 (Tue, 16 Apr 2024) |
| EllapsedTime: 240.8 seconds |
| RetCode: 0 |
| Status: OK |
| CheckDir: pathVar.Rcheck |
| Warnings: 0 |
##############################################################################
##############################################################################
###
### Running command:
###
### F:\biocbuild\bbs-3.18-bioc\R\bin\R.exe CMD check --no-multiarch --install=check:pathVar.install-out.txt --library=F:\biocbuild\bbs-3.18-bioc\R\library --no-vignettes --timings pathVar_1.32.0.tar.gz
###
##############################################################################
##############################################################################
* using log directory 'F:/biocbuild/bbs-3.18-bioc/meat/pathVar.Rcheck'
* using R version 4.3.3 (2024-02-29 ucrt)
* using platform: x86_64-w64-mingw32 (64-bit)
* R was compiled by
gcc.exe (GCC) 12.3.0
GNU Fortran (GCC) 12.3.0
* running under: Windows Server 2022 x64 (build 20348)
* using session charset: UTF-8
* using option '--no-vignettes'
* checking for file 'pathVar/DESCRIPTION' ... OK
* checking extension type ... Package
* this is package 'pathVar' version '1.32.0'
* checking package namespace information ... OK
* checking package dependencies ... OK
* checking if this is a source package ... OK
* checking if there is a namespace ... OK
* checking for hidden files and directories ... OK
* checking for portable file names ... OK
* checking whether package 'pathVar' can be installed ... OK
* checking installed package size ... OK
* checking package directory ... OK
* checking 'build' directory ... OK
* checking DESCRIPTION meta-information ... OK
* checking top-level files ... OK
* checking for left-over files ... OK
* checking index information ... OK
* checking package subdirectories ... OK
* checking R files for non-ASCII characters ... OK
* checking R files for syntax errors ... OK
* checking whether the package can be loaded ... OK
* checking whether the package can be loaded with stated dependencies ... OK
* checking whether the package can be unloaded cleanly ... OK
* checking whether the namespace can be loaded with stated dependencies ... OK
* checking whether the namespace can be unloaded cleanly ... OK
* checking dependencies in R code ... OK
* checking S3 generic/method consistency ... OK
* checking replacement functions ... OK
* checking foreign function calls ... OK
* checking R code for possible problems ... NOTE
diagnosticsVarPlots: no visible binding for global variable 'avg'
diagnosticsVarPlots: no visible binding for global variable 'standDev'
diagnosticsVarPlots: no visible binding for global variable 'medAbsDev'
diagnosticsVarPlots: no visible binding for global variable 'cv'
diagnosticsVarPlotsTwoSample: no visible binding for global variable
'avg'
diagnosticsVarPlotsTwoSample: no visible binding for global variable
'standDev'
diagnosticsVarPlotsTwoSample: no visible binding for global variable
'medAbsDev'
diagnosticsVarPlotsTwoSample: no visible binding for global variable
'cv'
pathVarOneSample: no visible binding for global variable 'APval'
pathVarOneSample: no visible binding for global variable
'PercOfGenesInPway'
pathVarTwoSamplesCont: no visible binding for global variable 'APval'
pathVarTwoSamplesCont: no visible binding for global variable
'PercOfGenesInPway'
pathVarTwoSamplesDisc: no visible binding for global variable 'APval'
pathVarTwoSamplesDisc: no visible binding for global variable
'PercOfGenesInPway'
plotAllTwoSampleDistributionCounts: no visible binding for global
variable 'Cluster'
plotAllTwoSampleDistributionCounts: no visible binding for global
variable 'Number_of_genes'
plotOneSample: no visible binding for global variable 'Cluster'
plotOneSample: no visible binding for global variable 'Number_of_genes'
plotTwoSamplesCont: no visible binding for global variable 'PwayName'
plotTwoSamplesCont: no visible binding for global variable
'NumOfGenesFromDataSetInPathway'
plotTwoSamplesCont: no visible binding for global variable 'value'
plotTwoSamplesCont: no visible binding for global variable
'..density..'
plotTwoSamplesCont: no visible binding for global variable 'group'
plotTwoSamplesDisc: no visible binding for global variable 'Cluster'
plotTwoSamplesDisc: no visible binding for global variable
'Number_of_genes'
sigOneSample: no visible binding for global variable 'APval'
sigOneSample: no visible binding for global variable 'PwayName'
sigTwoSamplesCont: no visible binding for global variable 'APval'
sigTwoSamplesCont: no visible binding for global variable 'PwayName'
sigTwoSamplesDisc: no visible binding for global variable 'APval'
sigTwoSamplesDisc: no visible binding for global variable 'PwayName'
Undefined global functions or variables:
..density.. APval Cluster NumOfGenesFromDataSetInPathway
Number_of_genes PercOfGenesInPway PwayName avg cv group medAbsDev
standDev value
* checking Rd files ... OK
* checking Rd metadata ... OK
* checking Rd cross-references ... OK
* checking for missing documentation entries ... OK
* checking for code/documentation mismatches ... OK
* checking Rd \usage sections ... OK
* checking Rd contents ... OK
* checking for unstated dependencies in examples ... OK
* checking contents of 'data' directory ... OK
* checking data for non-ASCII characters ... OK
* checking LazyData ... OK
* checking data for ASCII and uncompressed saves ... OK
* checking sizes of PDF files under 'inst/doc' ... OK
* checking files in 'vignettes' ... OK
* checking examples ... OK
Examples with CPU (user + system) or elapsed time > 5s
user system elapsed
diagnosticsVarPlots 67.81 0.33 68.30
sigPway 60.75 0.50 61.35
diagnosticsVarPlotsTwoSample 38.46 0.27 38.90
* checking for unstated dependencies in vignettes ... OK
* checking package vignettes in 'inst/doc' ... OK
* checking running R code from vignettes ... SKIPPED
* checking re-building of vignette outputs ... SKIPPED
* checking PDF version of manual ... OK
* DONE
Status: 1 NOTE
See
'F:/biocbuild/bbs-3.18-bioc/meat/pathVar.Rcheck/00check.log'
for details.
pathVar.Rcheck/00install.out
############################################################################## ############################################################################## ### ### Running command: ### ### F:\biocbuild\bbs-3.18-bioc\R\bin\R.exe CMD INSTALL pathVar ### ############################################################################## ############################################################################## * installing to library 'F:/biocbuild/bbs-3.18-bioc/R/library' * installing *source* package 'pathVar' ... ** using staged installation ** R ** data *** moving datasets to lazyload DB ** inst ** byte-compile and prepare package for lazy loading ** help *** installing help indices ** building package indices ** installing vignettes ** testing if installed package can be loaded from temporary location ** testing if installed package can be loaded from final location ** testing if installed package keeps a record of temporary installation path * DONE (pathVar)
pathVar.Rcheck/pathVar-Ex.timings
| name | user | system | elapsed | |
| bock | 0.02 | 0.00 | 0.01 | |
| diagnosticsVarPlots | 67.81 | 0.33 | 68.30 | |
| diagnosticsVarPlotsTwoSample | 38.46 | 0.27 | 38.90 | |
| geneDistributionSet-class | 0.02 | 0.00 | 0.02 | |
| geneDistributionSet2-class | 0 | 0 | 0 | |
| geneDistributionSet3-class | 0 | 0 | 0 | |
| geneSet-class | 0.02 | 0.00 | 0.01 | |
| getGenes | 2.45 | 0.04 | 2.50 | |
| makeDBList | 0 | 0 | 0 | |
| pathVar-package | 4.22 | 0.06 | 4.33 | |
| pathVarOneSample | 3.47 | 0.04 | 3.53 | |
| pathVarTwoSamplesCont | 3.14 | 0.01 | 3.17 | |
| pathVarTwoSamplesDisc | 0.95 | 0.03 | 0.99 | |
| plotAllTwoSampleDistributionCounts | 3.19 | 0.49 | 3.67 | |
| plotPway | 3.92 | 0.06 | 3.98 | |
| pways.kegg | 0.00 | 0.02 | 0.02 | |
| pways.reactome | 0 | 0 | 0 | |
| saveAsPDF | 3.52 | 0.04 | 3.56 | |
| sigPway | 60.75 | 0.50 | 61.35 | |
| significantPathway-class | 0 | 0 | 0 | |
| significantPathway2-class | 0 | 0 | 0 | |
| significantPathway3-class | 0 | 0 | 0 | |