| Back to Multiple platform build/check report for BioC 3.18: simplified long |
|
This page was generated on 2024-04-17 11:37:04 -0400 (Wed, 17 Apr 2024).
| Hostname | OS | Arch (*) | R version | Installed pkgs |
|---|---|---|---|---|
| nebbiolo2 | Linux (Ubuntu 22.04.3 LTS) | x86_64 | 4.3.3 (2024-02-29) -- "Angel Food Cake" | 4676 |
| palomino4 | Windows Server 2022 Datacenter | x64 | 4.3.3 (2024-02-29 ucrt) -- "Angel Food Cake" | 4414 |
| merida1 | macOS 12.7.1 Monterey | x86_64 | 4.3.3 (2024-02-29) -- "Angel Food Cake" | 4437 |
| Click on any hostname to see more info about the system (e.g. compilers) (*) as reported by 'uname -p', except on Windows and Mac OS X | ||||
| Package 1441/2266 | Hostname | OS / Arch | INSTALL | BUILD | CHECK | BUILD BIN | ||||||||
| omada 1.4.0 (landing page) Sokratis Kariotis
| nebbiolo2 | Linux (Ubuntu 22.04.3 LTS) / x86_64 | OK | OK | OK | |||||||||
| palomino4 | Windows Server 2022 Datacenter / x64 | OK | OK | OK | OK | |||||||||
| merida1 | macOS 12.7.1 Monterey / x86_64 | OK | OK | OK | OK | |||||||||
| kjohnson1 | macOS 13.6.1 Ventura / arm64 | see weekly results here | ||||||||||||
|
To the developers/maintainers of the omada package: - Allow up to 24 hours (and sometimes 48 hours) for your latest push to git@git.bioconductor.org:packages/omada.git to reflect on this report. See Troubleshooting Build Report for more information. - Use the following Renviron settings to reproduce errors and warnings. - If 'R CMD check' started to fail recently on the Linux builder(s) over a missing dependency, add the missing dependency to 'Suggests:' in your DESCRIPTION file. See Renviron.bioc for more information. |
| Package: omada |
| Version: 1.4.0 |
| Command: F:\biocbuild\bbs-3.18-bioc\R\bin\R.exe CMD check --no-multiarch --install=check:omada.install-out.txt --library=F:\biocbuild\bbs-3.18-bioc\R\library --no-vignettes --timings omada_1.4.0.tar.gz |
| StartedAt: 2024-04-16 03:22:13 -0400 (Tue, 16 Apr 2024) |
| EndedAt: 2024-04-16 03:35:09 -0400 (Tue, 16 Apr 2024) |
| EllapsedTime: 775.6 seconds |
| RetCode: 0 |
| Status: OK |
| CheckDir: omada.Rcheck |
| Warnings: 0 |
##############################################################################
##############################################################################
###
### Running command:
###
### F:\biocbuild\bbs-3.18-bioc\R\bin\R.exe CMD check --no-multiarch --install=check:omada.install-out.txt --library=F:\biocbuild\bbs-3.18-bioc\R\library --no-vignettes --timings omada_1.4.0.tar.gz
###
##############################################################################
##############################################################################
* using log directory 'F:/biocbuild/bbs-3.18-bioc/meat/omada.Rcheck'
* using R version 4.3.3 (2024-02-29 ucrt)
* using platform: x86_64-w64-mingw32 (64-bit)
* R was compiled by
gcc.exe (GCC) 12.3.0
GNU Fortran (GCC) 12.3.0
* running under: Windows Server 2022 x64 (build 20348)
* using session charset: UTF-8
* using option '--no-vignettes'
* checking for file 'omada/DESCRIPTION' ... OK
* checking extension type ... Package
* this is package 'omada' version '1.4.0'
* package encoding: UTF-8
* checking package namespace information ... OK
* checking package dependencies ... NOTE
Depends: includes the non-default packages:
'pdfCluster', 'kernlab', 'fpc', 'Rcpp', 'diceR', 'ggplot2',
'reshape', 'genieclust', 'clValid', 'glmnet', 'dplyr'
Adding so many packages to the search path is excessive and importing
selectively is preferable.
* checking if this is a source package ... OK
* checking if there is a namespace ... OK
* checking for hidden files and directories ... OK
* checking for portable file names ... OK
* checking whether package 'omada' can be installed ... OK
* checking installed package size ... OK
* checking package directory ... OK
* checking 'build' directory ... OK
* checking DESCRIPTION meta-information ... NOTE
Package listed in more than one of Depends, Imports, Suggests, Enhances:
'clValid'
A package should be listed in only one of these fields.
* checking top-level files ... NOTE
File
LICENSE
is not mentioned in the DESCRIPTION file.
* checking for left-over files ... OK
* checking index information ... OK
* checking package subdirectories ... OK
* checking R files for non-ASCII characters ... OK
* checking R files for syntax errors ... OK
* checking whether the package can be loaded ... OK
* checking whether the package can be loaded with stated dependencies ... OK
* checking whether the package can be unloaded cleanly ... OK
* checking whether the namespace can be loaded with stated dependencies ... OK
* checking whether the namespace can be unloaded cleanly ... OK
* checking dependencies in R code ... NOTE
Packages in Depends field not imported from:
'Rcpp' 'genieclust' 'glmnet' 'kernlab' 'reshape'
These packages need to be imported from (in the NAMESPACE file)
for when this namespace is loaded but not attached.
* checking S3 generic/method consistency ... OK
* checking replacement functions ... OK
* checking foreign function calls ... OK
* checking R code for possible problems ... NOTE
Index.15and28: no visible global function definition for 'dist'
Index.15and28: no visible global function definition for 'as.dist'
Index.sPlussMoins: no visible global function definition for 'dist'
Index.sPlussMoins: no visible global function definition for 'as.dist'
Index.sPlussMoins: no visible global function definition for 'median'
Indice.cindex: no visible global function definition for 'dist'
clusterVoting: no visible global function definition for 'calinhara'
clusterVoting: no visible global function definition for
'generalised_dunn_index'
clusterVoting: no visible global function definition for
'silhouette_index'
clusterVoting: no visible global function definition for
'negated_davies_bouldin_index'
clusterVoting: no visible binding for global variable 'k'
clusterVoting: no visible binding for global variable 'Frequency'
clusteringMethodSelection: no visible binding for global variable
'value'
clusteringMethodSelection: no visible binding for global variable
'methods'
featureSelection: no visible binding for global variable 'featureSet'
featureSelection: no visible binding for global variable 'means'
geneSignatures: no visible global function definition for 'where'
geneSignatures: no visible binding for global variable 'features'
geneSignatures: no visible binding for global variable 'value'
geneSignatures: no visible binding for global variable 'variable'
Undefined global functions or variables:
Frequency as.dist calinhara dist featureSet features
generalised_dunn_index k means median methods
negated_davies_bouldin_index silhouette_index value variable where
Consider adding
importFrom("stats", "as.dist", "dist", "median")
importFrom("utils", "methods")
to your NAMESPACE file.
* checking Rd files ... OK
* checking Rd metadata ... OK
* checking Rd cross-references ... OK
* checking for missing documentation entries ... OK
* checking for code/documentation mismatches ... OK
* checking Rd \usage sections ... OK
* checking Rd contents ... OK
* checking for unstated dependencies in examples ... OK
* checking contents of 'data' directory ... OK
* checking data for non-ASCII characters ... OK
* checking LazyData ... OK
* checking data for ASCII and uncompressed saves ... OK
* checking files in 'vignettes' ... OK
* checking examples ... OK
Examples with CPU (user + system) or elapsed time > 5s
user system elapsed
get_feature_selection_scores 46.84 0.35 47.19
get_feature_selection_optimal_number_of_features 45.24 0.18 45.42
plot_signature_feature 36.97 0.39 38.77
get_cluster_voting_scores 32.81 0.18 32.98
get_feature_selection_optimal_features 32.64 0.27 32.91
get_cluster_voting_k_votes 32.15 0.14 32.34
get_signature_feature_coefs 31.13 0.19 31.32
get_cluster_voting_metric_votes 30.62 0.20 30.83
plot_partition_agreement 30.62 0.16 30.78
get_partition_agreement_scores 30.48 0.14 30.63
get_cluster_voting_memberships 30.13 0.22 30.36
plot_feature_selection 29.50 0.25 29.75
get_sample_memberships 27.97 0.22 28.19
plot_cluster_voting 25.50 0.14 25.66
omada 22.81 0.06 22.88
get_optimal_memberships 10.47 0.03 10.50
plot_average_stabilities 9.61 0.06 9.67
get_optimal_parameter_used 8.92 0.08 9.00
get_optimal_number_of_features 8.94 0.05 8.98
get_optimal_features 8.92 0.06 8.98
featureSelection 7.81 0.19 8.00
get_optimal_stability_score 7.74 0.01 7.75
get_average_feature_k_stabilities 5.12 0.06 5.19
* checking for unstated dependencies in 'tests' ... OK
* checking tests ...
Running 'testthat.R'
OK
* checking for unstated dependencies in vignettes ... OK
* checking package vignettes in 'inst/doc' ... OK
* checking running R code from vignettes ... SKIPPED
* checking re-building of vignette outputs ... SKIPPED
* checking PDF version of manual ... OK
* DONE
Status: 5 NOTEs
See
'F:/biocbuild/bbs-3.18-bioc/meat/omada.Rcheck/00check.log'
for details.
omada.Rcheck/00install.out
############################################################################## ############################################################################## ### ### Running command: ### ### F:\biocbuild\bbs-3.18-bioc\R\bin\R.exe CMD INSTALL omada ### ############################################################################## ############################################################################## * installing to library 'F:/biocbuild/bbs-3.18-bioc/R/library' * installing *source* package 'omada' ... ** using staged installation ** R ** data *** moving datasets to lazyload DB ** inst ** byte-compile and prepare package for lazy loading ** help *** installing help indices ** building package indices ** installing vignettes ** testing if installed package can be loaded from temporary location ** testing if installed package can be loaded from final location ** testing if installed package keeps a record of temporary installation path * DONE (omada)
omada.Rcheck/tests/testthat.Rout
R version 4.3.3 (2024-02-29 ucrt) -- "Angel Food Cake"
Copyright (C) 2024 The R Foundation for Statistical Computing
Platform: x86_64-w64-mingw32/x64 (64-bit)
R is free software and comes with ABSOLUTELY NO WARRANTY.
You are welcome to redistribute it under certain conditions.
Type 'license()' or 'licence()' for distribution details.
R is a collaborative project with many contributors.
Type 'contributors()' for more information and
'citation()' on how to cite R or R packages in publications.
Type 'demo()' for some demos, 'help()' for on-line help, or
'help.start()' for an HTML browser interface to help.
Type 'q()' to quit R.
> library(testthat)
> library(omada)
Loading required package: pdfCluster
pdfCluster 1.0-4
Loading required package: kernlab
Loading required package: fpc
Loading required package: Rcpp
Loading required package: diceR
Loading required package: ggplot2
Attaching package: 'ggplot2'
The following object is masked from 'package:kernlab':
alpha
Loading required package: reshape
Loading required package: genieclust
Loading required package: clValid
Loading required package: cluster
Loading required package: glmnet
Loading required package: Matrix
Attaching package: 'Matrix'
The following object is masked from 'package:reshape':
expand
Loaded glmnet 4.1-8
Loading required package: dplyr
Attaching package: 'dplyr'
The following object is masked from 'package:reshape':
rename
The following object is masked from 'package:pdfCluster':
groups
The following object is masked from 'package:testthat':
matches
The following objects are masked from 'package:stats':
filter, lag
The following objects are masked from 'package:base':
intersect, setdiff, setequal, union
>
> test_check("omada")
[ FAIL 0 | WARN 1 | SKIP 0 | PASS 38 ]
[ FAIL 0 | WARN 1 | SKIP 0 | PASS 38 ]
>
> proc.time()
user system elapsed
105.15 1.71 109.03
omada.Rcheck/omada-Ex.timings
| name | user | system | elapsed | |
| clusterVoting | 4.09 | 0.56 | 4.65 | |
| clusteringMethodSelection | 1.36 | 0.09 | 1.46 | |
| feasibilityAnalysis | 1.54 | 0.02 | 1.56 | |
| feasibilityAnalysisDataBased | 3.16 | 0.01 | 3.18 | |
| featureSelection | 7.81 | 0.19 | 8.00 | |
| geneSignatures | 0.69 | 0.00 | 0.69 | |
| get_agreement_scores | 0.14 | 0.00 | 0.14 | |
| get_average_feature_k_stabilities | 5.12 | 0.06 | 5.19 | |
| get_average_stabilities_per_k | 1.19 | 0.01 | 1.20 | |
| get_average_stability | 1.33 | 0.02 | 1.34 | |
| get_cluster_memberships_k | 0.91 | 0.03 | 0.94 | |
| get_cluster_voting_k_votes | 32.15 | 0.14 | 32.34 | |
| get_cluster_voting_memberships | 30.13 | 0.22 | 30.36 | |
| get_cluster_voting_metric_votes | 30.62 | 0.20 | 30.83 | |
| get_cluster_voting_scores | 32.81 | 0.18 | 32.98 | |
| get_coefficient_dataset | 0.45 | 0.01 | 0.47 | |
| get_feature_selection_optimal_features | 32.64 | 0.27 | 32.91 | |
| get_feature_selection_optimal_number_of_features | 45.24 | 0.18 | 45.42 | |
| get_feature_selection_scores | 46.84 | 0.35 | 47.19 | |
| get_generated_dataset | 2.58 | 0.03 | 2.61 | |
| get_internal_metric_scores | 0.77 | 0.03 | 0.79 | |
| get_max_stability | 1.07 | 0.02 | 1.10 | |
| get_metric_votes_k | 0.72 | 0.00 | 0.72 | |
| get_optimal_features | 8.92 | 0.06 | 8.98 | |
| get_optimal_memberships | 10.47 | 0.03 | 10.50 | |
| get_optimal_number_of_features | 8.94 | 0.05 | 8.98 | |
| get_optimal_parameter_used | 8.92 | 0.08 | 9.00 | |
| get_optimal_stability_score | 7.74 | 0.01 | 7.75 | |
| get_partition_agreement_scores | 30.48 | 0.14 | 30.63 | |
| get_sample_memberships | 27.97 | 0.22 | 28.19 | |
| get_signature_feature_coefs | 31.13 | 0.19 | 31.32 | |
| get_vote_frequencies_k | 1.01 | 0.03 | 1.05 | |
| omada | 22.81 | 0.06 | 22.88 | |
| optimalClustering | 0.08 | 0.00 | 0.07 | |
| partitionAgreement | 0.3 | 0.0 | 0.3 | |
| plot_average_stabilities | 9.61 | 0.06 | 9.67 | |
| plot_cluster_voting | 25.50 | 0.14 | 25.66 | |
| plot_feature_selection | 29.50 | 0.25 | 29.75 | |
| plot_partition_agreement | 30.62 | 0.16 | 30.78 | |
| plot_signature_feature | 36.97 | 0.39 | 38.77 | |
| plot_top30percent_coefficients | 0.81 | 0.02 | 0.82 | |
| plot_vote_frequencies | 1.14 | 0.04 | 1.19 | |
| toy_gene_memberships | 0.02 | 0.02 | 0.06 | |
| toy_genes | 0.01 | 0.00 | 0.02 | |