| Back to Multiple platform build/check report for BioC 3.18: simplified long |
|
This page was generated on 2024-04-17 11:36:59 -0400 (Wed, 17 Apr 2024).
| Hostname | OS | Arch (*) | R version | Installed pkgs |
|---|---|---|---|---|
| nebbiolo2 | Linux (Ubuntu 22.04.3 LTS) | x86_64 | 4.3.3 (2024-02-29) -- "Angel Food Cake" | 4676 |
| palomino4 | Windows Server 2022 Datacenter | x64 | 4.3.3 (2024-02-29 ucrt) -- "Angel Food Cake" | 4414 |
| merida1 | macOS 12.7.1 Monterey | x86_64 | 4.3.3 (2024-02-29) -- "Angel Food Cake" | 4437 |
| Click on any hostname to see more info about the system (e.g. compilers) (*) as reported by 'uname -p', except on Windows and Mac OS X | ||||
| Package 1247/2266 | Hostname | OS / Arch | INSTALL | BUILD | CHECK | BUILD BIN | ||||||||
| microbiome 1.24.0 (landing page) Leo Lahti
| nebbiolo2 | Linux (Ubuntu 22.04.3 LTS) / x86_64 | OK | OK | OK | |||||||||
| palomino4 | Windows Server 2022 Datacenter / x64 | OK | OK | OK | OK | |||||||||
| merida1 | macOS 12.7.1 Monterey / x86_64 | OK | OK | OK | OK | |||||||||
| kjohnson1 | macOS 13.6.1 Ventura / arm64 | see weekly results here | ||||||||||||
|
To the developers/maintainers of the microbiome package: - Allow up to 24 hours (and sometimes 48 hours) for your latest push to git@git.bioconductor.org:packages/microbiome.git to reflect on this report. See Troubleshooting Build Report for more information. - Use the following Renviron settings to reproduce errors and warnings. - If 'R CMD check' started to fail recently on the Linux builder(s) over a missing dependency, add the missing dependency to 'Suggests:' in your DESCRIPTION file. See Renviron.bioc for more information. |
| Package: microbiome |
| Version: 1.24.0 |
| Command: F:\biocbuild\bbs-3.18-bioc\R\bin\R.exe CMD check --no-multiarch --install=check:microbiome.install-out.txt --library=F:\biocbuild\bbs-3.18-bioc\R\library --no-vignettes --timings microbiome_1.24.0.tar.gz |
| StartedAt: 2024-04-16 02:36:58 -0400 (Tue, 16 Apr 2024) |
| EndedAt: 2024-04-16 02:40:31 -0400 (Tue, 16 Apr 2024) |
| EllapsedTime: 212.4 seconds |
| RetCode: 0 |
| Status: OK |
| CheckDir: microbiome.Rcheck |
| Warnings: 0 |
##############################################################################
##############################################################################
###
### Running command:
###
### F:\biocbuild\bbs-3.18-bioc\R\bin\R.exe CMD check --no-multiarch --install=check:microbiome.install-out.txt --library=F:\biocbuild\bbs-3.18-bioc\R\library --no-vignettes --timings microbiome_1.24.0.tar.gz
###
##############################################################################
##############################################################################
* using log directory 'F:/biocbuild/bbs-3.18-bioc/meat/microbiome.Rcheck'
* using R version 4.3.3 (2024-02-29 ucrt)
* using platform: x86_64-w64-mingw32 (64-bit)
* R was compiled by
gcc.exe (GCC) 12.3.0
GNU Fortran (GCC) 12.3.0
* running under: Windows Server 2022 x64 (build 20348)
* using session charset: UTF-8
* using option '--no-vignettes'
* checking for file 'microbiome/DESCRIPTION' ... OK
* checking extension type ... Package
* this is package 'microbiome' version '1.24.0'
* package encoding: UTF-8
* checking package namespace information ... OK
* checking package dependencies ... OK
* checking if this is a source package ... OK
* checking if there is a namespace ... OK
* checking for hidden files and directories ... OK
* checking for portable file names ... OK
* checking whether package 'microbiome' can be installed ... OK
* checking installed package size ... OK
* checking package directory ... OK
* checking 'build' directory ... OK
* checking DESCRIPTION meta-information ... OK
* checking top-level files ... OK
* checking for left-over files ... OK
* checking index information ... OK
* checking package subdirectories ... NOTE
Problems with news in 'NEWS':
Cannot process chunk/lines:
CHANGES IN VERSION 0.1.2
# New features
o Added plot_abundances function
o Added Chao1 index in richness function
o In atlas1006 data set, pseudocount of +1 in otu table has been
removed to facilitate comparison with sequencing data sets and to
avoid confusion
o In atlas1006 data set, only a single replicate per subject-time
combination is chosen (at random)
o New function collapse_replicates has been added
# Major changes
o Abundance matrices (otu tables) for all example data sets now
starting from 0 without pseudocount
# Minor changes
o Changed the default for the detection argument in the richness function to
detection=0
o Color order in plot_landscape legend now follows the factor levels
of the col argument
o Various minor fixes; see github commits for many more details
* checking R files for non-ASCII characters ... OK
* checking R files for syntax errors ... OK
* checking whether the package can be loaded ... OK
* checking whether the package can be loaded with stated dependencies ... OK
* checking whether the package can be unloaded cleanly ... OK
* checking whether the namespace can be loaded with stated dependencies ... OK
* checking whether the namespace can be unloaded cleanly ... OK
* checking startup messages can be suppressed ... OK
* checking dependencies in R code ... OK
* checking S3 generic/method consistency ... OK
* checking replacement functions ... OK
* checking foreign function calls ... OK
* checking R code for possible problems ... OK
* checking Rd files ... OK
* checking Rd metadata ... OK
* checking Rd cross-references ... OK
* checking for missing documentation entries ... OK
* checking for code/documentation mismatches ... OK
* checking Rd \usage sections ... OK
* checking Rd contents ... OK
* checking for unstated dependencies in examples ... OK
* checking contents of 'data' directory ... OK
* checking data for non-ASCII characters ... OK
* checking data for ASCII and uncompressed saves ... OK
* checking files in 'vignettes' ... OK
* checking examples ... OK
Examples with CPU (user + system) or elapsed time > 5s
user system elapsed
overlap 15.77 0.06 15.83
* checking for unstated dependencies in 'tests' ... OK
* checking tests ...
Running 'testthat.R'
OK
* checking for unstated dependencies in vignettes ... OK
* checking package vignettes in 'inst/doc' ... OK
* checking running R code from vignettes ... SKIPPED
* checking re-building of vignette outputs ... SKIPPED
* checking PDF version of manual ... OK
* DONE
Status: 1 NOTE
See
'F:/biocbuild/bbs-3.18-bioc/meat/microbiome.Rcheck/00check.log'
for details.
microbiome.Rcheck/00install.out
############################################################################## ############################################################################## ### ### Running command: ### ### F:\biocbuild\bbs-3.18-bioc\R\bin\R.exe CMD INSTALL microbiome ### ############################################################################## ############################################################################## * installing to library 'F:/biocbuild/bbs-3.18-bioc/R/library' * installing *source* package 'microbiome' ... ** using staged installation ** R ** data ** inst ** byte-compile and prepare package for lazy loading ** help *** installing help indices ** building package indices ** installing vignettes ** testing if installed package can be loaded from temporary location ** testing if installed package can be loaded from final location ** testing if installed package keeps a record of temporary installation path * DONE (microbiome)
microbiome.Rcheck/tests/testthat.Rout
R version 4.3.3 (2024-02-29 ucrt) -- "Angel Food Cake"
Copyright (C) 2024 The R Foundation for Statistical Computing
Platform: x86_64-w64-mingw32/x64 (64-bit)
R is free software and comes with ABSOLUTELY NO WARRANTY.
You are welcome to redistribute it under certain conditions.
Type 'license()' or 'licence()' for distribution details.
R is a collaborative project with many contributors.
Type 'contributors()' for more information and
'citation()' on how to cite R or R packages in publications.
Type 'demo()' for some demos, 'help()' for on-line help, or
'help.start()' for an HTML browser interface to help.
Type 'q()' to quit R.
> library(testthat)
> test_check("microbiome")
Loading required package: microbiome
Loading required package: phyloseq
Loading required package: ggplot2
microbiome R package (microbiome.github.com)
Copyright (C) 2011-2022 Leo Lahti,
Sudarshan Shetty et al. <microbiome.github.io>
Attaching package: 'microbiome'
The following object is masked from 'package:ggplot2':
alpha
The following object is masked from 'package:base':
transform
[ FAIL 0 | WARN 3 | SKIP 1 | PASS 83 ]
══ Skipped tests (1) ═══════════════════════════════════════════════════════════
• On Bioconductor (1): 'test_divergence.R:5:3'
[ FAIL 0 | WARN 3 | SKIP 1 | PASS 83 ]
>
> proc.time()
user system elapsed
12.09 0.78 13.23
microbiome.Rcheck/microbiome-Ex.timings
| name | user | system | elapsed | |
| TibbleUtilites | 0.25 | 0.00 | 0.25 | |
| abundances | 0.01 | 0.00 | 0.02 | |
| add_besthit | 0 | 0 | 0 | |
| add_refseq | 0 | 0 | 0 | |
| aggregate_rare | 0.82 | 0.02 | 0.84 | |
| aggregate_taxa | 0.07 | 0.01 | 0.10 | |
| alpha | 0.02 | 0.00 | 0.01 | |
| associate | 0.03 | 0.02 | 0.05 | |
| baseline | 0.05 | 0.00 | 0.05 | |
| bimodality | 0 | 0 | 0 | |
| bimodality_sarle | 0 | 0 | 0 | |
| boxplot_abundance | 0.11 | 0.00 | 0.11 | |
| boxplot_alpha | 0.40 | 0.02 | 0.42 | |
| chunk_reorder | 0 | 0 | 0 | |
| cmat2table | 0.05 | 0.01 | 0.06 | |
| collapse_replicates | 0.03 | 0.02 | 0.05 | |
| core | 0.02 | 0.01 | 0.03 | |
| core_abundance | 0.03 | 0.00 | 0.03 | |
| core_matrix | 0 | 0 | 0 | |
| core_members | 0.01 | 0.00 | 0.02 | |
| coverage | 0.02 | 0.02 | 0.03 | |
| default_colors | 0 | 0 | 0 | |
| densityplot | 0 | 0 | 0 | |
| divergence | 0.45 | 0.00 | 0.46 | |
| diversity | 0.00 | 0.00 | 0.09 | |
| dominance | 0.01 | 0.00 | 0.01 | |
| dominant | 0.00 | 0.01 | 0.02 | |
| estimate_stability | 0 | 0 | 0 | |
| evenness | 0.00 | 0.02 | 0.02 | |
| find_optima | 0 | 0 | 0 | |
| gktau | 0.02 | 0.00 | 0.01 | |
| group_age | 0.02 | 0.01 | 0.03 | |
| group_bmi | 0 | 0 | 0 | |
| heat | 0.04 | 0.00 | 0.05 | |
| hotplot | 0.21 | 0.07 | 0.27 | |
| inequality | 0.01 | 0.00 | 0.01 | |
| intermediate_stability | 0.47 | 0.00 | 0.47 | |
| is_compositional | 0.53 | 0.01 | 0.55 | |
| log_modulo_skewness | 0.09 | 0.00 | 0.09 | |
| low_abundance | 0.00 | 0.02 | 0.02 | |
| map_levels | 0.04 | 0.01 | 0.04 | |
| merge_taxa2 | 0.03 | 0.00 | 0.03 | |
| meta | 0 | 0 | 0 | |
| microbiome-package | 0.00 | 0.02 | 0.02 | |
| multimodality | 0 | 0 | 0 | |
| neat | 0.06 | 0.00 | 0.06 | |
| neatsort | 0.09 | 0.00 | 0.10 | |
| overlap | 15.77 | 0.06 | 15.83 | |
| plot_atlas | 0.05 | 0.00 | 0.06 | |
| plot_composition | 0.18 | 0.00 | 0.21 | |
| plot_core | 0.09 | 0.00 | 0.09 | |
| plot_density | 0.07 | 0.00 | 0.07 | |
| plot_frequencies | 0.03 | 0.00 | 0.03 | |
| plot_landscape | 0.68 | 0.01 | 0.70 | |
| plot_regression | 0.11 | 0.03 | 0.14 | |
| plot_taxa_prevalence | 0.43 | 0.00 | 0.42 | |
| plot_tipping | 0.10 | 0.00 | 0.11 | |
| potential_analysis | 0.04 | 0.00 | 0.05 | |
| potential_univariate | 0 | 0 | 0 | |
| prevalence | 0.01 | 0.02 | 0.03 | |
| psmelt2 | 0.08 | 0.00 | 0.08 | |
| quiet | 0 | 0 | 0 | |
| rare | 0.03 | 0.00 | 0.03 | |
| rare_abundance | 0.03 | 0.00 | 0.03 | |
| rare_members | 0.02 | 0.00 | 0.02 | |
| rarity | 0.04 | 0.02 | 0.06 | |
| read_biom2phyloseq | 0 | 0 | 0 | |
| read_csv2phyloseq | 0 | 0 | 0 | |
| read_mothur2phyloseq | 0 | 0 | 0 | |
| read_phyloseq | 0 | 0 | 0 | |
| readcount | 0.02 | 0.00 | 0.02 | |
| remove_samples | 0.02 | 0.00 | 0.01 | |
| remove_taxa | 0.01 | 0.00 | 0.02 | |
| richness | 0.02 | 0.00 | 0.01 | |
| spreadplot | 0.06 | 0.00 | 0.07 | |
| summarize_phyloseq | 0.02 | 0.00 | 0.01 | |
| taxa | 0.01 | 0.00 | 0.02 | |
| time_normalize | 0.03 | 0.00 | 0.03 | |
| time_sort | 0.13 | 0.00 | 0.12 | |
| timesplit | 0.12 | 0.01 | 0.14 | |
| top | 0 | 0 | 0 | |
| top_taxa | 0.00 | 0.02 | 0.02 | |
| transform | 0.25 | 0.01 | 0.66 | |
| ztransform | 0 | 0 | 0 | |