| Back to Multiple platform build/check report for BioC 3.18: simplified long |
|
This page was generated on 2024-04-17 11:37:46 -0400 (Wed, 17 Apr 2024).
| Hostname | OS | Arch (*) | R version | Installed pkgs |
|---|---|---|---|---|
| nebbiolo2 | Linux (Ubuntu 22.04.3 LTS) | x86_64 | 4.3.3 (2024-02-29) -- "Angel Food Cake" | 4676 |
| palomino4 | Windows Server 2022 Datacenter | x64 | 4.3.3 (2024-02-29 ucrt) -- "Angel Food Cake" | 4414 |
| merida1 | macOS 12.7.1 Monterey | x86_64 | 4.3.3 (2024-02-29) -- "Angel Food Cake" | 4437 |
| Click on any hostname to see more info about the system (e.g. compilers) (*) as reported by 'uname -p', except on Windows and Mac OS X | ||||
| Package 843/2266 | Hostname | OS / Arch | INSTALL | BUILD | CHECK | BUILD BIN | ||||||||
| gep2pep 1.22.0 (landing page) Francesco Napolitano
| nebbiolo2 | Linux (Ubuntu 22.04.3 LTS) / x86_64 | OK | OK | OK | |||||||||
| palomino4 | Windows Server 2022 Datacenter / x64 | OK | OK | OK | OK | |||||||||
| merida1 | macOS 12.7.1 Monterey / x86_64 | OK | OK | OK | OK | |||||||||
| kjohnson1 | macOS 13.6.1 Ventura / arm64 | see weekly results here | ||||||||||||
|
To the developers/maintainers of the gep2pep package: - Allow up to 24 hours (and sometimes 48 hours) for your latest push to git@git.bioconductor.org:packages/gep2pep.git to reflect on this report. See Troubleshooting Build Report for more information. - Use the following Renviron settings to reproduce errors and warnings. - If 'R CMD check' started to fail recently on the Linux builder(s) over a missing dependency, add the missing dependency to 'Suggests:' in your DESCRIPTION file. See Renviron.bioc for more information. |
| Package: gep2pep |
| Version: 1.22.0 |
| Command: /Library/Frameworks/R.framework/Resources/bin/R CMD check --install=check:gep2pep.install-out.txt --library=/Library/Frameworks/R.framework/Resources/library --no-vignettes --timings gep2pep_1.22.0.tar.gz |
| StartedAt: 2024-04-16 03:24:17 -0400 (Tue, 16 Apr 2024) |
| EndedAt: 2024-04-16 03:29:56 -0400 (Tue, 16 Apr 2024) |
| EllapsedTime: 338.7 seconds |
| RetCode: 0 |
| Status: OK |
| CheckDir: gep2pep.Rcheck |
| Warnings: 0 |
##############################################################################
##############################################################################
###
### Running command:
###
### /Library/Frameworks/R.framework/Resources/bin/R CMD check --install=check:gep2pep.install-out.txt --library=/Library/Frameworks/R.framework/Resources/library --no-vignettes --timings gep2pep_1.22.0.tar.gz
###
##############################################################################
##############################################################################
* using log directory ‘/Users/biocbuild/bbs-3.18-bioc/meat/gep2pep.Rcheck’
* using R version 4.3.3 (2024-02-29)
* using platform: x86_64-apple-darwin20 (64-bit)
* R was compiled by
Apple clang version 14.0.0 (clang-1400.0.29.202)
GNU Fortran (GCC) 12.2.0
* running under: macOS Monterey 12.7.1
* using session charset: UTF-8
* using option ‘--no-vignettes’
* checking for file ‘gep2pep/DESCRIPTION’ ... OK
* checking extension type ... Package
* this is package ‘gep2pep’ version ‘1.22.0’
* package encoding: UTF-8
* checking package namespace information ... OK
* checking package dependencies ... OK
* checking if this is a source package ... OK
* checking if there is a namespace ... OK
* checking for hidden files and directories ... OK
* checking for portable file names ... OK
* checking for sufficient/correct file permissions ... OK
* checking whether package ‘gep2pep’ can be installed ... OK
* checking installed package size ... OK
* checking package directory ... OK
* checking ‘build’ directory ... OK
* checking DESCRIPTION meta-information ... OK
* checking top-level files ... OK
* checking for left-over files ... OK
* checking index information ... OK
* checking package subdirectories ... OK
* checking R files for non-ASCII characters ... OK
* checking R files for syntax errors ... OK
* checking whether the package can be loaded ... OK
* checking whether the package can be loaded with stated dependencies ... OK
* checking whether the package can be unloaded cleanly ... OK
* checking whether the namespace can be loaded with stated dependencies ... OK
* checking whether the namespace can be unloaded cleanly ... OK
* checking dependencies in R code ... OK
* checking S3 generic/method consistency ... OK
* checking replacement functions ... OK
* checking foreign function calls ... OK
* checking R code for possible problems ... OK
* checking Rd files ... OK
* checking Rd metadata ... OK
* checking Rd cross-references ... OK
* checking for missing documentation entries ... OK
* checking for code/documentation mismatches ... OK
* checking Rd \usage sections ... OK
* checking Rd contents ... OK
* checking for unstated dependencies in examples ... OK
* checking files in ‘vignettes’ ... OK
* checking examples ... OK
* checking for unstated dependencies in ‘tests’ ... OK
* checking tests ...
Running ‘testthat.R’
OK
* checking for unstated dependencies in vignettes ... OK
* checking package vignettes in ‘inst/doc’ ... OK
* checking running R code from vignettes ... SKIPPED
* checking re-building of vignette outputs ... SKIPPED
* checking PDF version of manual ... OK
* DONE
Status: OK
gep2pep.Rcheck/00install.out
############################################################################## ############################################################################## ### ### Running command: ### ### /Library/Frameworks/R.framework/Resources/bin/R CMD INSTALL gep2pep ### ############################################################################## ############################################################################## * installing to library ‘/Library/Frameworks/R.framework/Versions/4.3-x86_64/Resources/library’ * installing *source* package ‘gep2pep’ ... ** using staged installation ** R ** inst ** byte-compile and prepare package for lazy loading ** help *** installing help indices ** building package indices ** installing vignettes ** testing if installed package can be loaded from temporary location ** testing if installed package can be loaded from final location ** testing if installed package keeps a record of temporary installation path * DONE (gep2pep)
gep2pep.Rcheck/tests/testthat.Rout
R version 4.3.3 (2024-02-29) -- "Angel Food Cake"
Copyright (C) 2024 The R Foundation for Statistical Computing
Platform: x86_64-apple-darwin20 (64-bit)
R is free software and comes with ABSOLUTELY NO WARRANTY.
You are welcome to redistribute it under certain conditions.
Type 'license()' or 'licence()' for distribution details.
R is a collaborative project with many contributors.
Type 'contributors()' for more information and
'citation()' on how to cite R or R packages in publications.
Type 'demo()' for some demos, 'help()' for on-line help, or
'help.start()' for an HTML browser interface to help.
Type 'q()' to quit R.
> library(testthat)
> library(gep2pep)
>
> test_check("gep2pep")
Chunk 1 of 2, 521 bytes (current file size: 4.3 Kb)
Chunk 2 of 2, 666 bytes (current file size: 16.3 Kb)
Chunk 1 of 2, 541 bytes (current file size: 4.3 Kb)
Chunk 2 of 2, 692 bytes (current file size: 16.3 Kb)
Chunk 1 of 2, 550 bytes (current file size: 4.3 Kb)
Chunk 2 of 2, 686 bytes (current file size: 16.3 Kb)
[ FAIL 0 | WARN 2273 | SKIP 1 | PASS 154 ]
══ Skipped tests (1) ═══════════════════════════════════════════════════════════
• empty test (1): 'test_rawMode.R:216:1'
[ FAIL 0 | WARN 2273 | SKIP 1 | PASS 154 ]
>
> proc.time()
user system elapsed
59.425 2.885 91.233
gep2pep.Rcheck/gep2pep-Ex.timings
| name | user | system | elapsed | |
| CategorizedCollection | 0.211 | 0.021 | 0.243 | |
| CondSEA | 2.024 | 0.194 | 2.532 | |
| PathSEA | 1.272 | 0.200 | 1.727 | |
| addSingleGeneSets | 1.227 | 0.142 | 1.693 | |
| as.CategorizedCollection | 0.603 | 0.146 | 0.926 | |
| buildPEPs | 1.056 | 0.153 | 1.500 | |
| checkRepository | 0.373 | 0.073 | 0.561 | |
| clearCache | 1.363 | 0.178 | 1.925 | |
| createMergedRepository | 1.208 | 0.226 | 1.702 | |
| createRepository | 0.293 | 0.071 | 0.459 | |
| exportSEA | 1.042 | 0.139 | 1.486 | |
| gene2pathways | 0.321 | 0.072 | 0.471 | |
| getCollections | 0.295 | 0.070 | 0.437 | |
| getDetails | 1.050 | 0.140 | 1.727 | |
| getResults | 1.044 | 0.142 | 1.384 | |
| importFromRawMode | 1.166 | 0.134 | 1.457 | |
| importMSigDB.xml | 0.289 | 0.067 | 0.366 | |
| loadCollection | 0.306 | 0.074 | 0.387 | |
| loadESmatrix | 0.910 | 0.129 | 1.069 | |
| loadPVmatrix | 1.340 | 0.163 | 1.529 | |
| loadSampleGEP | 0.002 | 0.001 | 0.003 | |
| loadSamplePWS | 0.002 | 0.001 | 0.003 | |
| makeCollectionIDs | 0.092 | 0.002 | 0.095 | |
| openRepository | 0.289 | 0.072 | 0.402 | |
| setId2setName | 0.087 | 0.002 | 0.091 | |