| Back to Multiple platform build/check report for BioC 3.18: simplified long |
|
This page was generated on 2024-04-17 11:37:45 -0400 (Wed, 17 Apr 2024).
| Hostname | OS | Arch (*) | R version | Installed pkgs |
|---|---|---|---|---|
| nebbiolo2 | Linux (Ubuntu 22.04.3 LTS) | x86_64 | 4.3.3 (2024-02-29) -- "Angel Food Cake" | 4676 |
| palomino4 | Windows Server 2022 Datacenter | x64 | 4.3.3 (2024-02-29 ucrt) -- "Angel Food Cake" | 4414 |
| merida1 | macOS 12.7.1 Monterey | x86_64 | 4.3.3 (2024-02-29) -- "Angel Food Cake" | 4437 |
| Click on any hostname to see more info about the system (e.g. compilers) (*) as reported by 'uname -p', except on Windows and Mac OS X | ||||
| Package 779/2266 | Hostname | OS / Arch | INSTALL | BUILD | CHECK | BUILD BIN | ||||||||
| gDRimport 1.0.0 (landing page) Arkadiusz Gladki
| nebbiolo2 | Linux (Ubuntu 22.04.3 LTS) / x86_64 | OK | OK | OK | |||||||||
| palomino4 | Windows Server 2022 Datacenter / x64 | OK | OK | OK | OK | |||||||||
| merida1 | macOS 12.7.1 Monterey / x86_64 | OK | OK | OK | OK | |||||||||
| kjohnson1 | macOS 13.6.1 Ventura / arm64 | see weekly results here | ||||||||||||
|
To the developers/maintainers of the gDRimport package: - Allow up to 24 hours (and sometimes 48 hours) for your latest push to git@git.bioconductor.org:packages/gDRimport.git to reflect on this report. See Troubleshooting Build Report for more information. - Use the following Renviron settings to reproduce errors and warnings. - If 'R CMD check' started to fail recently on the Linux builder(s) over a missing dependency, add the missing dependency to 'Suggests:' in your DESCRIPTION file. See Renviron.bioc for more information. |
| Package: gDRimport |
| Version: 1.0.0 |
| Command: /Library/Frameworks/R.framework/Resources/bin/R CMD check --install=check:gDRimport.install-out.txt --library=/Library/Frameworks/R.framework/Resources/library --no-vignettes --timings gDRimport_1.0.0.tar.gz |
| StartedAt: 2024-04-16 03:03:56 -0400 (Tue, 16 Apr 2024) |
| EndedAt: 2024-04-16 03:09:58 -0400 (Tue, 16 Apr 2024) |
| EllapsedTime: 362.4 seconds |
| RetCode: 0 |
| Status: OK |
| CheckDir: gDRimport.Rcheck |
| Warnings: 0 |
##############################################################################
##############################################################################
###
### Running command:
###
### /Library/Frameworks/R.framework/Resources/bin/R CMD check --install=check:gDRimport.install-out.txt --library=/Library/Frameworks/R.framework/Resources/library --no-vignettes --timings gDRimport_1.0.0.tar.gz
###
##############################################################################
##############################################################################
* using log directory ‘/Users/biocbuild/bbs-3.18-bioc/meat/gDRimport.Rcheck’
* using R version 4.3.3 (2024-02-29)
* using platform: x86_64-apple-darwin20 (64-bit)
* R was compiled by
Apple clang version 14.0.0 (clang-1400.0.29.202)
GNU Fortran (GCC) 12.2.0
* running under: macOS Monterey 12.7.1
* using session charset: UTF-8
* using option ‘--no-vignettes’
* checking for file ‘gDRimport/DESCRIPTION’ ... OK
* checking extension type ... Package
* this is package ‘gDRimport’ version ‘1.0.0’
* package encoding: UTF-8
* checking package namespace information ... OK
* checking package dependencies ... OK
* checking if this is a source package ... OK
* checking if there is a namespace ... OK
* checking for hidden files and directories ... OK
* checking for portable file names ... OK
* checking for sufficient/correct file permissions ... OK
* checking whether package ‘gDRimport’ can be installed ... OK
* checking installed package size ... OK
* checking package directory ... OK
* checking ‘build’ directory ... OK
* checking DESCRIPTION meta-information ... OK
* checking top-level files ... OK
* checking for left-over files ... OK
* checking index information ... OK
* checking package subdirectories ... OK
* checking R files for non-ASCII characters ... OK
* checking R files for syntax errors ... OK
* checking whether the package can be loaded ... OK
* checking whether the package can be loaded with stated dependencies ... OK
* checking whether the package can be unloaded cleanly ... OK
* checking whether the namespace can be loaded with stated dependencies ... OK
* checking whether the namespace can be unloaded cleanly ... OK
* checking dependencies in R code ... OK
* checking S3 generic/method consistency ... OK
* checking replacement functions ... OK
* checking foreign function calls ... OK
* checking R code for possible problems ... OK
* checking Rd files ... OK
* checking Rd metadata ... OK
* checking Rd cross-references ... OK
* checking for missing documentation entries ... OK
* checking for code/documentation mismatches ... OK
* checking Rd \usage sections ... OK
* checking Rd contents ... OK
* checking for unstated dependencies in examples ... OK
* checking files in ‘vignettes’ ... OK
* checking examples ... OK
Examples with CPU (user + system) or elapsed time > 5s
user system elapsed
convert_MAE_to_PSet 8.144 0.518 9.080
import_D300 5.736 0.693 7.219
* checking for unstated dependencies in ‘tests’ ... OK
* checking tests ...
Running ‘testthat.R’
OK
* checking for unstated dependencies in vignettes ... OK
* checking package vignettes in ‘inst/doc’ ... OK
* checking running R code from vignettes ... SKIPPED
* checking re-building of vignette outputs ... SKIPPED
* checking PDF version of manual ... OK
* DONE
Status: OK
gDRimport.Rcheck/00install.out
############################################################################## ############################################################################## ### ### Running command: ### ### /Library/Frameworks/R.framework/Resources/bin/R CMD INSTALL gDRimport ### ############################################################################## ############################################################################## * installing to library ‘/Library/Frameworks/R.framework/Versions/4.3-x86_64/Resources/library’ * installing *source* package ‘gDRimport’ ... ** using staged installation ** R ** inst ** byte-compile and prepare package for lazy loading ** help *** installing help indices ** building package indices ** installing vignettes ** testing if installed package can be loaded from temporary location ** testing if installed package can be loaded from final location ** testing if installed package keeps a record of temporary installation path * DONE (gDRimport)
gDRimport.Rcheck/tests/testthat.Rout
R version 4.3.3 (2024-02-29) -- "Angel Food Cake"
Copyright (C) 2024 The R Foundation for Statistical Computing
Platform: x86_64-apple-darwin20 (64-bit)
R is free software and comes with ABSOLUTELY NO WARRANTY.
You are welcome to redistribute it under certain conditions.
Type 'license()' or 'licence()' for distribution details.
R is a collaborative project with many contributors.
Type 'contributors()' for more information and
'citation()' on how to cite R or R packages in publications.
Type 'demo()' for some demos, 'help()' for on-line help, or
'help.start()' for an HTML browser interface to help.
Type 'q()' to quit R.
> library(testthat)
> library(gDRimport)
>
> test_check("gDRimport")
INFO [2024-04-16 03:09:11] Manifest loaded successfully
INFO [2024-04-16 03:09:11] Manifest loaded successfully
INFO [2024-04-16 03:09:12] Reading file /Library/Frameworks/R.framework/Versions/4.3-x86_64/Resources/library/gDRimport/extdata/data1/RawData_day0.xlsx, sheet Readout_0077vs0068_day7
INFO [2024-04-16 03:09:12] Plate 201904190a read; 384 wells
INFO [2024-04-16 03:09:12] Plate 201904190b read; 384 wells
INFO [2024-04-16 03:09:13] Plate 201904190c read; 384 wells
INFO [2024-04-16 03:09:13] Plate 201904190d read; 384 wells
INFO [2024-04-16 03:09:13] Plate 201904190e read; 384 wells
INFO [2024-04-16 03:09:13] Plate 201904190f read; 384 wells
INFO [2024-04-16 03:09:13] File done
INFO [2024-04-16 03:09:13] Reading file /Library/Frameworks/R.framework/Versions/4.3-x86_64/Resources/library/gDRimport/extdata/data1/RawData_day7.xlsx, sheet Readout_0077vs0068_day7
INFO [2024-04-16 03:09:13] Plate 201904197a read; 384 wells
INFO [2024-04-16 03:09:13] Plate 201904197b read; 384 wells
INFO [2024-04-16 03:09:13] Plate 201904197c read; 384 wells
INFO [2024-04-16 03:09:13] Plate 201904197d read; 384 wells
INFO [2024-04-16 03:09:13] Plate 201904197e read; 384 wells
INFO [2024-04-16 03:09:13] Plate 201904197f read; 384 wells
INFO [2024-04-16 03:09:13] File done
INFO [2024-04-16 03:09:14] Reading file /Library/Frameworks/R.framework/Versions/4.3-x86_64/Resources/library/gDRimport/extdata/data1/RawData_day0.xlsx, sheet Readout_0077vs0068_day7
INFO [2024-04-16 03:09:14] Plate 201904190a read; 384 wells
INFO [2024-04-16 03:09:14] Plate 201904190b read; 384 wells
INFO [2024-04-16 03:09:14] Plate 201904190c read; 384 wells
INFO [2024-04-16 03:09:15] Plate 201904190d read; 384 wells
INFO [2024-04-16 03:09:15] Plate 201904190e read; 384 wells
INFO [2024-04-16 03:09:15] Plate 201904190f read; 384 wells
INFO [2024-04-16 03:09:15] File done
INFO [2024-04-16 03:09:15] Reading file /Library/Frameworks/R.framework/Versions/4.3-x86_64/Resources/library/gDRimport/extdata/data1/RawData_day7.xlsx, sheet Readout_0077vs0068_day7
INFO [2024-04-16 03:09:15] Plate 201904197a read; 384 wells
INFO [2024-04-16 03:09:15] Plate 201904197b read; 384 wells
INFO [2024-04-16 03:09:15] Plate 201904197c read; 384 wells
INFO [2024-04-16 03:09:15] Plate 201904197d read; 384 wells
INFO [2024-04-16 03:09:15] Plate 201904197e read; 384 wells
INFO [2024-04-16 03:09:15] Plate 201904197f read; 384 wells
INFO [2024-04-16 03:09:15] File done
INFO [2024-04-16 03:09:16] Reading file /Library/Frameworks/R.framework/Versions/4.3-x86_64/Resources/library/gDRimport/extdata/data1/RawData_day0.xlsx, sheet Readout_0077vs0068_day7
INFO [2024-04-16 03:09:16] Plate 201904190a read; 384 wells
INFO [2024-04-16 03:09:16] Plate 201904190b read; 384 wells
INFO [2024-04-16 03:09:16] Plate 201904190c read; 384 wells
INFO [2024-04-16 03:09:16] Plate 201904190d read; 384 wells
INFO [2024-04-16 03:09:16] Plate 201904190e read; 384 wells
INFO [2024-04-16 03:09:16] Plate 201904190f read; 384 wells
INFO [2024-04-16 03:09:16] File done
INFO [2024-04-16 03:09:16] Reading file /Library/Frameworks/R.framework/Versions/4.3-x86_64/Resources/library/gDRimport/extdata/data2/RawData_Tecan_96_well_plates.xlsx, sheet H2122-2
INFO [2024-04-16 03:09:17] Reading file /Library/Frameworks/R.framework/Versions/4.3-x86_64/Resources/library/gDRimport/extdata/data2/RawData_Tecan_96_well_plates.xlsx, sheet H358-2
INFO [2024-04-16 03:09:17] Reading file /Library/Frameworks/R.framework/Versions/4.3-x86_64/Resources/library/gDRimport/extdata/data2/RawData_Tecan_96_well_plates.xlsx, sheet H358-1
INFO [2024-04-16 03:09:18] Reading file /Library/Frameworks/R.framework/Versions/4.3-x86_64/Resources/library/gDRimport/extdata/data2/RawData_Tecan_96_well_plates.xlsx, sheet H2122-1
INFO [2024-04-16 03:09:18] Reading Template_7daytreated.xlsx with load_templates_xlsx
INFO [2024-04-16 03:09:18] Loading Template_7daytreated.xlsx
INFO [2024-04-16 03:09:19] Loading Template_Untreated.xlsx
INFO [2024-04-16 03:09:19] Templates loaded successfully!
INFO [2024-04-16 03:09:19] Reading Template_7daytreated.xlsx with load_templates_xlsx
INFO [2024-04-16 03:09:19] Loading Template_7daytreated.xlsx
INFO [2024-04-16 03:09:19] Loading Template_Untreated.xlsx
INFO [2024-04-16 03:09:19] Templates loaded successfully!
INFO [2024-04-16 03:09:19] Reading D300_trt_Tecan_96_well_plates.xlsx with load_templates_xlsx
INFO [2024-04-16 03:09:19] Loading D300_trt_Tecan_96_well_plates.xlsx
INFO [2024-04-16 03:09:20] Templates loaded successfully!
INFO [2024-04-16 03:09:20] Reading Template_7daytreated.xlsx with load_templates_xlsx
INFO [2024-04-16 03:09:20] Loading Template_7daytreated.xlsx
INFO [2024-04-16 03:09:20] Templates loaded successfully!
INFO [2024-04-16 03:09:20] Manifest loaded successfully
INFO [2024-04-16 03:09:20] Reading Template_7daytreated.xlsx with load_templates_xlsx
INFO [2024-04-16 03:09:20] Loading Template_7daytreated.xlsx
INFO [2024-04-16 03:09:20] Loading Template_Untreated.xlsx
INFO [2024-04-16 03:09:21] Templates loaded successfully!
INFO [2024-04-16 03:09:21] Reading file /Library/Frameworks/R.framework/Versions/4.3-x86_64/Resources/library/gDRimport/extdata/data1/RawData_day0.xlsx, sheet Readout_0077vs0068_day7
INFO [2024-04-16 03:09:22] Plate 201904190a read; 384 wells
INFO [2024-04-16 03:09:22] Plate 201904190b read; 384 wells
INFO [2024-04-16 03:09:22] Plate 201904190c read; 384 wells
INFO [2024-04-16 03:09:22] Plate 201904190d read; 384 wells
INFO [2024-04-16 03:09:22] Plate 201904190e read; 384 wells
INFO [2024-04-16 03:09:22] Plate 201904190f read; 384 wells
INFO [2024-04-16 03:09:22] File done
INFO [2024-04-16 03:09:22] Reading file /Library/Frameworks/R.framework/Versions/4.3-x86_64/Resources/library/gDRimport/extdata/data1/RawData_day7.xlsx, sheet Readout_0077vs0068_day7
INFO [2024-04-16 03:09:23] Plate 201904197a read; 384 wells
INFO [2024-04-16 03:09:23] Plate 201904197b read; 384 wells
INFO [2024-04-16 03:09:23] Plate 201904197c read; 384 wells
INFO [2024-04-16 03:09:23] Plate 201904197d read; 384 wells
INFO [2024-04-16 03:09:23] Plate 201904197e read; 384 wells
INFO [2024-04-16 03:09:23] Plate 201904197f read; 384 wells
INFO [2024-04-16 03:09:23] File done
INFO [2024-04-16 03:09:23] Manifest loaded successfully
INFO [2024-04-16 03:09:23] Reading D300_trt_Tecan_96_well_plates.xlsx with load_templates_xlsx
INFO [2024-04-16 03:09:23] Loading D300_trt_Tecan_96_well_plates.xlsx
INFO [2024-04-16 03:09:23] Templates loaded successfully!
INFO [2024-04-16 03:09:23] Reading file /Library/Frameworks/R.framework/Versions/4.3-x86_64/Resources/library/gDRimport/extdata/data2/RawData_Tecan_96_well_plates.xlsx, sheet H2122-2
INFO [2024-04-16 03:09:24] Reading file /Library/Frameworks/R.framework/Versions/4.3-x86_64/Resources/library/gDRimport/extdata/data2/RawData_Tecan_96_well_plates.xlsx, sheet H358-2
INFO [2024-04-16 03:09:24] Reading file /Library/Frameworks/R.framework/Versions/4.3-x86_64/Resources/library/gDRimport/extdata/data2/RawData_Tecan_96_well_plates.xlsx, sheet H358-1
INFO [2024-04-16 03:09:25] Reading file /Library/Frameworks/R.framework/Versions/4.3-x86_64/Resources/library/gDRimport/extdata/data2/RawData_Tecan_96_well_plates.xlsx, sheet H2122-1
INFO [2024-04-16 03:09:25] Manifest loaded successfully
INFO [2024-04-16 03:09:25] Reading Project40.treated.template.xlsx with load_templates_xlsx
INFO [2024-04-16 03:09:25] Loading Project40.treated.template.xlsx
INFO [2024-04-16 03:09:25] Loading Project40.untreated.template.xlsx
INFO [2024-04-16 03:09:26] Templates loaded successfully!
INFO [2024-04-16 03:09:26] Reading file /Library/Frameworks/R.framework/Versions/4.3-x86_64/Resources/library/gDRimport/extdata/data4/H0109269D00.csv, sheet 0
INFO [2024-04-16 03:09:26] Plate H0109269D00 read; 384 wells
INFO [2024-04-16 03:09:26] File done
INFO [2024-04-16 03:09:26] Reading file /Library/Frameworks/R.framework/Versions/4.3-x86_64/Resources/library/gDRimport/extdata/data4/H0109269D01.csv, sheet 0
INFO [2024-04-16 03:09:26] Plate H0109269D01 read; 384 wells
INFO [2024-04-16 03:09:26] File done
INFO [2024-04-16 03:09:26] Reading file /Library/Frameworks/R.framework/Versions/4.3-x86_64/Resources/library/gDRimport/extdata/data4/H0309269D00.csv, sheet 0
INFO [2024-04-16 03:09:26] Plate H0309269D00 read; 384 wells
INFO [2024-04-16 03:09:26] File done
INFO [2024-04-16 03:09:26] Reading file /Library/Frameworks/R.framework/Versions/4.3-x86_64/Resources/library/gDRimport/extdata/data4/H0309269D01.csv, sheet 0
INFO [2024-04-16 03:09:26] Plate H0309269D01 read; 384 wells
INFO [2024-04-16 03:09:26] File done
INFO [2024-04-16 03:09:26] Reading file /Library/Frameworks/R.framework/Versions/4.3-x86_64/Resources/library/gDRimport/extdata/data4/H0409269D00.csv, sheet 0
INFO [2024-04-16 03:09:26] Plate H0409269D00 read; 384 wells
INFO [2024-04-16 03:09:26] File done
INFO [2024-04-16 03:09:26] Reading file /Library/Frameworks/R.framework/Versions/4.3-x86_64/Resources/library/gDRimport/extdata/data4/H0409269D01.csv, sheet 0
INFO [2024-04-16 03:09:26] Plate H0409269D01 read; 384 wells
INFO [2024-04-16 03:09:26] File done
INFO [2024-04-16 03:09:26] Reading file /Library/Frameworks/R.framework/Versions/4.3-x86_64/Resources/library/gDRimport/extdata/data4/H0509269D00.csv, sheet 0
INFO [2024-04-16 03:09:26] Plate H0509269D00 read; 384 wells
INFO [2024-04-16 03:09:26] File done
INFO [2024-04-16 03:09:26] Reading file /Library/Frameworks/R.framework/Versions/4.3-x86_64/Resources/library/gDRimport/extdata/data4/H0509269D01.csv, sheet 0
INFO [2024-04-16 03:09:26] Plate H0509269D01 read; 384 wells
INFO [2024-04-16 03:09:26] File done
INFO [2024-04-16 03:09:26] Reading file /Library/Frameworks/R.framework/Versions/4.3-x86_64/Resources/library/gDRimport/extdata/data4/H0609269D00.csv, sheet 0
INFO [2024-04-16 03:09:26] Plate H0609269D00 read; 384 wells
INFO [2024-04-16 03:09:26] File done
INFO [2024-04-16 03:09:26] Reading file /Library/Frameworks/R.framework/Versions/4.3-x86_64/Resources/library/gDRimport/extdata/data4/H0609269D01.csv, sheet 0
INFO [2024-04-16 03:09:26] Plate H0609269D01 read; 384 wells
INFO [2024-04-16 03:09:26] File done
INFO [2024-04-16 03:09:26] Reading file /Library/Frameworks/R.framework/Versions/4.3-x86_64/Resources/library/gDRimport/extdata/data4/H0709269D00.csv, sheet 0
INFO [2024-04-16 03:09:26] Plate H0709269D00 read; 384 wells
INFO [2024-04-16 03:09:26] File done
INFO [2024-04-16 03:09:26] Reading file /Library/Frameworks/R.framework/Versions/4.3-x86_64/Resources/library/gDRimport/extdata/data4/H0709269D01.csv, sheet 0
INFO [2024-04-16 03:09:26] Plate H0709269D01 read; 384 wells
INFO [2024-04-16 03:09:26] File done
INFO [2024-04-16 03:09:26] Reading file /Library/Frameworks/R.framework/Versions/4.3-x86_64/Resources/library/gDRimport/extdata/data4/H0809269D00.csv, sheet 0
INFO [2024-04-16 03:09:26] Plate H0809269D00 read; 384 wells
INFO [2024-04-16 03:09:26] File done
INFO [2024-04-16 03:09:26] Reading file /Library/Frameworks/R.framework/Versions/4.3-x86_64/Resources/library/gDRimport/extdata/data4/H0809269D01.csv, sheet 0
INFO [2024-04-16 03:09:26] Plate H0809269D01 read; 384 wells
INFO [2024-04-16 03:09:26] File done
INFO [2024-04-16 03:09:26] Reading file /Library/Frameworks/R.framework/Versions/4.3-x86_64/Resources/library/gDRimport/extdata/data4/H0909269D00.csv, sheet 0
INFO [2024-04-16 03:09:26] Plate H0909269D00 read; 384 wells
INFO [2024-04-16 03:09:26] File done
INFO [2024-04-16 03:09:26] Reading file /Library/Frameworks/R.framework/Versions/4.3-x86_64/Resources/library/gDRimport/extdata/data4/H0909269D01.csv, sheet 0
INFO [2024-04-16 03:09:26] Plate H0909269D01 read; 384 wells
INFO [2024-04-16 03:09:26] File done
INFO [2024-04-16 03:09:26] Reading file /Library/Frameworks/R.framework/Versions/4.3-x86_64/Resources/library/gDRimport/extdata/data4/H1109269D00.csv, sheet 0
INFO [2024-04-16 03:09:26] Plate H1109269D00 read; 384 wells
INFO [2024-04-16 03:09:26] File done
INFO [2024-04-16 03:09:26] Reading file /Library/Frameworks/R.framework/Versions/4.3-x86_64/Resources/library/gDRimport/extdata/data4/H1109269D01.csv, sheet 0
INFO [2024-04-16 03:09:26] Plate H1109269D01 read; 384 wells
INFO [2024-04-16 03:09:26] File done
INFO [2024-04-16 03:09:26] Reading file /Library/Frameworks/R.framework/Versions/4.3-x86_64/Resources/library/gDRimport/extdata/data4/H1209269D00.csv, sheet 0
INFO [2024-04-16 03:09:26] Plate H1209269D00 read; 384 wells
INFO [2024-04-16 03:09:26] File done
INFO [2024-04-16 03:09:27] Reading file /Library/Frameworks/R.framework/Versions/4.3-x86_64/Resources/library/gDRimport/extdata/data4/H1209269D01.csv, sheet 0
INFO [2024-04-16 03:09:27] Plate H1209269D01 read; 384 wells
INFO [2024-04-16 03:09:27] File done
INFO [2024-04-16 03:09:27] Reading file /Library/Frameworks/R.framework/Versions/4.3-x86_64/Resources/library/gDRimport/extdata/data4/H1409269D00.csv, sheet 0
INFO [2024-04-16 03:09:27] Plate H1409269D00 read; 384 wells
INFO [2024-04-16 03:09:27] File done
INFO [2024-04-16 03:09:27] Reading file /Library/Frameworks/R.framework/Versions/4.3-x86_64/Resources/library/gDRimport/extdata/data4/H1409269D01.csv, sheet 0
INFO [2024-04-16 03:09:27] Plate H1409269D01 read; 384 wells
INFO [2024-04-16 03:09:27] File done
INFO [2024-04-16 03:09:27] Reading file /Library/Frameworks/R.framework/Versions/4.3-x86_64/Resources/library/gDRimport/extdata/data4/K0209269D00.csv, sheet 0
INFO [2024-04-16 03:09:27] Plate K0209269D00 read; 384 wells
INFO [2024-04-16 03:09:27] File done
INFO [2024-04-16 03:09:27] Reading file /Library/Frameworks/R.framework/Versions/4.3-x86_64/Resources/library/gDRimport/extdata/data4/K0209269D01.csv, sheet 0
INFO [2024-04-16 03:09:27] Plate K0209269D01 read; 384 wells
INFO [2024-04-16 03:09:27] File done
INFO [2024-04-16 03:09:27] Reading file /Library/Frameworks/R.framework/Versions/4.3-x86_64/Resources/library/gDRimport/extdata/data4/K0809269D00.csv, sheet 0
INFO [2024-04-16 03:09:27] Plate K0809269D00 read; 384 wells
INFO [2024-04-16 03:09:27] File done
INFO [2024-04-16 03:09:27] Reading file /Library/Frameworks/R.framework/Versions/4.3-x86_64/Resources/library/gDRimport/extdata/data4/K0809269D01.csv, sheet 0
INFO [2024-04-16 03:09:27] Plate K0809269D01 read; 384 wells
INFO [2024-04-16 03:09:27] File done
INFO [2024-04-16 03:09:27] Reading file /Library/Frameworks/R.framework/Versions/4.3-x86_64/Resources/library/gDRimport/extdata/data4/K1009269D00.csv, sheet 0
INFO [2024-04-16 03:09:27] Plate K1009269D00 read; 384 wells
INFO [2024-04-16 03:09:27] File done
INFO [2024-04-16 03:09:27] Reading file /Library/Frameworks/R.framework/Versions/4.3-x86_64/Resources/library/gDRimport/extdata/data4/K1009269D01.csv, sheet 0
INFO [2024-04-16 03:09:27] Plate K1009269D01 read; 384 wells
INFO [2024-04-16 03:09:27] File done
INFO [2024-04-16 03:09:27] Manifest loaded successfully
INFO [2024-04-16 03:09:27] Reading Template_7daytreated.xlsx with load_templates_xlsx
INFO [2024-04-16 03:09:27] Loading Template_7daytreated.xlsx
INFO [2024-04-16 03:09:28] Loading Template_Untreated.xlsx
INFO [2024-04-16 03:09:28] Templates loaded successfully!
INFO [2024-04-16 03:09:28] Manifest loaded successfully
INFO [2024-04-16 03:09:28] Reading Template_7daytreated.xlsx with load_templates_xlsx
INFO [2024-04-16 03:09:28] Loading Template_7daytreated.xlsx
INFO [2024-04-16 03:09:28] Loading Template_Untreated.xlsx
INFO [2024-04-16 03:09:28] Templates loaded successfully!
WARN [2024-04-16 03:09:32] Metadata field names for cannot contain spaces --> corrected to: Gnumber
WARN [2024-04-16 03:09:32] Header Gnumber in corrected to Gnumber
[ FAIL 0 | WARN 0 | SKIP 0 | PASS 126 ]
>
>
> proc.time()
user system elapsed
81.495 4.900 94.101
gDRimport.Rcheck/gDRimport-Ex.timings
| name | user | system | elapsed | |
| check_metadata_names | 0.104 | 0.018 | 0.133 | |
| convert_MAE_to_PSet | 8.144 | 0.518 | 9.080 | |
| convert_pset_to_df | 0.250 | 0.029 | 0.283 | |
| detect_file_format | 0.548 | 0.017 | 0.572 | |
| getPSet | 0.254 | 0.015 | 0.293 | |
| get_exception_data | 0.108 | 0.002 | 0.114 | |
| get_test_D300_data | 0.003 | 0.002 | 0.005 | |
| get_test_EnVision_data | 0.004 | 0.003 | 0.006 | |
| get_test_Tecan_data | 0.002 | 0.001 | 0.004 | |
| get_test_data | 0.004 | 0.001 | 0.006 | |
| import_D300 | 5.736 | 0.693 | 7.219 | |
| is_readable_v | 0.002 | 0.001 | 0.004 | |
| load_data | 3.514 | 0.128 | 3.965 | |
| load_manifest | 0.056 | 0.004 | 0.066 | |
| load_results | 2.236 | 0.197 | 2.826 | |
| load_templates | 0.357 | 0.052 | 0.531 | |
| manifest_path-method | 0.003 | 0.001 | 0.004 | |
| parse_D300_xml | 2.420 | 0.041 | 2.698 | |
| read_excel_to_dt | 0.044 | 0.020 | 0.084 | |
| result_path-method | 0.003 | 0.001 | 0.005 | |
| setEnvForPSet | 0.001 | 0.000 | 0.001 | |
| standardize_record_values | 0.000 | 0.001 | 0.000 | |
| template_path-method | 0.004 | 0.001 | 0.007 | |