| Back to Multiple platform build/check report for BioC 3.18: simplified long |
|
This page was generated on 2024-04-17 11:36:43 -0400 (Wed, 17 Apr 2024).
| Hostname | OS | Arch (*) | R version | Installed pkgs |
|---|---|---|---|---|
| nebbiolo2 | Linux (Ubuntu 22.04.3 LTS) | x86_64 | 4.3.3 (2024-02-29) -- "Angel Food Cake" | 4676 |
| palomino4 | Windows Server 2022 Datacenter | x64 | 4.3.3 (2024-02-29 ucrt) -- "Angel Food Cake" | 4414 |
| merida1 | macOS 12.7.1 Monterey | x86_64 | 4.3.3 (2024-02-29) -- "Angel Food Cake" | 4437 |
| Click on any hostname to see more info about the system (e.g. compilers) (*) as reported by 'uname -p', except on Windows and Mac OS X | ||||
| Package 544/2266 | Hostname | OS / Arch | INSTALL | BUILD | CHECK | BUILD BIN | ||||||||
| derfinder 1.36.0 (landing page) Leonardo Collado-Torres
| nebbiolo2 | Linux (Ubuntu 22.04.3 LTS) / x86_64 | OK | OK | OK | |||||||||
| palomino4 | Windows Server 2022 Datacenter / x64 | OK | OK | OK | OK | |||||||||
| merida1 | macOS 12.7.1 Monterey / x86_64 | OK | OK | OK | OK | |||||||||
| kjohnson1 | macOS 13.6.1 Ventura / arm64 | see weekly results here | ||||||||||||
|
To the developers/maintainers of the derfinder package: - Allow up to 24 hours (and sometimes 48 hours) for your latest push to git@git.bioconductor.org:packages/derfinder.git to reflect on this report. See Troubleshooting Build Report for more information. - Use the following Renviron settings to reproduce errors and warnings. - If 'R CMD check' started to fail recently on the Linux builder(s) over a missing dependency, add the missing dependency to 'Suggests:' in your DESCRIPTION file. See Renviron.bioc for more information. |
| Package: derfinder |
| Version: 1.36.0 |
| Command: F:\biocbuild\bbs-3.18-bioc\R\bin\R.exe CMD check --no-multiarch --install=check:derfinder.install-out.txt --library=F:\biocbuild\bbs-3.18-bioc\R\library --no-vignettes --timings derfinder_1.36.0.tar.gz |
| StartedAt: 2024-04-16 00:05:39 -0400 (Tue, 16 Apr 2024) |
| EndedAt: 2024-04-16 00:16:06 -0400 (Tue, 16 Apr 2024) |
| EllapsedTime: 627.2 seconds |
| RetCode: 0 |
| Status: OK |
| CheckDir: derfinder.Rcheck |
| Warnings: 0 |
##############################################################################
##############################################################################
###
### Running command:
###
### F:\biocbuild\bbs-3.18-bioc\R\bin\R.exe CMD check --no-multiarch --install=check:derfinder.install-out.txt --library=F:\biocbuild\bbs-3.18-bioc\R\library --no-vignettes --timings derfinder_1.36.0.tar.gz
###
##############################################################################
##############################################################################
* using log directory 'F:/biocbuild/bbs-3.18-bioc/meat/derfinder.Rcheck'
* using R version 4.3.3 (2024-02-29 ucrt)
* using platform: x86_64-w64-mingw32 (64-bit)
* R was compiled by
gcc.exe (GCC) 12.3.0
GNU Fortran (GCC) 12.3.0
* running under: Windows Server 2022 x64 (build 20348)
* using session charset: UTF-8
* using option '--no-vignettes'
* checking for file 'derfinder/DESCRIPTION' ... OK
* checking extension type ... Package
* this is package 'derfinder' version '1.36.0'
* package encoding: UTF-8
* checking package namespace information ... OK
* checking package dependencies ... OK
* checking if this is a source package ... OK
* checking if there is a namespace ... OK
* checking for hidden files and directories ... OK
* checking for portable file names ... OK
* checking whether package 'derfinder' can be installed ... OK
* checking installed package size ... OK
* checking package directory ... OK
* checking 'build' directory ... OK
* checking DESCRIPTION meta-information ... OK
* checking top-level files ... OK
* checking for left-over files ... OK
* checking index information ... OK
* checking package subdirectories ... OK
* checking R files for non-ASCII characters ... OK
* checking R files for syntax errors ... OK
* checking whether the package can be loaded ... OK
* checking whether the package can be loaded with stated dependencies ... OK
* checking whether the package can be unloaded cleanly ... OK
* checking whether the namespace can be loaded with stated dependencies ... OK
* checking whether the namespace can be unloaded cleanly ... OK
* checking dependencies in R code ... NOTE
Unexported objects imported by ':::' calls:
'GenomeInfoDb:::.guessSpeciesStyle'
'GenomeInfoDb:::.supportedSeqnameMappings'
See the note in ?`:::` about the use of this operator.
There are ::: calls to the package's namespace in its code. A package
almost never needs to use ::: for its own objects:
'.smootherFstats'
* checking S3 generic/method consistency ... OK
* checking replacement functions ... OK
* checking foreign function calls ... OK
* checking R code for possible problems ... OK
* checking Rd files ... OK
* checking Rd metadata ... OK
* checking Rd cross-references ... OK
* checking for missing documentation entries ... OK
* checking for code/documentation mismatches ... OK
* checking Rd \usage sections ... OK
* checking Rd contents ... OK
* checking for unstated dependencies in examples ... OK
* checking contents of 'data' directory ... OK
* checking data for non-ASCII characters ... OK
* checking LazyData ... OK
* checking data for ASCII and uncompressed saves ... OK
* checking files in 'vignettes' ... OK
* checking examples ... OK
Examples with CPU (user + system) or elapsed time > 5s
user system elapsed
coverageToExon 5.61 0.12 5.75
* checking for unstated dependencies in 'tests' ... OK
* checking tests ...
Running 'test-all.R'
OK
* checking for unstated dependencies in vignettes ... OK
* checking package vignettes in 'inst/doc' ... OK
* checking running R code from vignettes ... SKIPPED
* checking re-building of vignette outputs ... SKIPPED
* checking PDF version of manual ... OK
* DONE
Status: 1 NOTE
See
'F:/biocbuild/bbs-3.18-bioc/meat/derfinder.Rcheck/00check.log'
for details.
derfinder.Rcheck/00install.out
############################################################################## ############################################################################## ### ### Running command: ### ### F:\biocbuild\bbs-3.18-bioc\R\bin\R.exe CMD INSTALL derfinder ### ############################################################################## ############################################################################## * installing to library 'F:/biocbuild/bbs-3.18-bioc/R/library' * installing *source* package 'derfinder' ... ** using staged installation ** R ** data *** moving datasets to lazyload DB ** inst ** byte-compile and prepare package for lazy loading ** help *** installing help indices ** building package indices ** installing vignettes ** testing if installed package can be loaded from temporary location ** testing if installed package can be loaded from final location ** testing if installed package keeps a record of temporary installation path * DONE (derfinder)
derfinder.Rcheck/tests/test-all.Rout
R version 4.3.3 (2024-02-29 ucrt) -- "Angel Food Cake"
Copyright (C) 2024 The R Foundation for Statistical Computing
Platform: x86_64-w64-mingw32/x64 (64-bit)
R is free software and comes with ABSOLUTELY NO WARRANTY.
You are welcome to redistribute it under certain conditions.
Type 'license()' or 'licence()' for distribution details.
R is a collaborative project with many contributors.
Type 'contributors()' for more information and
'citation()' on how to cite R or R packages in publications.
Type 'demo()' for some demos, 'help()' for on-line help, or
'help.start()' for an HTML browser interface to help.
Type 'q()' to quit R.
> ## Disable the tests if the system variable 'R_DISABLE_TESTS' is set to TRUE
>
> flag <- as.logical(Sys.getenv("R_DISABLE_TESTS"))
> if (is.na(flag) | flag == FALSE) {
+ library("testthat")
+ test_check("derfinder")
+ }
Loading required package: derfinder
class: SerialParam
bpisup: FALSE; bpnworkers: 1; bptasks: 0; bpjobname: BPJOB
bplog: FALSE; bpthreshold: INFO; bpstopOnError: TRUE
bpRNGseed: ; bptimeout: NA; bpprogressbar: FALSE
bpexportglobals: FALSE; bpexportvariables: FALSE; bpforceGC: FALSE
bpfallback: FALSE
bplogdir: NA
bpresultdir: NA
Error in x$.self$finalize() : attempt to apply non-function
class: SerialParam
bpisup: FALSE; bpnworkers: 1; bptasks: 0; bpjobname: BPJOB
bplog: FALSE; bpthreshold: INFO; bpstopOnError: TRUE
bpRNGseed: ; bptimeout: NA; bpprogressbar: FALSE
bpexportglobals: FALSE; bpexportvariables: FALSE; bpforceGC: FALSE
bpfallback: FALSE
bplogdir: NA
bpresultdir: NA
class: SerialParam
bpisup: FALSE; bpnworkers: 1; bptasks: 0; bpjobname: BPJOB
bplog: FALSE; bpthreshold: INFO; bpstopOnError: TRUE
bpRNGseed: ; bptimeout: NA; bpprogressbar: FALSE
bpexportglobals: FALSE; bpexportvariables: FALSE; bpforceGC: FALSE
bpfallback: FALSE
bplogdir: NA
bpresultdir: NA
class: SerialParam
bpisup: FALSE; bpnworkers: 1; bptasks: 0; bpjobname: BPJOB
bplog: FALSE; bpthreshold: INFO; bpstopOnError: TRUE
bpRNGseed: ; bptimeout: NA; bpprogressbar: FALSE
bpexportglobals: FALSE; bpexportvariables: FALSE; bpforceGC: FALSE
bpfallback: FALSE
bplogdir: NA
bpresultdir: NA
class: SerialParam
bpisup: FALSE; bpnworkers: 1; bptasks: 0; bpjobname: BPJOB
bplog: FALSE; bpthreshold: INFO; bpstopOnError: TRUE
bpRNGseed: ; bptimeout: NA; bpprogressbar: FALSE
bpexportglobals: FALSE; bpexportvariables: FALSE; bpforceGC: FALSE
bpfallback: FALSE
bplogdir: NA
bpresultdir: NA
class: SerialParam
bpisup: FALSE; bpnworkers: 1; bptasks: 0; bpjobname: BPJOB
bplog: FALSE; bpthreshold: INFO; bpstopOnError: TRUE
bpRNGseed: ; bptimeout: NA; bpprogressbar: FALSE
bpexportglobals: FALSE; bpexportvariables: FALSE; bpforceGC: FALSE
bpfallback: FALSE
bplogdir: NA
bpresultdir: NA
class: SerialParam
bpisup: FALSE; bpnworkers: 1; bptasks: 0; bpjobname: BPJOB
bplog: FALSE; bpthreshold: INFO; bpstopOnError: TRUE
bpRNGseed: ; bptimeout: NA; bpprogressbar: FALSE
bpexportglobals: FALSE; bpexportvariables: FALSE; bpforceGC: FALSE
bpfallback: FALSE
bplogdir: NA
bpresultdir: NA
class: SerialParam
bpisup: FALSE; bpnworkers: 1; bptasks: 0; bpjobname: BPJOB
bplog: FALSE; bpthreshold: INFO; bpstopOnError: TRUE
bpRNGseed: ; bptimeout: NA; bpprogressbar: FALSE
bpexportglobals: FALSE; bpexportvariables: FALSE; bpforceGC: FALSE
bpfallback: FALSE
bplogdir: NA
bpresultdir: NA
[ FAIL 0 | WARN 0 | SKIP 0 | PASS 115 ]
Warning message:
call dbDisconnect() when finished working with a connection
>
> proc.time()
user system elapsed
259.46 6.50 271.21
derfinder.Rcheck/derfinder-Ex.timings
| name | user | system | elapsed | |
| analyzeChr | 1.46 | 0.14 | 1.80 | |
| annotateRegions | 0.39 | 0.01 | 0.44 | |
| calculatePvalues | 1.17 | 0.03 | 1.25 | |
| calculateStats | 0.64 | 0.02 | 0.66 | |
| coerceGR | 0.08 | 0.00 | 0.07 | |
| collapseFullCoverage | 0 | 0 | 0 | |
| coverageToExon | 5.61 | 0.12 | 5.75 | |
| createBw | 0.23 | 0.04 | 0.27 | |
| createBwSample | 0.09 | 0.00 | 0.10 | |
| define_cluster | 0 | 0 | 0 | |
| derfinder-deprecated | 0.02 | 0.00 | 0.01 | |
| extendedMapSeqlevels | 0.10 | 0.07 | 0.25 | |
| filterData | 0.15 | 0.00 | 0.14 | |
| findRegions | 0.53 | 0.01 | 0.58 | |
| fullCoverage | 0.29 | 0.04 | 0.44 | |
| getRegionCoverage | 0.46 | 0.06 | 1.67 | |
| getTotalMapped | 0.00 | 0.00 | 0.03 | |
| loadCoverage | 0.17 | 0.05 | 0.25 | |
| makeGenomicState | 4.56 | 0.13 | 4.83 | |
| makeModels | 0.02 | 0.00 | 0.02 | |
| mergeResults | 0.40 | 0.01 | 0.59 | |
| preprocessCoverage | 0.33 | 0.00 | 0.33 | |
| railMatrix | 0 | 0 | 0 | |
| rawFiles | 0 | 0 | 0 | |
| regionMatrix | 1.20 | 0.16 | 1.57 | |
| sampleDepth | 0 | 0 | 0 | |