| Back to Multiple platform build/check report for BioC 3.18: simplified long |
|
This page was generated on 2024-04-17 11:36:37 -0400 (Wed, 17 Apr 2024).
| Hostname | OS | Arch (*) | R version | Installed pkgs |
|---|---|---|---|---|
| nebbiolo2 | Linux (Ubuntu 22.04.3 LTS) | x86_64 | 4.3.3 (2024-02-29) -- "Angel Food Cake" | 4676 |
| palomino4 | Windows Server 2022 Datacenter | x64 | 4.3.3 (2024-02-29 ucrt) -- "Angel Food Cake" | 4414 |
| merida1 | macOS 12.7.1 Monterey | x86_64 | 4.3.3 (2024-02-29) -- "Angel Food Cake" | 4437 |
| Click on any hostname to see more info about the system (e.g. compilers) (*) as reported by 'uname -p', except on Windows and Mac OS X | ||||
| Package 299/2266 | Hostname | OS / Arch | INSTALL | BUILD | CHECK | BUILD BIN | ||||||||
| cellmigRation 1.10.0 (landing page) Waldir Leoncio
| nebbiolo2 | Linux (Ubuntu 22.04.3 LTS) / x86_64 | OK | OK | OK | |||||||||
| palomino4 | Windows Server 2022 Datacenter / x64 | OK | OK | OK | OK | |||||||||
| merida1 | macOS 12.7.1 Monterey / x86_64 | OK | OK | OK | OK | |||||||||
| kjohnson1 | macOS 13.6.1 Ventura / arm64 | see weekly results here | ||||||||||||
|
To the developers/maintainers of the cellmigRation package: - Allow up to 24 hours (and sometimes 48 hours) for your latest push to git@git.bioconductor.org:packages/cellmigRation.git to reflect on this report. See Troubleshooting Build Report for more information. - Use the following Renviron settings to reproduce errors and warnings. - If 'R CMD check' started to fail recently on the Linux builder(s) over a missing dependency, add the missing dependency to 'Suggests:' in your DESCRIPTION file. See Renviron.bioc for more information. |
| Package: cellmigRation |
| Version: 1.10.0 |
| Command: F:\biocbuild\bbs-3.18-bioc\R\bin\R.exe CMD check --no-multiarch --install=check:cellmigRation.install-out.txt --library=F:\biocbuild\bbs-3.18-bioc\R\library --no-vignettes --timings cellmigRation_1.10.0.tar.gz |
| StartedAt: 2024-04-15 23:08:29 -0400 (Mon, 15 Apr 2024) |
| EndedAt: 2024-04-15 23:10:58 -0400 (Mon, 15 Apr 2024) |
| EllapsedTime: 149.2 seconds |
| RetCode: 0 |
| Status: OK |
| CheckDir: cellmigRation.Rcheck |
| Warnings: 0 |
##############################################################################
##############################################################################
###
### Running command:
###
### F:\biocbuild\bbs-3.18-bioc\R\bin\R.exe CMD check --no-multiarch --install=check:cellmigRation.install-out.txt --library=F:\biocbuild\bbs-3.18-bioc\R\library --no-vignettes --timings cellmigRation_1.10.0.tar.gz
###
##############################################################################
##############################################################################
* using log directory 'F:/biocbuild/bbs-3.18-bioc/meat/cellmigRation.Rcheck'
* using R version 4.3.3 (2024-02-29 ucrt)
* using platform: x86_64-w64-mingw32 (64-bit)
* R was compiled by
gcc.exe (GCC) 12.3.0
GNU Fortran (GCC) 12.3.0
* running under: Windows Server 2022 x64 (build 20348)
* using session charset: UTF-8
* using option '--no-vignettes'
* checking for file 'cellmigRation/DESCRIPTION' ... OK
* checking extension type ... Package
* this is package 'cellmigRation' version '1.10.0'
* package encoding: UTF-8
* checking package namespace information ... OK
* checking package dependencies ... OK
* checking if this is a source package ... OK
* checking if there is a namespace ... OK
* checking for hidden files and directories ... OK
* checking for portable file names ... OK
* checking whether package 'cellmigRation' can be installed ... OK
* checking installed package size ... OK
* checking package directory ... OK
* checking 'build' directory ... OK
* checking DESCRIPTION meta-information ... OK
* checking top-level files ... OK
* checking for left-over files ... OK
* checking index information ... OK
* checking package subdirectories ... OK
* checking R files for non-ASCII characters ... OK
* checking R files for syntax errors ... OK
* checking whether the package can be loaded ... OK
* checking whether the package can be loaded with stated dependencies ... OK
* checking whether the package can be unloaded cleanly ... OK
* checking whether the namespace can be loaded with stated dependencies ... OK
* checking whether the namespace can be unloaded cleanly ... OK
* checking dependencies in R code ... OK
* checking S3 generic/method consistency ... OK
* checking replacement functions ... OK
* checking foreign function calls ... OK
* checking R code for possible problems ... OK
* checking Rd files ... OK
* checking Rd metadata ... OK
* checking Rd cross-references ... OK
* checking for missing documentation entries ... OK
* checking for code/documentation mismatches ... OK
* checking Rd \usage sections ... OK
* checking Rd contents ... OK
* checking for unstated dependencies in examples ... OK
* checking contents of 'data' directory ... OK
* checking data for non-ASCII characters ... OK
* checking data for ASCII and uncompressed saves ... OK
* checking files in 'vignettes' ... OK
* checking examples ... OK
* checking for unstated dependencies in 'tests' ... OK
* checking tests ...
Running 'runTests.R'
OK
* checking for unstated dependencies in vignettes ... OK
* checking package vignettes in 'inst/doc' ... OK
* checking running R code from vignettes ... SKIPPED
* checking re-building of vignette outputs ... SKIPPED
* checking PDF version of manual ... OK
* DONE
Status: OK
cellmigRation.Rcheck/00install.out
############################################################################## ############################################################################## ### ### Running command: ### ### F:\biocbuild\bbs-3.18-bioc\R\bin\R.exe CMD INSTALL cellmigRation ### ############################################################################## ############################################################################## * installing to library 'F:/biocbuild/bbs-3.18-bioc/R/library' * installing *source* package 'cellmigRation' ... ** using staged installation ** R ** data ** inst ** byte-compile and prepare package for lazy loading ** help *** installing help indices ** building package indices ** installing vignettes ** testing if installed package can be loaded from temporary location ** testing if installed package can be loaded from final location ** testing if installed package keeps a record of temporary installation path * DONE (cellmigRation)
cellmigRation.Rcheck/tests/runTests.Rout
R version 4.3.3 (2024-02-29 ucrt) -- "Angel Food Cake"
Copyright (C) 2024 The R Foundation for Statistical Computing
Platform: x86_64-w64-mingw32/x64 (64-bit)
R is free software and comes with ABSOLUTELY NO WARRANTY.
You are welcome to redistribute it under certain conditions.
Type 'license()' or 'licence()' for distribution details.
R is a collaborative project with many contributors.
Type 'contributors()' for more information and
'citation()' on how to cite R or R packages in publications.
Type 'demo()' for some demos, 'help()' for on-line help, or
'help.start()' for an HTML browser interface to help.
Type 'q()' to quit R.
> BiocGenerics:::testPackage("cellmigRation")
RUNIT TEST PROTOCOL -- Mon Apr 15 23:10:43 2024
***********************************************
Number of test functions: 7
Number of errors: 0
Number of failures: 0
1 Test Suite :
cellmigRation RUnit Tests - 7 test functions, 0 errors, 0 failures
Number of test functions: 7
Number of errors: 0
Number of failures: 0
>
> proc.time()
user system elapsed
3.10 0.42 3.54
cellmigRation.Rcheck/cellmigRation-Ex.timings
| name | user | system | elapsed | |
| AddDimension | 0 | 0 | 0 | |
| CellMig-class | 0.03 | 0.02 | 0.04 | |
| CellMigPCA | 1.86 | 0.02 | 1.87 | |
| CellMigPCAclust | 0.02 | 0.00 | 0.02 | |
| CellMigPCAclustALL | 0.75 | 0.03 | 0.78 | |
| CellTracker | 0.01 | 0.01 | 0.03 | |
| CellTrackerMainLoop | 0 | 0 | 0 | |
| CentroidArray | 0.02 | 0.00 | 0.02 | |
| CentroidValidation | 0.41 | 0.00 | 0.40 | |
| ComputeTracksStats | 0.01 | 0.02 | 0.03 | |
| DetectRadii | 0 | 0 | 0 | |
| DiAutoCor | 1.64 | 0.00 | 1.64 | |
| DiRatio | 0.03 | 0.00 | 0.04 | |
| DiRatioPlot | 0.08 | 0.01 | 0.17 | |
| EstimateDiameterRange | 0.03 | 0.00 | 0.03 | |
| FMI | 0.58 | 0.00 | 0.58 | |
| FianlizeOptiParams | 0.00 | 0.02 | 0.01 | |
| FilterTrackedCells | 0 | 0 | 0 | |
| FinRes | 0.64 | 0.00 | 0.64 | |
| ForwardMigration | 1.03 | 0.04 | 1.06 | |
| GenAllCombos | 0 | 0 | 0 | |
| LinearConv2 | 0.02 | 0.00 | 0.02 | |
| LoadTiff | 0.00 | 0.00 | 0.01 | |
| MSD | 1.66 | 0.03 | 1.71 | |
| MakeHypercube | 0 | 0 | 0 | |
| MigrationStats | 0 | 0 | 0 | |
| NextOdd | 0 | 0 | 0 | |
| NonParallel4OptimizeParams | 0 | 0 | 0 | |
| NonParallelTrackLoop | 0 | 0 | 0 | |
| OptimizeParams | 0.01 | 0.00 | 0.02 | |
| OptimizeParamsMainLoop | 0 | 0 | 0 | |
| Parallel4OptimizeParams | 0 | 0 | 0 | |
| ParallelTrackLoop | 0 | 0 | 0 | |
| PerAndSpeed | 0.27 | 0.09 | 0.37 | |
| PlotTracksSeparately | 0 | 0 | 0 | |
| PostProcessTracking | 0 | 0 | 0 | |
| Prep4OptimizeParams | 0.08 | 0.02 | 0.10 | |
| ThreeConditions | 0 | 0 | 0 | |
| TrackCellsDataset | 0.02 | 0.00 | 0.01 | |
| TrajectoryDataset | 0.03 | 0.00 | 0.03 | |
| ValidateTrackingArgs | 0 | 0 | 0 | |
| VeAutoCor | 0.95 | 0.03 | 0.99 | |
| VisualizeCntr | 0 | 0 | 0 | |
| VisualizeImg | 0.02 | 0.00 | 0.01 | |
| VisualizeStackCentroids | 0.06 | 0.00 | 0.07 | |
| WSADataset | 0 | 0 | 0 | |
| aggregateFR | 0.83 | 0.03 | 0.86 | |
| aggregateTrackedCells | 0.01 | 0.02 | 0.03 | |
| bpass | 0.08 | 0.00 | 0.08 | |
| circshift | 0 | 0 | 0 | |
| cntrd | 0.95 | 0.00 | 0.95 | |
| fixDA | 0 | 0 | 0 | |
| fixExpName | 0 | 0 | 0 | |
| fixFM1 | 0.02 | 0.00 | 0.02 | |
| fixFM2 | 0 | 0 | 0 | |
| fixFM3 | 0 | 0 | 0 | |
| fixFM4 | 0 | 0 | 0 | |
| fixFM5 | 0 | 0 | 0 | |
| fixFM6 | 0 | 0 | 0 | |
| fixID1 | 0 | 0 | 0 | |
| fixMSD | 0 | 0 | 0 | |
| fixPER1 | 0 | 0 | 0 | |
| fixPER2 | 0 | 0 | 0 | |
| fixPER3 | 0 | 0 | 0 | |
| getAvailableAggrMetrics | 1.07 | 0.00 | 1.07 | |
| getCellImages | 0.6 | 0.5 | 1.1 | |
| getCellMigSlot | 0.86 | 0.34 | 1.20 | |
| getCellTrackMeta | 0.01 | 0.00 | 0.02 | |
| getCellTrackStats | 0.02 | 0.00 | 0.01 | |
| getCellTracks | 0.01 | 0.00 | 0.02 | |
| getCellsMeta | 0.03 | 0.00 | 0.03 | |
| getCellsStats | 0.02 | 0.00 | 0.01 | |
| getDACtable | 1.86 | 0.02 | 1.88 | |
| getDiRatio | 0.02 | 0.01 | 0.03 | |
| getFMItable | 0.53 | 0.02 | 0.55 | |
| getForMigtable | 0.70 | 0.01 | 0.72 | |
| getImageCentroids | 0.03 | 0.00 | 0.03 | |
| getImageStacks | 0.06 | 0.00 | 0.06 | |
| getMSDtable | 3.74 | 0.02 | 3.75 | |
| getOptimizedParameters | 0.00 | 0.01 | 0.02 | |
| getOptimizedParams | 0.01 | 0.00 | 0.01 | |
| getPerAndSpeed | 0.24 | 0.05 | 0.28 | |
| getPopulationStats | 0.02 | 0.00 | 0.01 | |
| getProcessedImages | 0.59 | 0.67 | 1.27 | |
| getProcessingStatus | 0.02 | 0.00 | 0.01 | |
| getResults | 0.69 | 0.03 | 0.72 | |
| getTracks | 0.01 | 0.02 | 0.03 | |
| getVACtable | 1.16 | 0.03 | 1.19 | |
| initializeTrackParams | 0 | 0 | 0 | |
| innerBondRaster | 0 | 0 | 0 | |
| internalPermutation | 0 | 0 | 0 | |
| matfix | 0 | 0 | 0 | |
| nontrivialBondTracking | 0.01 | 0.00 | 0.02 | |
| pkfnd | 0.78 | 0.02 | 0.79 | |
| plot3DAllTracks | 0.10 | 0.01 | 0.11 | |
| plot3DTracks | 0.01 | 0.00 | 0.02 | |
| plotAllTracks | 0.04 | 0.00 | 0.03 | |
| plotSampleTracks | 0.01 | 0.00 | 0.02 | |
| preProcCellMig | 0 | 0 | 0 | |
| rmPreProcessing | 0.12 | 0.01 | 0.14 | |
| runTrackingPermutation | 0.02 | 0.00 | 0.01 | |
| setAnalyticParams | 0.01 | 0.00 | 0.02 | |
| setCellMigSlot | 0.02 | 0.00 | 0.02 | |
| setCellTracks | 0.01 | 0.02 | 0.03 | |
| setCellsMeta | 0.02 | 0.00 | 0.01 | |
| setExpName | 0.02 | 0.01 | 0.03 | |
| setOptimizedParams | 0.01 | 0.00 | 0.02 | |
| setProcessedImages | 0.03 | 0.00 | 0.03 | |
| setProcessingStatus | 0.02 | 0.00 | 0.02 | |
| setTrackedCellsMeta | 0.01 | 0.00 | 0.01 | |
| setTrackedCentroids | 0.00 | 0.02 | 0.02 | |
| setTrackedPositions | 0.02 | 0.00 | 0.02 | |
| setTrackingStats | 0.01 | 0.00 | 0.01 | |
| sinkAway | 0 | 0 | 0 | |
| subNetworkTracking | 0 | 0 | 0 | |
| track | 0.02 | 0.00 | 0.02 | |
| trackHypercubeBuild | 0 | 0 | 0 | |
| trackSlideProcessing | 0 | 0 | 0 | |
| trackSlideWrapUp | 0 | 0 | 0 | |
| trivialBondRaster | 0 | 0 | 0 | |
| trivialBondTracking | 0 | 0 | 0 | |
| visualizeCellTracks | 0.05 | 0.01 | 0.06 | |
| visualizeTrcks | 0.01 | 0.02 | 0.03 | |
| warnMessage | 0 | 0 | 0 | |
| wsaPreProcessing | 0.05 | 0.00 | 0.05 | |