| Back to Multiple platform build/check report for BioC 3.18: simplified long |
|
This page was generated on 2024-03-04 11:37:11 -0500 (Mon, 04 Mar 2024).
| Hostname | OS | Arch (*) | R version | Installed pkgs |
|---|---|---|---|---|
| nebbiolo2 | Linux (Ubuntu 22.04.3 LTS) | x86_64 | 4.3.2 Patched (2023-11-13 r85521) -- "Eye Holes" | 4692 |
| palomino4 | Windows Server 2022 Datacenter | x64 | 4.3.2 (2023-10-31 ucrt) -- "Eye Holes" | 4445 |
| lconway | macOS 12.7.1 Monterey | x86_64 | 4.3.2 Patched (2023-11-01 r85457) -- "Eye Holes" | 4466 |
| Click on any hostname to see more info about the system (e.g. compilers) (*) as reported by 'uname -p', except on Windows and Mac OS X | ||||
| Package 268/2266 | Hostname | OS / Arch | INSTALL | BUILD | CHECK | BUILD BIN | ||||||||
| cardelino 1.4.0 (landing page) Davis McCarthy
| nebbiolo2 | Linux (Ubuntu 22.04.3 LTS) / x86_64 | OK | OK | OK | |||||||||
| palomino4 | Windows Server 2022 Datacenter / x64 | OK | OK | OK | OK | |||||||||
| lconway | macOS 12.7.1 Monterey / x86_64 | OK | OK | OK | OK | |||||||||
| kjohnson1 | macOS 13.6.1 Ventura / arm64 | see weekly results here | ||||||||||||
|
To the developers/maintainers of the cardelino package: - Allow up to 24 hours (and sometimes 48 hours) for your latest push to git@git.bioconductor.org:packages/cardelino.git to reflect on this report. See Troubleshooting Build Report for more information. - Use the following Renviron settings to reproduce errors and warnings. - If 'R CMD check' started to fail recently on the Linux builder(s) over a missing dependency, add the missing dependency to 'Suggests:' in your DESCRIPTION file. See Renviron.bioc for more information. |
| Package: cardelino |
| Version: 1.4.0 |
| Command: /Library/Frameworks/R.framework/Resources/bin/R CMD check --install=check:cardelino.install-out.txt --library=/Library/Frameworks/R.framework/Resources/library --no-vignettes --timings cardelino_1.4.0.tar.gz |
| StartedAt: 2024-03-03 19:25:40 -0500 (Sun, 03 Mar 2024) |
| EndedAt: 2024-03-03 19:33:54 -0500 (Sun, 03 Mar 2024) |
| EllapsedTime: 494.3 seconds |
| RetCode: 0 |
| Status: OK |
| CheckDir: cardelino.Rcheck |
| Warnings: 0 |
##############################################################################
##############################################################################
###
### Running command:
###
### /Library/Frameworks/R.framework/Resources/bin/R CMD check --install=check:cardelino.install-out.txt --library=/Library/Frameworks/R.framework/Resources/library --no-vignettes --timings cardelino_1.4.0.tar.gz
###
##############################################################################
##############################################################################
* using log directory ‘/Users/biocbuild/bbs-3.18-bioc/meat/cardelino.Rcheck’
* using R version 4.3.2 Patched (2023-11-01 r85457)
* using platform: x86_64-apple-darwin20 (64-bit)
* R was compiled by
Apple clang version 14.0.3 (clang-1403.0.22.14.1)
GNU Fortran (GCC) 12.2.0
* running under: macOS Monterey 12.7.1
* using session charset: UTF-8
* using option ‘--no-vignettes’
* checking for file ‘cardelino/DESCRIPTION’ ... OK
* checking extension type ... Package
* this is package ‘cardelino’ version ‘1.4.0’
* package encoding: UTF-8
* checking package namespace information ... OK
* checking package dependencies ... OK
* checking if this is a source package ... OK
* checking if there is a namespace ... OK
* checking for hidden files and directories ... OK
* checking for portable file names ... OK
* checking for sufficient/correct file permissions ... OK
* checking whether package ‘cardelino’ can be installed ... OK
* checking installed package size ... OK
* checking package directory ... OK
* checking ‘build’ directory ... OK
* checking DESCRIPTION meta-information ... OK
* checking top-level files ... OK
* checking for left-over files ... OK
* checking index information ... OK
* checking package subdirectories ... OK
* checking R files for non-ASCII characters ... OK
* checking R files for syntax errors ... OK
* checking whether the package can be loaded ... OK
* checking whether the package can be loaded with stated dependencies ... OK
* checking whether the package can be unloaded cleanly ... OK
* checking whether the namespace can be loaded with stated dependencies ... OK
* checking whether the namespace can be unloaded cleanly ... OK
* checking dependencies in R code ... OK
* checking S3 generic/method consistency ... OK
* checking replacement functions ... OK
* checking foreign function calls ... OK
* checking R code for possible problems ... OK
* checking Rd files ... OK
* checking Rd metadata ... OK
* checking Rd cross-references ... OK
* checking for missing documentation entries ... OK
* checking for code/documentation mismatches ... OK
* checking Rd \usage sections ... OK
* checking Rd contents ... OK
* checking for unstated dependencies in examples ... OK
* checking contents of ‘data’ directory ... OK
* checking data for non-ASCII characters ... OK
* checking data for ASCII and uncompressed saves ... OK
* checking files in ‘vignettes’ ... OK
* checking examples ... OK
Examples with CPU (user + system) or elapsed time > 5s
user system elapsed
vc_heatmap 67.858 10.218 79.014
get_snp_matrices 16.750 1.069 18.019
clone_id 13.573 1.364 15.102
* checking for unstated dependencies in ‘tests’ ... OK
* checking tests ...
Running ‘testthat.R’
OK
* checking for unstated dependencies in vignettes ... OK
* checking package vignettes in ‘inst/doc’ ... OK
* checking running R code from vignettes ... SKIPPED
* checking re-building of vignette outputs ... SKIPPED
* checking PDF version of manual ... OK
* DONE
Status: OK
cardelino.Rcheck/00install.out
############################################################################## ############################################################################## ### ### Running command: ### ### /Library/Frameworks/R.framework/Resources/bin/R CMD INSTALL cardelino ### ############################################################################## ############################################################################## * installing to library ‘/Library/Frameworks/R.framework/Versions/4.3-x86_64/Resources/library’ * installing *source* package ‘cardelino’ ... ** using staged installation ** R ** data ** inst ** byte-compile and prepare package for lazy loading ** help *** installing help indices ** building package indices ** installing vignettes ** testing if installed package can be loaded from temporary location ** testing if installed package can be loaded from final location ** testing if installed package keeps a record of temporary installation path * DONE (cardelino)
cardelino.Rcheck/tests/testthat.Rout
R version 4.3.2 Patched (2023-11-01 r85457) -- "Eye Holes"
Copyright (C) 2023 The R Foundation for Statistical Computing
Platform: x86_64-apple-darwin20 (64-bit)
R is free software and comes with ABSOLUTELY NO WARRANTY.
You are welcome to redistribute it under certain conditions.
Type 'license()' or 'licence()' for distribution details.
R is a collaborative project with many contributors.
Type 'contributors()' for more information and
'citation()' on how to cite R or R packages in publications.
Type 'demo()' for some demos, 'help()' for on-line help, or
'help.start()' for an HTML browser interface to help.
Type 'q()' to quit R.
> Sys.setenv("R_TESTS" = "")
> library(testthat)
> library(cardelino)
>
> test_check("cardelino")
[1] "Total iterations: 11"
95.6% converged.
93.9% converged.
92.8% converged.
91.5% converged.
DIC: 3048.68 D_mean: 2450.32 D_post: 2353.59 logLik_var: 173.77
[,1] [,2] [,3] [,4]
[1,] 1 2 3 4
[1] "65 samples have multiple labels."
Scanning file to determine attributes.
File attributes:
meta lines: 37
header_line: 38
variant count: 112
column count: 86
Meta line 37 read in.
All meta lines processed.
gt matrix initialized.
Character matrix gt created.
Character matrix gt rows: 112
Character matrix gt cols: 86
skip: 0
nrows: 112
row_num: 0
Processed variant: 112
All variants processed
[1] "112 out of 112 SNPs passed."
Scanning file to determine attributes.
File attributes:
meta lines: 37
header_line: 38
variant count: 112
column count: 86
Meta line 37 read in.
All meta lines processed.
gt matrix initialized.
Character matrix gt created.
Character matrix gt rows: 112
Character matrix gt cols: 86
skip: 0
nrows: 112
row_num: 0
Processed variant: 112
All variants processed
[ FAIL 0 | WARN 3 | SKIP 0 | PASS 20 ]
[ FAIL 0 | WARN 3 | SKIP 0 | PASS 20 ]
>
> # check test coverage with covr in Rstudio
> # covr::package_coverage()
>
> proc.time()
user system elapsed
28.842 1.981 31.303
cardelino.Rcheck/cardelino-Ex.timings
| name | user | system | elapsed | |
| assign_cells_to_clones | 0.087 | 0.005 | 0.094 | |
| binaryPRC | 0.007 | 0.002 | 0.010 | |
| binaryROC | 0.008 | 0.002 | 0.010 | |
| clone_id | 13.573 | 1.364 | 15.102 | |
| colMatch | 0.001 | 0.001 | 0.001 | |
| get_snp_matrices | 16.750 | 1.069 | 18.019 | |
| get_tree | 0.383 | 0.023 | 0.410 | |
| heat_matrix | 0.646 | 0.013 | 0.666 | |
| load_GT_vcf | 0.253 | 0.058 | 0.325 | |
| load_cellSNP_vcf | 0.020 | 0.001 | 0.022 | |
| mixBinom | 0.008 | 0.000 | 0.008 | |
| mtx_to_df | 0.002 | 0.000 | 0.003 | |
| plot_config_diffs | 0.157 | 0.003 | 0.162 | |
| plot_tree | 0.349 | 0.020 | 0.374 | |
| predMixBinom | 0.013 | 0.000 | 0.013 | |
| prob_heatmap | 0.073 | 0.001 | 0.075 | |
| pub.theme | 0.033 | 0.002 | 0.036 | |
| read_vcf | 2.756 | 0.243 | 3.040 | |
| rowArgmax | 0 | 0 | 0 | |
| rowMax | 0.000 | 0.001 | 0.001 | |
| sample_seq_depth | 0.012 | 0.002 | 0.014 | |
| sample_tree_SNV | 0.004 | 0.001 | 0.006 | |
| sim_read_count | 2.725 | 0.193 | 2.950 | |
| vc_heatmap | 67.858 | 10.218 | 79.014 | |