| Back to Multiple platform build/check report for BioC 3.18: simplified long |
|
This page was generated on 2023-11-02 11:40:26 -0400 (Thu, 02 Nov 2023).
| Hostname | OS | Arch (*) | R version | Installed pkgs |
|---|---|---|---|---|
| nebbiolo2 | Linux (Ubuntu 22.04.2 LTS) | x86_64 | 4.3.1 (2023-06-16) -- "Beagle Scouts" | 4729 |
| palomino4 | Windows Server 2022 Datacenter | x64 | 4.3.1 (2023-06-16 ucrt) -- "Beagle Scouts" | 4463 |
| lconway | macOS 12.6.5 Monterey | x86_64 | 4.3.1 Patched (2023-06-17 r84564) -- "Beagle Scouts" | 4478 |
| kunpeng2 | Linux (openEuler 22.03 LTS-SP1) | aarch64 | 4.3.1 (2023-06-16) -- "Beagle Scouts" | 4464 |
| Click on any hostname to see more info about the system (e.g. compilers) (*) as reported by 'uname -p', except on Windows and Mac OS X | ||||
| Package 144/2266 | Hostname | OS / Arch | INSTALL | BUILD | CHECK | BUILD BIN | ||||||||
| beachmat 2.18.0 (landing page) Aaron Lun
| nebbiolo2 | Linux (Ubuntu 22.04.2 LTS) / x86_64 | OK | OK | OK | |||||||||
| palomino4 | Windows Server 2022 Datacenter / x64 | OK | OK | OK | OK | |||||||||
| lconway | macOS 12.6.5 Monterey / x86_64 | OK | OK | OK | OK | |||||||||
| kjohnson1 | macOS 13.6.1 Ventura / arm64 | see weekly results here | ||||||||||||
| kunpeng2 | Linux (openEuler 22.03 LTS-SP1) / aarch64 | OK | OK | OK | ||||||||||
|
To the developers/maintainers of the beachmat package: - Allow up to 24 hours (and sometimes 48 hours) for your latest push to git@git.bioconductor.org:packages/beachmat.git to reflect on this report. See Troubleshooting Build Report for more information. - Use the following Renviron settings to reproduce errors and warnings. - If 'R CMD check' started to fail recently on the Linux builder(s) over a missing dependency, add the missing dependency to 'Suggests:' in your DESCRIPTION file. See Renviron.bioc for more information. - See Martin Grigorov's blog post for how to debug Linux ARM64 related issues on a x86_64 host. |
| Package: beachmat |
| Version: 2.18.0 |
| Command: /home/biocbuild/R/R-4.3.1/bin/R CMD check --install=check:beachmat.install-out.txt --library=/home/biocbuild/R/R-4.3.1/site-library --no-vignettes --timings beachmat_2.18.0.tar.gz |
| StartedAt: 2023-11-02 08:34:14 -0000 (Thu, 02 Nov 2023) |
| EndedAt: 2023-11-02 08:44:50 -0000 (Thu, 02 Nov 2023) |
| EllapsedTime: 635.7 seconds |
| RetCode: 0 |
| Status: OK |
| CheckDir: beachmat.Rcheck |
| Warnings: 0 |
##############################################################################
##############################################################################
###
### Running command:
###
### /home/biocbuild/R/R-4.3.1/bin/R CMD check --install=check:beachmat.install-out.txt --library=/home/biocbuild/R/R-4.3.1/site-library --no-vignettes --timings beachmat_2.18.0.tar.gz
###
##############################################################################
##############################################################################
* using log directory ‘/home/biocbuild/bbs-3.18-bioc/meat/beachmat.Rcheck’
* using R version 4.3.1 (2023-06-16)
* using platform: aarch64-unknown-linux-gnu (64-bit)
* R was compiled by
gcc (GCC) 10.3.1
GNU Fortran (GCC) 10.3.1
* running under: openEuler 22.03 (LTS-SP1)
* using session charset: UTF-8
* using option ‘--no-vignettes’
* checking for file ‘beachmat/DESCRIPTION’ ... OK
* this is package ‘beachmat’ version ‘2.18.0’
* package encoding: UTF-8
* checking package namespace information ... OK
* checking package dependencies ... OK
* checking if this is a source package ... OK
* checking if there is a namespace ... OK
* checking for hidden files and directories ... OK
* checking for portable file names ... OK
* checking for sufficient/correct file permissions ... OK
* checking whether package ‘beachmat’ can be installed ... OK
* used C++ compiler: ‘g++ (GCC) 10.3.1’
* checking C++ specification ... OK
Not all R platforms support C++17
* checking installed package size ... NOTE
installed size is 131.6Mb
sub-directories of 1Mb or more:
include 1.4Mb
libs 129.5Mb
* checking package directory ... OK
* checking ‘build’ directory ... OK
* checking DESCRIPTION meta-information ... OK
* checking top-level files ... OK
* checking for left-over files ... OK
* checking index information ... OK
* checking package subdirectories ... OK
* checking R files for non-ASCII characters ... OK
* checking R files for syntax errors ... OK
* checking whether the package can be loaded ... OK
* checking whether the package can be loaded with stated dependencies ... OK
* checking whether the package can be unloaded cleanly ... OK
* checking whether the namespace can be loaded with stated dependencies ... OK
* checking whether the namespace can be unloaded cleanly ... OK
* checking loading without being on the library search path ... OK
* checking dependencies in R code ... NOTE
Unexported object imported by a ':::' call: ‘DelayedArray:::bplapply2’
See the note in ?`:::` about the use of this operator.
* checking S3 generic/method consistency ... OK
* checking replacement functions ... OK
* checking foreign function calls ... OK
* checking R code for possible problems ... OK
* checking Rd files ... OK
* checking Rd metadata ... OK
* checking Rd cross-references ... OK
* checking for missing documentation entries ... OK
* checking for code/documentation mismatches ... OK
* checking Rd \usage sections ... OK
* checking Rd contents ... OK
* checking for unstated dependencies in examples ... OK
* checking line endings in C/C++/Fortran sources/headers ... OK
* checking line endings in Makefiles ... OK
* checking compilation flags in Makevars ... OK
* checking for GNU extensions in Makefiles ... OK
* checking for portable use of $(BLAS_LIBS) and $(LAPACK_LIBS) ... OK
* checking use of PKG_*FLAGS in Makefiles ... OK
* checking compiled code ... NOTE
Note: information on .o files is not available
* checking files in ‘vignettes’ ... OK
* checking examples ... OK
Examples with CPU (user + system) or elapsed time > 5s
user system elapsed
colBlockApply 18.691 2.349 35.352
* checking for unstated dependencies in ‘tests’ ... OK
* checking tests ...
Running ‘testthat.R’
OK
* checking for unstated dependencies in vignettes ... OK
* checking package vignettes in ‘inst/doc’ ... OK
* checking running R code from vignettes ... SKIPPED
* checking re-building of vignette outputs ... SKIPPED
* checking PDF version of manual ... OK
* DONE
Status: 3 NOTEs
See
‘/home/biocbuild/bbs-3.18-bioc/meat/beachmat.Rcheck/00check.log’
for details.
beachmat.Rcheck/00install.out
##############################################################################
##############################################################################
###
### Running command:
###
### /home/biocbuild/R/R-4.3.1/bin/R CMD INSTALL beachmat
###
##############################################################################
##############################################################################
* installing to library ‘/home/biocbuild/R/R-4.3.1/site-library’
* installing *source* package ‘beachmat’ ...
** using staged installation
** libs
using C++ compiler: ‘g++ (GCC) 10.3.1’
using C++17
g++ -std=gnu++17 -I"/home/biocbuild/R/R-4.3.1/include" -DNDEBUG -I../inst/include -I'/home/biocbuild/R/R-4.3.1/site-library/Rcpp/include' -I/usr/local/include -fPIC -g -O2 -Wall -c RcppExports.cpp -o RcppExports.o
g++ -std=gnu++17 -I"/home/biocbuild/R/R-4.3.1/include" -DNDEBUG -I../inst/include -I'/home/biocbuild/R/R-4.3.1/site-library/Rcpp/include' -I/usr/local/include -fPIC -g -O2 -Wall -c delayed_isometric_binary.cpp -o delayed_isometric_binary.o
g++ -std=gnu++17 -I"/home/biocbuild/R/R-4.3.1/include" -DNDEBUG -I../inst/include -I'/home/biocbuild/R/R-4.3.1/site-library/Rcpp/include' -I/usr/local/include -fPIC -g -O2 -Wall -c delayed_isometric_math.cpp -o delayed_isometric_math.o
g++ -std=gnu++17 -I"/home/biocbuild/R/R-4.3.1/include" -DNDEBUG -I../inst/include -I'/home/biocbuild/R/R-4.3.1/site-library/Rcpp/include' -I/usr/local/include -fPIC -g -O2 -Wall -c delayed_isometric_unary.cpp -o delayed_isometric_unary.o
g++ -std=gnu++17 -I"/home/biocbuild/R/R-4.3.1/include" -DNDEBUG -I../inst/include -I'/home/biocbuild/R/R-4.3.1/site-library/Rcpp/include' -I/usr/local/include -fPIC -g -O2 -Wall -c delayed_other.cpp -o delayed_other.o
g++ -std=gnu++17 -I"/home/biocbuild/R/R-4.3.1/include" -DNDEBUG -I../inst/include -I'/home/biocbuild/R/R-4.3.1/site-library/Rcpp/include' -I/usr/local/include -fPIC -g -O2 -Wall -c dense_matrix.cpp -o dense_matrix.o
g++ -std=gnu++17 -I"/home/biocbuild/R/R-4.3.1/include" -DNDEBUG -I../inst/include -I'/home/biocbuild/R/R-4.3.1/site-library/Rcpp/include' -I/usr/local/include -fPIC -g -O2 -Wall -c fragment_sparse_rows.cpp -o fragment_sparse_rows.o
g++ -std=gnu++17 -I"/home/biocbuild/R/R-4.3.1/include" -DNDEBUG -I../inst/include -I'/home/biocbuild/R/R-4.3.1/site-library/Rcpp/include' -I/usr/local/include -fPIC -g -O2 -Wall -c sparse_matrix.cpp -o sparse_matrix.o
In file included from ../inst/include/tatami/tatami.hpp:6,
from ../inst/include/tatami_r/UnknownMatrix.hpp:5,
from ../inst/include/tatami_r/tatami_r.hpp:4,
from ../inst/include/Rtatami.h:8,
from sparse_matrix.cpp:1:
../inst/include/tatami/sparse/CompressedSparseMatrix.hpp: In instantiation of ‘tatami::CompressedSparseMatrix<row_, Value_, Index_, ValueStorage_, IndexStorage_, PointerStorage_>::CompressedSparseMatrix(Index_, Index_, ValueStorage_, IndexStorage_, PointerStorage_, bool) [with bool row_ = true; Value_ = double; Index_ = int; ValueStorage_ = tatami::ArrayView<int>; IndexStorage_ = tatami::ArrayView<int>; PointerStorage_ = tatami::ArrayView<int>]’:
sparse_matrix.cpp:15:16: required from ‘tatami::NumericMatrix* store_sparse_matrix(XVector_, Rcpp::IntegerVector, Rcpp::IntegerVector, int, int, bool) [with T_ = int; XVector_ = Rcpp::Vector<10, Rcpp::PreserveStorage>; tatami::NumericMatrix = tatami::Matrix<double, int>; Rcpp::IntegerVector = Rcpp::Vector<13>]’
sparse_matrix.cpp:39:111: required from here
../inst/include/tatami/sparse/CompressedSparseMatrix.hpp:112:46: warning: comparison of integer expressions of different signedness: ‘size_t’ {aka ‘long unsigned int’} and ‘int’ [-Wsign-compare]
112 | for (size_t j = start + 1; j < end; ++j) {
| ~~^~~~~
../inst/include/tatami/sparse/CompressedSparseMatrix.hpp: In instantiation of ‘tatami::CompressedSparseMatrix<row_, Value_, Index_, ValueStorage_, IndexStorage_, PointerStorage_>::CompressedSparseMatrix(Index_, Index_, ValueStorage_, IndexStorage_, PointerStorage_, bool) [with bool row_ = false; Value_ = double; Index_ = int; ValueStorage_ = tatami::ArrayView<int>; IndexStorage_ = tatami::ArrayView<int>; PointerStorage_ = tatami::ArrayView<int>]’:
sparse_matrix.cpp:18:16: required from ‘tatami::NumericMatrix* store_sparse_matrix(XVector_, Rcpp::IntegerVector, Rcpp::IntegerVector, int, int, bool) [with T_ = int; XVector_ = Rcpp::Vector<10, Rcpp::PreserveStorage>; tatami::NumericMatrix = tatami::Matrix<double, int>; Rcpp::IntegerVector = Rcpp::Vector<13>]’
sparse_matrix.cpp:39:111: required from here
../inst/include/tatami/sparse/CompressedSparseMatrix.hpp:112:46: warning: comparison of integer expressions of different signedness: ‘size_t’ {aka ‘long unsigned int’} and ‘int’ [-Wsign-compare]
../inst/include/tatami/sparse/CompressedSparseMatrix.hpp: In instantiation of ‘tatami::CompressedSparseMatrix<row_, Value_, Index_, ValueStorage_, IndexStorage_, PointerStorage_>::CompressedSparseMatrix(Index_, Index_, ValueStorage_, IndexStorage_, PointerStorage_, bool) [with bool row_ = true; Value_ = double; Index_ = int; ValueStorage_ = tatami::ArrayView<double>; IndexStorage_ = tatami::ArrayView<int>; PointerStorage_ = tatami::ArrayView<int>]’:
sparse_matrix.cpp:15:16: required from ‘tatami::NumericMatrix* store_sparse_matrix(XVector_, Rcpp::IntegerVector, Rcpp::IntegerVector, int, int, bool) [with T_ = double; XVector_ = Rcpp::Vector<14, Rcpp::PreserveStorage>; tatami::NumericMatrix = tatami::Matrix<double, int>; Rcpp::IntegerVector = Rcpp::Vector<13>]’
sparse_matrix.cpp:42:114: required from here
../inst/include/tatami/sparse/CompressedSparseMatrix.hpp:112:46: warning: comparison of integer expressions of different signedness: ‘size_t’ {aka ‘long unsigned int’} and ‘int’ [-Wsign-compare]
../inst/include/tatami/sparse/CompressedSparseMatrix.hpp: In instantiation of ‘tatami::CompressedSparseMatrix<row_, Value_, Index_, ValueStorage_, IndexStorage_, PointerStorage_>::CompressedSparseMatrix(Index_, Index_, ValueStorage_, IndexStorage_, PointerStorage_, bool) [with bool row_ = false; Value_ = double; Index_ = int; ValueStorage_ = tatami::ArrayView<double>; IndexStorage_ = tatami::ArrayView<int>; PointerStorage_ = tatami::ArrayView<int>]’:
sparse_matrix.cpp:18:16: required from ‘tatami::NumericMatrix* store_sparse_matrix(XVector_, Rcpp::IntegerVector, Rcpp::IntegerVector, int, int, bool) [with T_ = double; XVector_ = Rcpp::Vector<14, Rcpp::PreserveStorage>; tatami::NumericMatrix = tatami::Matrix<double, int>; Rcpp::IntegerVector = Rcpp::Vector<13>]’
sparse_matrix.cpp:42:114: required from here
../inst/include/tatami/sparse/CompressedSparseMatrix.hpp:112:46: warning: comparison of integer expressions of different signedness: ‘size_t’ {aka ‘long unsigned int’} and ‘int’ [-Wsign-compare]
g++ -std=gnu++17 -I"/home/biocbuild/R/R-4.3.1/include" -DNDEBUG -I../inst/include -I'/home/biocbuild/R/R-4.3.1/site-library/Rcpp/include' -I/usr/local/include -fPIC -g -O2 -Wall -c tatami_utils.cpp -o tatami_utils.o
g++ -std=gnu++17 -I"/home/biocbuild/R/R-4.3.1/include" -DNDEBUG -I../inst/include -I'/home/biocbuild/R/R-4.3.1/site-library/Rcpp/include' -I/usr/local/include -fPIC -g -O2 -Wall -c unknown_matrix.cpp -o unknown_matrix.o
g++ -std=gnu++17 -shared -L/home/biocbuild/R/R-4.3.1/lib -L/usr/local/lib -o beachmat.so RcppExports.o delayed_isometric_binary.o delayed_isometric_math.o delayed_isometric_unary.o delayed_other.o dense_matrix.o fragment_sparse_rows.o sparse_matrix.o tatami_utils.o unknown_matrix.o -L/home/biocbuild/R/R-4.3.1/lib -lR
installing to /home/biocbuild/R/R-4.3.1/site-library/00LOCK-beachmat/00new/beachmat/libs
** R
** inst
** byte-compile and prepare package for lazy loading
** help
*** installing help indices
** building package indices
** installing vignettes
** testing if installed package can be loaded from temporary location
** checking absolute paths in shared objects and dynamic libraries
** testing if installed package can be loaded from final location
** testing if installed package keeps a record of temporary installation path
* DONE (beachmat)
beachmat.Rcheck/tests/testthat.Rout
R version 4.3.1 (2023-06-16) -- "Beagle Scouts"
Copyright (C) 2023 The R Foundation for Statistical Computing
Platform: aarch64-unknown-linux-gnu (64-bit)
R is free software and comes with ABSOLUTELY NO WARRANTY.
You are welcome to redistribute it under certain conditions.
Type 'license()' or 'licence()' for distribution details.
R is a collaborative project with many contributors.
Type 'contributors()' for more information and
'citation()' on how to cite R or R packages in publications.
Type 'demo()' for some demos, 'help()' for on-line help, or
'help.start()' for an HTML browser interface to help.
Type 'q()' to quit R.
> library(testthat)
> library(beachmat)
> test_check("beachmat")
── R CMD build ─────────────────────────────────────────────────────────────────
* checking for file ‘.../DESCRIPTION’ ... OK
* preparing ‘morebeachtests’:
* checking DESCRIPTION meta-information ... OK
* cleaning src
* checking for LF line-endings in source and make files and shell scripts
* checking for empty or unneeded directories
* building ‘morebeachtests_1.0.0.tar.gz’
── R CMD check ─────────────────────────────────────────────────────────────────
* using log directory ‘/home/biocbuild/tmp/RtmpMgIzhS/file5d5c236ad0d74/morebeachtests.Rcheck’
* using R version 4.3.1 (2023-06-16)
* using platform: aarch64-unknown-linux-gnu (64-bit)
* R was compiled by
gcc (GCC) 10.3.1
GNU Fortran (GCC) 10.3.1
* running under: openEuler 22.03 (LTS-SP1)
* using session charset: UTF-8
* checking for file ‘morebeachtests/DESCRIPTION’ ... OK
* this is package ‘morebeachtests’ version ‘1.0.0’
* checking package namespace information ... OK
* checking package dependencies ... OK
* checking if this is a source package ... OK
* checking if there is a namespace ... OK
* checking for hidden files and directories ... OK
* checking for portable file names ... OK
* checking for sufficient/correct file permissions ... OK
* checking whether package ‘morebeachtests’ can be installed ... OK
* used C++ compiler: ‘g++ (GCC) 10.3.1’
* checking C++ specification ... NOTE
Specified C++11: please drop specification unless essential
* checking installed package size ... NOTE
installed size is 13.5Mb
sub-directories of 1Mb or more:
libs 13.4Mb
* checking package directory ... OK
* checking DESCRIPTION meta-information ... OK
* checking top-level files ... OK
* checking for left-over files ... OK
* checking index information ... OK
* checking package subdirectories ... OK
* checking R files for non-ASCII characters ... OK
* checking R files for syntax errors ... OK
* checking whether the package can be loaded ... OK
* checking whether the package can be loaded with stated dependencies ... OK
* checking whether the package can be unloaded cleanly ... OK
* checking whether the namespace can be loaded with stated dependencies ... OK
* checking whether the namespace can be unloaded cleanly ... OK
* checking loading without being on the library search path ... OK
* checking dependencies in R code ... OK
* checking S3 generic/method consistency ... OK
* checking replacement functions ... OK
* checking foreign function calls ... OK
* checking R code for possible problems ... OK
* checking for missing documentation entries ... OK
* checking line endings in C/C++/Fortran sources/headers ... OK
* checking compiled code ... OK
* checking examples ... NONE
* checking for unstated dependencies in ‘tests’ ... OK
* checking tests ...
Running ‘testthat.R’
OK
* checking PDF version of manual ... OK
* DONE
Status: 2 NOTEs
See
‘/home/biocbuild/tmp/RtmpMgIzhS/file5d5c236ad0d74/morebeachtests.Rcheck/00check.log’
for details.
[ FAIL 0 | WARN 0 | SKIP 0 | PASS 16273 ]
>
> proc.time()
user system elapsed
207.515 27.256 459.047
beachmat.Rcheck/beachmat-Ex.timings
| name | user | system | elapsed | |
| checkMemoryCache | 0.574 | 0.000 | 0.578 | |
| colBlockApply | 18.691 | 2.349 | 35.352 | |
| initializeCpp | 0.012 | 0.000 | 0.015 | |
| realizeFileBackedMatrix | 0.603 | 0.021 | 0.657 | |
| toCsparse | 0.153 | 0.004 | 0.158 | |
| whichNonZero | 1.019 | 0.064 | 1.085 | |