| Back to Multiple platform build/check report for BioC 3.18: simplified long |
|
This page was generated on 2024-04-17 11:36:33 -0400 (Wed, 17 Apr 2024).
| Hostname | OS | Arch (*) | R version | Installed pkgs |
|---|---|---|---|---|
| nebbiolo2 | Linux (Ubuntu 22.04.3 LTS) | x86_64 | 4.3.3 (2024-02-29) -- "Angel Food Cake" | 4676 |
| palomino4 | Windows Server 2022 Datacenter | x64 | 4.3.3 (2024-02-29 ucrt) -- "Angel Food Cake" | 4414 |
| merida1 | macOS 12.7.1 Monterey | x86_64 | 4.3.3 (2024-02-29) -- "Angel Food Cake" | 4437 |
| Click on any hostname to see more info about the system (e.g. compilers) (*) as reported by 'uname -p', except on Windows and Mac OS X | ||||
| Package 121/2266 | Hostname | OS / Arch | INSTALL | BUILD | CHECK | BUILD BIN | ||||||||
| bamsignals 1.34.0 (landing page) Johannes Helmuth
| nebbiolo2 | Linux (Ubuntu 22.04.3 LTS) / x86_64 | OK | OK | WARNINGS | |||||||||
| palomino4 | Windows Server 2022 Datacenter / x64 | OK | OK | OK | OK | |||||||||
| merida1 | macOS 12.7.1 Monterey / x86_64 | OK | OK | WARNINGS | OK | |||||||||
| kjohnson1 | macOS 13.6.1 Ventura / arm64 | see weekly results here | ||||||||||||
|
To the developers/maintainers of the bamsignals package: - Allow up to 24 hours (and sometimes 48 hours) for your latest push to git@git.bioconductor.org:packages/bamsignals.git to reflect on this report. See Troubleshooting Build Report for more information. - Use the following Renviron settings to reproduce errors and warnings. - If 'R CMD check' started to fail recently on the Linux builder(s) over a missing dependency, add the missing dependency to 'Suggests:' in your DESCRIPTION file. See Renviron.bioc for more information. |
| Package: bamsignals |
| Version: 1.34.0 |
| Command: F:\biocbuild\bbs-3.18-bioc\R\bin\R.exe CMD INSTALL bamsignals |
| StartedAt: 2024-04-15 15:43:38 -0400 (Mon, 15 Apr 2024) |
| EndedAt: 2024-04-15 15:44:24 -0400 (Mon, 15 Apr 2024) |
| EllapsedTime: 46.0 seconds |
| RetCode: 0 |
| Status: OK |
##############################################################################
##############################################################################
###
### Running command:
###
### F:\biocbuild\bbs-3.18-bioc\R\bin\R.exe CMD INSTALL bamsignals
###
##############################################################################
##############################################################################
* installing to library 'F:/biocbuild/bbs-3.18-bioc/R/library'
* installing *source* package 'bamsignals' ...
** using staged installation
** libs
using C compiler: 'gcc.exe (GCC) 12.3.0'
using C++ compiler: 'G__~1.EXE (GCC) 12.3.0'
g++ -std=gnu++17 -I"F:/biocbuild/bbs-3.18-bioc/R/include" -DNDEBUG -I'F:/biocbuild/bbs-3.18-bioc/R/library/Rcpp/include' -I'F:/biocbuild/bbs-3.18-bioc/R/library/Rhtslib/include' -I'F:/biocbuild/bbs-3.18-bioc/R/library/zlibbioc/include' -I"C:/rtools43/x86_64-w64-mingw32.static.posix/include" -O2 -Wall -mfpmath=sse -msse2 -mstackrealign -c CountSignals.cpp -o CountSignals.o
g++ -std=gnu++17 -I"F:/biocbuild/bbs-3.18-bioc/R/include" -DNDEBUG -I'F:/biocbuild/bbs-3.18-bioc/R/library/Rcpp/include' -I'F:/biocbuild/bbs-3.18-bioc/R/library/Rhtslib/include' -I'F:/biocbuild/bbs-3.18-bioc/R/library/zlibbioc/include' -I"C:/rtools43/x86_64-w64-mingw32.static.posix/include" -O2 -Wall -mfpmath=sse -msse2 -mstackrealign -c RcppExports.cpp -o RcppExports.o
g++ -std=gnu++17 -I"F:/biocbuild/bbs-3.18-bioc/R/include" -DNDEBUG -I'F:/biocbuild/bbs-3.18-bioc/R/library/Rcpp/include' -I'F:/biocbuild/bbs-3.18-bioc/R/library/Rhtslib/include' -I'F:/biocbuild/bbs-3.18-bioc/R/library/zlibbioc/include' -I"C:/rtools43/x86_64-w64-mingw32.static.posix/include" -O2 -Wall -mfpmath=sse -msse2 -mstackrealign -c bamsignals.cpp -o bamsignals.o
bamsignals.cpp: In function 'bool writeSamAsBamAndIndex(const std::string&, const std::string&)':
bamsignals.cpp:499:9: warning: variable 'iorval' set but not used [-Wunused-but-set-variable]
499 | int iorval;
| ^~~~~~
gcc -I"F:/biocbuild/bbs-3.18-bioc/R/include" -DNDEBUG -I'F:/biocbuild/bbs-3.18-bioc/R/library/Rcpp/include' -I'F:/biocbuild/bbs-3.18-bioc/R/library/Rhtslib/include' -I'F:/biocbuild/bbs-3.18-bioc/R/library/zlibbioc/include' -I"C:/rtools43/x86_64-w64-mingw32.static.posix/include" -O2 -Wall -mfpmath=sse -msse2 -mstackrealign -c bamsignals_init.c -o bamsignals_init.o
g++ -std=gnu++17 -shared -s -static-libgcc -o bamsignals.dll tmp.def CountSignals.o RcppExports.o bamsignals.o bamsignals_init.o F:/biocbuild/bbs-3.18-bioc/R/library/Rhtslib/usrlib/x64/libhts.a -lz -lm -lbz2 -llzma -lcurl -lbcrypt -lidn2 -lunistring -liconv -lssl -lcrypto -lcrypt32 -lwsock32 -lwldap32 -lssh2 -lgcrypt -lgpg-error -lws2_32 -lzstd -lregex -LC:/rtools43/x86_64-w64-mingw32.static.posix/lib/x64 -LC:/rtools43/x86_64-w64-mingw32.static.posix/lib -LF:/biocbuild/bbs-3.18-bioc/R/bin/x64 -lR
installing to F:/biocbuild/bbs-3.18-bioc/R/library/00LOCK-bamsignals/00new/bamsignals/libs/x64
** R
** inst
** byte-compile and prepare package for lazy loading
** help
*** installing help indices
** building package indices
** installing vignettes
** testing if installed package can be loaded from temporary location
** testing if installed package can be loaded from final location
** testing if installed package keeps a record of temporary installation path
* DONE (bamsignals)