| Back to Multiple platform build/check report for BioC 3.18: simplified long |
|
This page was generated on 2024-04-17 11:37:06 -0400 (Wed, 17 Apr 2024).
| Hostname | OS | Arch (*) | R version | Installed pkgs |
|---|---|---|---|---|
| nebbiolo2 | Linux (Ubuntu 22.04.3 LTS) | x86_64 | 4.3.3 (2024-02-29) -- "Angel Food Cake" | 4676 |
| palomino4 | Windows Server 2022 Datacenter | x64 | 4.3.3 (2024-02-29 ucrt) -- "Angel Food Cake" | 4414 |
| merida1 | macOS 12.7.1 Monterey | x86_64 | 4.3.3 (2024-02-29) -- "Angel Food Cake" | 4437 |
| Click on any hostname to see more info about the system (e.g. compilers) (*) as reported by 'uname -p', except on Windows and Mac OS X | ||||
| Package 1534/2266 | Hostname | OS / Arch | INSTALL | BUILD | CHECK | BUILD BIN | ||||||||
| PharmacoGx 3.6.0 (landing page) Benjamin Haibe-Kains
| nebbiolo2 | Linux (Ubuntu 22.04.3 LTS) / x86_64 | OK | OK | OK | |||||||||
| palomino4 | Windows Server 2022 Datacenter / x64 | OK | OK | OK | OK | |||||||||
| merida1 | macOS 12.7.1 Monterey / x86_64 | OK | OK | OK | OK | |||||||||
| kjohnson1 | macOS 13.6.1 Ventura / arm64 | see weekly results here | ||||||||||||
|
To the developers/maintainers of the PharmacoGx package: - Allow up to 24 hours (and sometimes 48 hours) for your latest push to git@git.bioconductor.org:packages/PharmacoGx.git to reflect on this report. See Troubleshooting Build Report for more information. - Use the following Renviron settings to reproduce errors and warnings. - If 'R CMD check' started to fail recently on the Linux builder(s) over a missing dependency, add the missing dependency to 'Suggests:' in your DESCRIPTION file. See Renviron.bioc for more information. |
| Package: PharmacoGx |
| Version: 3.6.0 |
| Command: F:\biocbuild\bbs-3.18-bioc\R\bin\R.exe CMD check --no-multiarch --install=check:PharmacoGx.install-out.txt --library=F:\biocbuild\bbs-3.18-bioc\R\library --no-vignettes --timings PharmacoGx_3.6.0.tar.gz |
| StartedAt: 2024-04-16 03:42:30 -0400 (Tue, 16 Apr 2024) |
| EndedAt: 2024-04-16 03:50:32 -0400 (Tue, 16 Apr 2024) |
| EllapsedTime: 482.6 seconds |
| RetCode: 0 |
| Status: OK |
| CheckDir: PharmacoGx.Rcheck |
| Warnings: 0 |
##############################################################################
##############################################################################
###
### Running command:
###
### F:\biocbuild\bbs-3.18-bioc\R\bin\R.exe CMD check --no-multiarch --install=check:PharmacoGx.install-out.txt --library=F:\biocbuild\bbs-3.18-bioc\R\library --no-vignettes --timings PharmacoGx_3.6.0.tar.gz
###
##############################################################################
##############################################################################
* using log directory 'F:/biocbuild/bbs-3.18-bioc/meat/PharmacoGx.Rcheck'
* using R version 4.3.3 (2024-02-29 ucrt)
* using platform: x86_64-w64-mingw32 (64-bit)
* R was compiled by
gcc.exe (GCC) 12.3.0
GNU Fortran (GCC) 12.3.0
* running under: Windows Server 2022 x64 (build 20348)
* using session charset: UTF-8
* using option '--no-vignettes'
* checking for file 'PharmacoGx/DESCRIPTION' ... OK
* checking extension type ... Package
* this is package 'PharmacoGx' version '3.6.0'
* package encoding: UTF-8
* checking package namespace information ... OK
* checking package dependencies ... OK
* checking if this is a source package ... OK
* checking if there is a namespace ... OK
* checking for hidden files and directories ... OK
* checking for portable file names ... OK
* checking whether package 'PharmacoGx' can be installed ... OK
* used C compiler: 'gcc.exe (GCC) 12.3.0'
* used C++ compiler: 'G__~1.EXE (GCC) 12.3.0'
* checking installed package size ... OK
* checking package directory ... OK
* checking 'build' directory ... OK
* checking DESCRIPTION meta-information ... OK
* checking top-level files ... OK
* checking for left-over files ... OK
* checking index information ... OK
* checking package subdirectories ... OK
* checking R files for non-ASCII characters ... OK
* checking R files for syntax errors ... OK
* checking whether the package can be loaded ... OK
* checking whether the package can be loaded with stated dependencies ... OK
* checking whether the package can be unloaded cleanly ... OK
* checking whether the namespace can be loaded with stated dependencies ... OK
* checking whether the namespace can be unloaded cleanly ... OK
* checking startup messages can be suppressed ... OK
* checking dependencies in R code ... NOTE
There are ::: calls to the package's namespace in its code. A package
almost never needs to use ::: for its own objects:
'.Hill' '.summarizeSensitivityNumbers' 'partialCorQUICKSTOP'
* checking S3 generic/method consistency ... OK
* checking replacement functions ... OK
* checking foreign function calls ... OK
* checking R code for possible problems ... NOTE
.computeZIPdelta: no visible binding for global variable
'EC50_proj_1_to_2'
.computeZIPdelta: no visible binding for global variable
'EC50_proj_2_to_1'
.computeZIPdelta: no visible binding for global variable
'HS_proj_1_to_2'
.computeZIPdelta: no visible binding for global variable
'HS_proj_2_to_1'
.computeZIPdelta: no visible binding for global variable
'E_inf_proj_2_to_1'
.computeZIPdelta: no visible binding for global variable
'E_inf_proj_1_to_2'
.computeZIPdelta: no visible binding for global variable 'Rsqr_1_to_2'
.computeZIPdelta: no visible binding for global variable 'Rsqr_2_to_1'
.plotProjHill: no visible binding for global variable 'treatment1id'
.plotProjHill: no visible binding for global variable 'treatment2id'
.plotProjHill: no visible binding for global variable 'treatment2dose'
.plotProjHill: no visible binding for global variable
'EC50_proj_2_to_1'
.plotProjHill: no visible binding for global variable 'HS_proj_2_to_1'
.plotProjHill: no visible binding for global variable 'EC50_2'
.plotProjHill: no visible binding for global variable 'E_inf_2'
.plotProjHill: no visible binding for global variable
'E_inf_proj_2_to_1'
.plotProjHill: no visible binding for global variable 'HS_2'
.plotProjHill: no visible binding for global variable 'treatment1dose'
.plotProjHill: no visible binding for global variable 'combo_viability'
.plotProjHill: no visible binding for global variable 'x'
.plotProjHill: no visible binding for global variable
'EC50_proj_1_to_2'
.plotProjHill: no visible binding for global variable 'HS_proj_1_to_2'
.plotProjHill: no visible binding for global variable 'EC50_1'
.plotProjHill: no visible binding for global variable 'HS_1'
.plotProjHill: no visible binding for global variable 'E_inf_1'
.plotProjHill: no visible binding for global variable
'E_inf_proj_1_to_2'
fitTwowayZIP: no visible binding for global variable 'treatment1dose'
fitTwowayZIP: no visible binding for global variable 'combo_viability'
fitTwowayZIP: no visible binding for global variable 'treatment2dose'
fitTwowayZIP: no visible binding for global variable 'EC50_2'
fitTwowayZIP: no visible binding for global variable 'HS_2'
fitTwowayZIP: no visible binding for global variable 'E_inf_2'
fitTwowayZIP: no visible binding for global variable 'EC50_1'
fitTwowayZIP: no visible binding for global variable 'HS_1'
fitTwowayZIP: no visible binding for global variable 'E_inf_1'
mergePSets: no visible global function definition for
'checkPSetStructure'
computeZIPdelta,TreatmentResponseExperiment: no visible binding for
global variable 'ZIP'
computeZIPdelta,TreatmentResponseExperiment: no visible binding for
global variable 'EC50_proj_1_to_2'
computeZIPdelta,TreatmentResponseExperiment: no visible binding for
global variable 'EC50_proj_2_to_1'
computeZIPdelta,TreatmentResponseExperiment: no visible binding for
global variable 'EC50_1'
computeZIPdelta,TreatmentResponseExperiment: no visible binding for
global variable 'EC50_2'
computeZIPdelta,TreatmentResponseExperiment: no visible binding for
global variable 'HS_proj_1_to_2'
computeZIPdelta,TreatmentResponseExperiment: no visible binding for
global variable 'HS_proj_2_to_1'
computeZIPdelta,TreatmentResponseExperiment: no visible binding for
global variable 'HS_1'
computeZIPdelta,TreatmentResponseExperiment: no visible binding for
global variable 'HS_2'
computeZIPdelta,TreatmentResponseExperiment: no visible binding for
global variable 'E_inf_1'
computeZIPdelta,TreatmentResponseExperiment: no visible binding for
global variable 'E_inf_2'
computeZIPdelta,TreatmentResponseExperiment: no visible binding for
global variable 'E_inf_proj_2_to_1'
computeZIPdelta,TreatmentResponseExperiment: no visible binding for
global variable 'E_inf_proj_1_to_2'
computeZIPdelta,TreatmentResponseExperiment: no visible binding for
global variable 'treatment1dose'
computeZIPdelta,TreatmentResponseExperiment: no visible binding for
global variable 'treatment2dose'
computeZIPdelta,TreatmentResponseExperiment: no visible binding for
global variable 'Rsqr_1_to_2'
computeZIPdelta,TreatmentResponseExperiment: no visible binding for
global variable 'Rsqr_2_to_1'
Undefined global functions or variables:
EC50_1 EC50_2 EC50_proj_1_to_2 EC50_proj_2_to_1 E_inf_1 E_inf_2
E_inf_proj_1_to_2 E_inf_proj_2_to_1 HS_1 HS_2 HS_proj_1_to_2
HS_proj_2_to_1 Rsqr_1_to_2 Rsqr_2_to_1 ZIP checkPSetStructure
combo_viability treatment1dose treatment1id treatment2dose
treatment2id x
* checking Rd files ... OK
* checking Rd metadata ... OK
* checking Rd cross-references ... OK
* checking for missing documentation entries ... OK
* checking for code/documentation mismatches ... OK
* checking Rd \usage sections ... OK
* checking Rd contents ... OK
* checking for unstated dependencies in examples ... OK
* checking contents of 'data' directory ... OK
* checking data for non-ASCII characters ... NOTE
Note: found 2251 marked UTF-8 strings
* checking data for ASCII and uncompressed saves ... OK
* checking line endings in C/C++/Fortran sources/headers ... OK
* checking compiled code ... NOTE
Note: information on .o files for x64 is not available
File 'F:/biocbuild/bbs-3.18-bioc/R/library/PharmacoGx/libs/x64/PharmacoGx.dll':
Found 'abort', possibly from 'abort' (C), 'runtime' (Fortran)
Found 'exit', possibly from 'exit' (C), 'stop' (Fortran)
Compiled code should not call entry points which might terminate R nor
write to stdout/stderr instead of to the console, nor use Fortran I/O
nor system RNGs nor [v]sprintf. The detected symbols are linked into
the code but might come from libraries and not actually be called.
See 'Writing portable packages' in the 'Writing R Extensions' manual.
* checking files in 'vignettes' ... OK
* checking examples ... OK
Examples with CPU (user + system) or elapsed time > 5s
user system elapsed
PharmacoSet-accessors 7.00 2.29 9.30
connectivityScore 2.53 0.03 15.31
gwc 2.17 0.04 14.61
cosinePerm 0.83 0.05 16.00
mcc 0.81 0.02 16.83
* checking for unstated dependencies in 'tests' ... OK
* checking tests ...
Running 'testthat.R'
OK
* checking for unstated dependencies in vignettes ... OK
* checking package vignettes in 'inst/doc' ... OK
* checking running R code from vignettes ... SKIPPED
* checking re-building of vignette outputs ... SKIPPED
* checking PDF version of manual ... OK
* DONE
Status: 4 NOTEs
See
'F:/biocbuild/bbs-3.18-bioc/meat/PharmacoGx.Rcheck/00check.log'
for details.
PharmacoGx.Rcheck/00install.out
##############################################################################
##############################################################################
###
### Running command:
###
### F:\biocbuild\bbs-3.18-bioc\R\bin\R.exe CMD INSTALL PharmacoGx
###
##############################################################################
##############################################################################
* installing to library 'F:/biocbuild/bbs-3.18-bioc/R/library'
* installing *source* package 'PharmacoGx' ...
** using staged installation
** libs
using C compiler: 'gcc.exe (GCC) 12.3.0'
using C++ compiler: 'G__~1.EXE (GCC) 12.3.0'
g++ -std=gnu++17 -I"F:/biocbuild/bbs-3.18-bioc/R/include" -DNDEBUG -I'F:/biocbuild/bbs-3.18-bioc/R/library/Rcpp/include' -I"C:/rtools43/x86_64-w64-mingw32.static.posix/include" -O2 -Wall -mfpmath=sse -msse2 -mstackrealign -c RcppExports.cpp -o RcppExports.o
gcc -I"F:/biocbuild/bbs-3.18-bioc/R/include" -DNDEBUG -I'F:/biocbuild/bbs-3.18-bioc/R/library/Rcpp/include' -I"C:/rtools43/x86_64-w64-mingw32.static.posix/include" -O2 -Wall -mfpmath=sse -msse2 -mstackrealign -c metaPermC.c -o metaPermC.o
metaPermC.c: In function 'runPerm':
metaPermC.c:143:12: warning: unused variable 'num_larger' [-Wunused-variable]
143 | uint64_t num_larger = 0;
| ^~~~~~~~~~
metaPermC.c: In function 'partialCorQUICKSTOP':
metaPermC.c:328:10: warning: unused variable 'temp' [-Wunused-variable]
328 | double temp;
| ^~~~
g++ -std=gnu++17 -I"F:/biocbuild/bbs-3.18-bioc/R/include" -DNDEBUG -I'F:/biocbuild/bbs-3.18-bioc/R/library/Rcpp/include' -I"C:/rtools43/x86_64-w64-mingw32.static.posix/include" -O2 -Wall -mfpmath=sse -msse2 -mstackrealign -c rCPP_bridge.cpp -o rCPP_bridge.o
g++ -std=gnu++17 -shared -s -static-libgcc -o PharmacoGx.dll tmp.def RcppExports.o metaPermC.o rCPP_bridge.o -LC:/rtools43/x86_64-w64-mingw32.static.posix/lib/x64 -LC:/rtools43/x86_64-w64-mingw32.static.posix/lib -LF:/biocbuild/bbs-3.18-bioc/R/bin/x64 -lR
installing to F:/biocbuild/bbs-3.18-bioc/R/library/00LOCK-PharmacoGx/00new/PharmacoGx/libs/x64
** R
** data
** inst
** byte-compile and prepare package for lazy loading
** help
*** installing help indices
** building package indices
** installing vignettes
** testing if installed package can be loaded from temporary location
** testing if installed package can be loaded from final location
** testing if installed package keeps a record of temporary installation path
* DONE (PharmacoGx)
PharmacoGx.Rcheck/tests/testthat.Rout
R version 4.3.3 (2024-02-29 ucrt) -- "Angel Food Cake"
Copyright (C) 2024 The R Foundation for Statistical Computing
Platform: x86_64-w64-mingw32/x64 (64-bit)
R is free software and comes with ABSOLUTELY NO WARRANTY.
You are welcome to redistribute it under certain conditions.
Type 'license()' or 'licence()' for distribution details.
R is a collaborative project with many contributors.
Type 'contributors()' for more information and
'citation()' on how to cite R or R packages in publications.
Type 'demo()' for some demos, 'help()' for on-line help, or
'help.start()' for an HTML browser interface to help.
Type 'q()' to quit R.
> Sys.unsetenv("R_TESTS")
>
> library(testthat)
> library(PharmacoGx)
Loading required package: CoreGx
Loading required package: BiocGenerics
Attaching package: 'BiocGenerics'
The following objects are masked from 'package:stats':
IQR, mad, sd, var, xtabs
The following objects are masked from 'package:base':
Filter, Find, Map, Position, Reduce, anyDuplicated, aperm, append,
as.data.frame, basename, cbind, colnames, dirname, do.call,
duplicated, eval, evalq, get, grep, grepl, intersect, is.unsorted,
lapply, mapply, match, mget, order, paste, pmax, pmax.int, pmin,
pmin.int, rank, rbind, rownames, sapply, setdiff, sort, table,
tapply, union, unique, unsplit, which.max, which.min
Loading required package: SummarizedExperiment
Loading required package: MatrixGenerics
Loading required package: matrixStats
Attaching package: 'MatrixGenerics'
The following objects are masked from 'package:matrixStats':
colAlls, colAnyNAs, colAnys, colAvgsPerRowSet, colCollapse,
colCounts, colCummaxs, colCummins, colCumprods, colCumsums,
colDiffs, colIQRDiffs, colIQRs, colLogSumExps, colMadDiffs,
colMads, colMaxs, colMeans2, colMedians, colMins, colOrderStats,
colProds, colQuantiles, colRanges, colRanks, colSdDiffs, colSds,
colSums2, colTabulates, colVarDiffs, colVars, colWeightedMads,
colWeightedMeans, colWeightedMedians, colWeightedSds,
colWeightedVars, rowAlls, rowAnyNAs, rowAnys, rowAvgsPerColSet,
rowCollapse, rowCounts, rowCummaxs, rowCummins, rowCumprods,
rowCumsums, rowDiffs, rowIQRDiffs, rowIQRs, rowLogSumExps,
rowMadDiffs, rowMads, rowMaxs, rowMeans2, rowMedians, rowMins,
rowOrderStats, rowProds, rowQuantiles, rowRanges, rowRanks,
rowSdDiffs, rowSds, rowSums2, rowTabulates, rowVarDiffs, rowVars,
rowWeightedMads, rowWeightedMeans, rowWeightedMedians,
rowWeightedSds, rowWeightedVars
Loading required package: GenomicRanges
Loading required package: stats4
Loading required package: S4Vectors
Attaching package: 'S4Vectors'
The following object is masked from 'package:utils':
findMatches
The following objects are masked from 'package:base':
I, expand.grid, unname
Loading required package: IRanges
Attaching package: 'IRanges'
The following object is masked from 'package:grDevices':
windows
Loading required package: GenomeInfoDb
Loading required package: Biobase
Welcome to Bioconductor
Vignettes contain introductory material; view with
'browseVignettes()'. To cite Bioconductor, see
'citation("Biobase")', and for packages 'citation("pkgname")'.
Attaching package: 'Biobase'
The following object is masked from 'package:MatrixGenerics':
rowMedians
The following objects are masked from 'package:matrixStats':
anyMissing, rowMedians
Attaching package: 'PharmacoGx'
The following objects are masked from 'package:CoreGx':
.parseToRoxygen, amcc, connectivityScore, cosinePerm, gwc, mcc
>
> test_check("PharmacoGx")
|
| | 0%
|
|======================================================================| 100%
|
| | 0%
|
|======================================================================| 100%
[1] 1 1 -1
[1] 0
[1] 0
[,1] [,2] [,3]
lower_bounds 0 0 0
upper_bounds 1 1 -1
|
| | 0%
|
|======================================================================| 100%
|
| | 0%
|
|======================================================================| 100%
|
| | 0%
|
|======================================================================| 100%
|
| | 0%
|
|======================================================================| 100%
|
| | 0%
|
|======================================================================| 100%
|
| | 0%
|
|======================================================================| 100%
|
| | 0%
|
|======================================================================| 100%
[ FAIL 0 | WARN 3 | SKIP 1 | PASS 129 ]
══ Skipped tests (1) ═══════════════════════════════════════════════════════════
• empty test (1): 'test_PharmacoSet_utils.R:28:1'
[ FAIL 0 | WARN 3 | SKIP 1 | PASS 129 ]
>
> proc.time()
user system elapsed
80.18 1.81 82.04
PharmacoGx.Rcheck/PharmacoGx-Ex.timings
| name | user | system | elapsed | |
| PharmacoSet-accessors | 7.00 | 2.29 | 9.30 | |
| PharmacoSet-utils | 2.38 | 0.00 | 2.37 | |
| PharmacoSet | 0.00 | 0.02 | 0.01 | |
| PharmacoSet2 | 0.80 | 0.02 | 0.82 | |
| PharmacoSig | 0.03 | 0.01 | 0.04 | |
| amcc | 0 | 0 | 0 | |
| availablePSets | 0 | 0 | 0 | |
| callingWaterfall | 0 | 0 | 0 | |
| checkPsetStructure | 1.08 | 0.01 | 1.09 | |
| computeABC | 0.85 | 0.02 | 0.87 | |
| computeAUC | 0.43 | 0.01 | 0.44 | |
| computeAmax | 0.26 | 0.00 | 0.27 | |
| computeBliss | 0 | 0 | 0 | |
| computeHSA | 0 | 0 | 0 | |
| computeICn | 0.97 | 0.02 | 1.00 | |
| computeLoewe | 0 | 0 | 0 | |
| computeSlope | 0 | 0 | 0 | |
| computeZIP | 0 | 0 | 0 | |
| computeZIPdelta-TreatmentResponseExperiment-method | 0 | 0 | 0 | |
| computeZIPdelta | 0 | 0 | 0 | |
| connectivityScore | 2.53 | 0.03 | 15.31 | |
| cosinePerm | 0.83 | 0.05 | 16.00 | |
| dot-computeZIPdelta | 0 | 0 | 0 | |
| downloadPSet | 0 | 0 | 0 | |
| downloadPertSig | 0 | 0 | 0 | |
| drugDoseResponseCurve | 0 | 0 | 0 | |
| drugPerturbationSig | 2.48 | 0.08 | 2.56 | |
| drugSensitivitySig-PharmacoSet-method | 1.19 | 0.07 | 1.27 | |
| effectToDose | 0 | 0 | 0 | |
| filterNoisyCurves | 1.33 | 0.04 | 1.36 | |
| fitTwowayZIP | 0 | 0 | 0 | |
| geneDrugSensitivity | 0 | 0 | 0 | |
| geneDrugSensitivityPBCorr | 0 | 0 | 0 | |
| geneDrugSensitivityPCorr | 0 | 0 | 0 | |
| gwc | 2.17 | 0.04 | 14.61 | |
| hillCurve | 0.00 | 0.02 | 0.01 | |
| intersectPSet | 1.63 | 0.01 | 1.64 | |
| loeweCI | 0 | 0 | 0 | |
| logLogisticRegression | 0.5 | 0.0 | 0.5 | |
| mcc | 0.81 | 0.02 | 16.83 | |
| plot.PharmacoSig | 1.56 | 0.01 | 1.58 | |
| show-PharmacoSet-method | 1.17 | 0.07 | 1.23 | |
| show-PharmacoSig-method | 1.22 | 0.08 | 1.30 | |
| showSigAnnot-PharmacoSig-method | 1.36 | 0.01 | 1.37 | |
| sub-PharmacoSet-ANY-ANY-ANY-method | 1.35 | 0.02 | 1.36 | |
| subsetTo-PharmacoSet-method | 0.84 | 0.03 | 0.88 | |
| summarizeMolecularProfiles-PharmacoSet-method | 0.09 | 0.00 | 0.09 | |
| summarizeSensitivityProfiles-PharmacoSet-method | 0.05 | 0.01 | 0.06 | |