| Back to Multiple platform build/check report for BioC 3.18: simplified long |
|
This page was generated on 2024-03-06 11:33:47 -0500 (Wed, 06 Mar 2024).
| Hostname | OS | Arch (*) | R version | Installed pkgs |
|---|---|---|---|---|
| nebbiolo2 | Linux (Ubuntu 22.04.3 LTS) | x86_64 | 4.3.2 Patched (2023-11-13 r85521) -- "Eye Holes" | 4692 |
| palomino4 | Windows Server 2022 Datacenter | x64 | 4.3.2 (2023-10-31 ucrt) -- "Eye Holes" | 4445 |
| Click on any hostname to see more info about the system (e.g. compilers) (*) as reported by 'uname -p', except on Windows and Mac OS X | ||||
| Package 1452/2266 | Hostname | OS / Arch | INSTALL | BUILD | CHECK | BUILD BIN | ||||||||
| OmnipathR 3.10.1 (landing page) Denes Turei
| nebbiolo2 | Linux (Ubuntu 22.04.3 LTS) / x86_64 | OK | OK | OK | |||||||||
| palomino4 | Windows Server 2022 Datacenter / x64 | OK | OK | OK | OK | |||||||||
| kjohnson1 | macOS 13.6.1 Ventura / arm64 | see weekly results here | ||||||||||||
|
To the developers/maintainers of the OmnipathR package: - Allow up to 24 hours (and sometimes 48 hours) for your latest push to git@git.bioconductor.org:packages/OmnipathR.git to reflect on this report. See Troubleshooting Build Report for more information. - Use the following Renviron settings to reproduce errors and warnings. - If 'R CMD check' started to fail recently on the Linux builder(s) over a missing dependency, add the missing dependency to 'Suggests:' in your DESCRIPTION file. See Renviron.bioc for more information. |
| Package: OmnipathR |
| Version: 3.10.1 |
| Command: F:\biocbuild\bbs-3.18-bioc\R\bin\R.exe CMD check --no-multiarch --install=check:OmnipathR.install-out.txt --library=F:\biocbuild\bbs-3.18-bioc\R\library --no-vignettes --timings OmnipathR_3.10.1.tar.gz |
| StartedAt: 2024-03-06 04:44:22 -0500 (Wed, 06 Mar 2024) |
| EndedAt: 2024-03-06 04:55:18 -0500 (Wed, 06 Mar 2024) |
| EllapsedTime: 656.3 seconds |
| RetCode: 0 |
| Status: OK |
| CheckDir: OmnipathR.Rcheck |
| Warnings: 0 |
##############################################################################
##############################################################################
###
### Running command:
###
### F:\biocbuild\bbs-3.18-bioc\R\bin\R.exe CMD check --no-multiarch --install=check:OmnipathR.install-out.txt --library=F:\biocbuild\bbs-3.18-bioc\R\library --no-vignettes --timings OmnipathR_3.10.1.tar.gz
###
##############################################################################
##############################################################################
* using log directory 'F:/biocbuild/bbs-3.18-bioc/meat/OmnipathR.Rcheck'
* using R version 4.3.2 (2023-10-31 ucrt)
* using platform: x86_64-w64-mingw32 (64-bit)
* R was compiled by
gcc.exe (GCC) 12.3.0
GNU Fortran (GCC) 12.3.0
* running under: Windows Server 2022 x64 (build 20348)
* using session charset: UTF-8
* using option '--no-vignettes'
* checking for file 'OmnipathR/DESCRIPTION' ... OK
* checking extension type ... Package
* this is package 'OmnipathR' version '3.10.1'
* package encoding: UTF-8
* checking package namespace information ... OK
* checking package dependencies ... OK
* checking if this is a source package ... OK
* checking if there is a namespace ... OK
* checking for hidden files and directories ... OK
* checking for portable file names ... OK
* checking whether package 'OmnipathR' can be installed ... OK
* checking installed package size ... OK
* checking package directory ... OK
* checking DESCRIPTION meta-information ... OK
* checking top-level files ... OK
* checking for left-over files ... OK
* checking index information ... OK
* checking package subdirectories ... OK
* checking R files for non-ASCII characters ... OK
* checking R files for syntax errors ... OK
* checking whether the package can be loaded ... OK
* checking whether the package can be loaded with stated dependencies ... OK
* checking whether the package can be unloaded cleanly ... OK
* checking whether the namespace can be loaded with stated dependencies ... OK
* checking whether the namespace can be unloaded cleanly ... OK
* checking startup messages can be suppressed ... NOTE
[2024-03-06 04:44:44] [TRACE] [OmnipathR] Reading JSON from `C:\Users\biocbuild\AppData\Local\Cache\OmnipathR/cache.json` (encoding: UTF-8).
[2024-03-06 04:44:44] [TRACE] [OmnipathR] JSON validation successful: TRUE
[2024-03-06 04:44:44] [INFO] [OmnipathR] Initialized cache: `C:\Users\biocbuild\AppData\Local\Cache\OmnipathR`.
[2024-03-06 04:44:44] [TRACE] [OmnipathR] Running on a build server, wiping cache.
[2024-03-06 04:44:44] [TRACE] [OmnipathR] Cache is at `C:\Users\biocbuild\AppData\Local\Cache\OmnipathR`.
[2024-03-06 04:44:44] [TRACE] [OmnipathR] Contains 1 files.
[2024-03-06 04:44:44] [TRACE] [OmnipathR] Cache is locked: FALSE.
[2024-03-06 04:44:44] [TRACE] [OmnipathR] Reading JSON from `C:\Users\biocbuild\AppData\Local\Cache\OmnipathR/cache.json` (encoding: UTF-8).
[2024-03-06 04:44:44] [TRACE] [OmnipathR] JSON validation successful: TRUE
[2024-03-06 04:44:44] [SUCCESS] [OmnipathR] Removing all cache contents from `C:\Users\biocbuild\AppData\Local\Cache\OmnipathR`.
[2024-03-06 04:44:44] [TRACE] [OmnipathR] Pandoc version: `2.7.3`.
[2024-03-06 04:44:44] [TRACE] [OmnipathR] Reading JSON from `F:/biocbuild/bbs-3.18-bioc/R/library/OmnipathR/db/db_def.json` (encoding: UTF-8).
[2024-03-06 04:44:44] [TRACE] [OmnipathR] JSON validation successful: TRUE
[2024-03-06 04:44:44] [TRACE] [OmnipathR] Reading JSON from `F:/biocbuild/bbs-3.18-bioc/R/library/OmnipathR/internal/magic_bytes.json` (encoding: UTF-8).
[2024-03-06 04:44:44] [TRACE] [OmnipathR] JSON validation successful: TRUE
[2024-03-06 04:44:44] [TRACE] [OmnipathR] Reading JSON from `F:/biocbuild/bbs-3.18-bioc/R/library/OmnipathR/internal/urls.json` (encoding: UTF-8).
[2024-03-06 04:44:44] [TRACE] [OmnipathR] JSON validation successful: TRUE
[2024-03-06 04:44:44] [TRACE] [OmnipathR] Reading JSON from `F:/biocbuild/bbs-3.18-bioc/R/library/OmnipathR/internal/id_types.json` (encoding: UTF-8).
[2024-03-06 04:44:44] [TRACE] [OmnipathR] JSON validation successful: TRUE
[2024-03-06 04:44:44] [TRACE] [OmnipathR] Cache locked: FALSE
It looks like this package (or a package it requires) has a startup
message which cannot be suppressed: see ?packageStartupMessage.
* checking dependencies in R code ... OK
* checking S3 generic/method consistency ... OK
* checking replacement functions ... OK
* checking foreign function calls ... OK
* checking R code for possible problems ... NOTE
[2024-03-06 04:44:57] [TRACE] [OmnipathR] Reading JSON from `C:\Users\biocbuild\AppData\Local\Cache\OmnipathR/cache.json` (encoding: UTF-8).
[2024-03-06 04:44:57] [TRACE] [OmnipathR] JSON validation successful: TRUE
[2024-03-06 04:44:57] [INFO] [OmnipathR] Initialized cache: `C:\Users\biocbuild\AppData\Local\Cache\OmnipathR`.
[2024-03-06 04:44:57] [TRACE] [OmnipathR] Running on a build server, wiping cache.
[2024-03-06 04:44:57] [TRACE] [OmnipathR] Cache is at `C:\Users\biocbuild\AppData\Local\Cache\OmnipathR`.
[2024-03-06 04:44:57] [TRACE] [OmnipathR] Contains 1 files.
[2024-03-06 04:44:57] [TRACE] [OmnipathR] Cache is locked: FALSE.
[2024-03-06 04:44:57] [TRACE] [OmnipathR] Reading JSON from `C:\Users\biocbuild\AppData\Local\Cache\OmnipathR/cache.json` (encoding: UTF-8).
[2024-03-06 04:44:57] [TRACE] [OmnipathR] JSON validation successful: TRUE
[2024-03-06 04:44:57] [SUCCESS] [OmnipathR] Removing all cache contents from `C:\Users\biocbuild\AppData\Local\Cache\OmnipathR`.
[2024-03-06 04:44:57] [TRACE] [OmnipathR] Pandoc version: `2.7.3`.
[2024-03-06 04:44:57] [TRACE] [OmnipathR] Reading JSON from `F:/biocbuild/bbs-3.18-bioc/R/library/OmnipathR/db/db_def.json` (encoding: UTF-8).
[2024-03-06 04:44:57] [TRACE] [OmnipathR] JSON validation successful: TRUE
[2024-03-06 04:44:57] [TRACE] [OmnipathR] Reading JSON from `F:/biocbuild/bbs-3.18-bioc/R/library/OmnipathR/internal/magic_bytes.json` (encoding: UTF-8).
[2024-03-06 04:44:57] [TRACE] [OmnipathR] JSON validation successful: TRUE
[2024-03-06 04:44:57] [TRACE] [OmnipathR] Reading JSON from `F:/biocbuild/bbs-3.18-bioc/R/library/OmnipathR/internal/urls.json` (encoding: UTF-8).
[2024-03-06 04:44:57] [TRACE] [OmnipathR] JSON validation successful: TRUE
[2024-03-06 04:44:57] [TRACE] [OmnipathR] Reading JSON from `F:/biocbuild/bbs-3.18-bioc/R/library/OmnipathR/internal/id_types.json` (encoding: UTF-8).
[2024-03-06 04:44:57] [TRACE] [OmnipathR] JSON validation successful: TRUE
[2024-03-06 04:44:57] [TRACE] [OmnipathR] Cache locked: FALSE
* checking Rd files ... OK
* checking Rd metadata ... OK
* checking Rd cross-references ... OK
* checking for missing documentation entries ... OK
* checking for code/documentation mismatches ... OK
* checking Rd \usage sections ... OK
* checking Rd contents ... OK
* checking for unstated dependencies in examples ... OK
* checking R/sysdata.rda ... OK
* checking files in 'vignettes' ... OK
* checking examples ... OK
Examples with CPU (user + system) or elapsed time > 5s
user system elapsed
collectri 77.25 1.48 78.96
annotation_categories 61.72 0.08 62.40
dorothea 44.13 0.66 45.61
curated_ligrec_stats 23.55 1.66 66.55
filter_extra_attrs 14.83 0.11 15.33
pivot_annotations 11.58 0.60 13.84
nichenet_gr_network_omnipath 10.54 0.48 11.39
extra_attr_values 9.64 0.23 10.22
with_extra_attrs 9.19 0.19 9.87
giant_component 8.92 0.17 9.56
extra_attrs_to_cols 8.73 0.12 8.88
go_annot_download 8.06 0.53 7.63
static_table 7.60 0.27 8.09
nichenet_signaling_network_omnipath 7.53 0.19 8.28
print_interactions 6.08 0.23 7.80
filter_intercell 5.62 0.33 5.97
extra_attrs 5.30 0.02 5.31
omnipath 5.09 0.00 5.10
pubmed_open 4.87 0.22 5.58
filter_by_resource 4.69 0.11 5.43
curated_ligand_receptor_interactions 3.85 0.50 9.98
annotated_network 1.53 0.12 5.40
ensembl_id_mapping_table 0.75 0.08 32.05
with_references 0.61 0.06 6.31
* checking for unstated dependencies in 'tests' ... OK
* checking tests ...
Running 'testthat.R'
OK
* checking for unstated dependencies in vignettes ... OK
* checking package vignettes in 'inst/doc' ... OK
* checking running R code from vignettes ... SKIPPED
* checking re-building of vignette outputs ... SKIPPED
* checking PDF version of manual ... OK
* DONE
Status: 2 NOTEs
See
'F:/biocbuild/bbs-3.18-bioc/meat/OmnipathR.Rcheck/00check.log'
for details.
OmnipathR.Rcheck/00install.out
############################################################################## ############################################################################## ### ### Running command: ### ### F:\biocbuild\bbs-3.18-bioc\R\bin\R.exe CMD INSTALL OmnipathR ### ############################################################################## ############################################################################## * installing to library 'F:/biocbuild/bbs-3.18-bioc/R/library' * installing *source* package 'OmnipathR' ... ** using staged installation ** R ** inst ** byte-compile and prepare package for lazy loading ** help *** installing help indices *** copying figures ** building package indices ** installing vignettes ** testing if installed package can be loaded from temporary location [2024-03-05 16:28:21] [TRACE] [OmnipathR] Reading JSON from `C:\Users\biocbuild\AppData\Local\Cache\OmnipathR/cache.json` (encoding: UTF-8). [2024-03-05 16:28:21] [TRACE] [OmnipathR] JSON validation successful: TRUE [2024-03-05 16:28:21] [INFO] [OmnipathR] Initialized cache: `C:\Users\biocbuild\AppData\Local\Cache\OmnipathR`. [2024-03-05 16:28:21] [TRACE] [OmnipathR] Running on a build server, wiping cache. [2024-03-05 16:28:21] [TRACE] [OmnipathR] Cache is at `C:\Users\biocbuild\AppData\Local\Cache\OmnipathR`. [2024-03-05 16:28:21] [TRACE] [OmnipathR] Contains 1 files. [2024-03-05 16:28:21] [TRACE] [OmnipathR] Cache is locked: FALSE. [2024-03-05 16:28:21] [TRACE] [OmnipathR] Reading JSON from `C:\Users\biocbuild\AppData\Local\Cache\OmnipathR/cache.json` (encoding: UTF-8). [2024-03-05 16:28:21] [TRACE] [OmnipathR] JSON validation successful: TRUE [2024-03-05 16:28:21] [SUCCESS] [OmnipathR] Removing all cache contents from `C:\Users\biocbuild\AppData\Local\Cache\OmnipathR`. [2024-03-05 16:28:21] [TRACE] [OmnipathR] Pandoc version: `2.7.3`. [2024-03-05 16:28:21] [TRACE] [OmnipathR] Reading JSON from `F:/biocbuild/bbs-3.18-bioc/R/library/00LOCK-OmnipathR/00new/OmnipathR/db/db_def.json` (encoding: UTF-8). [2024-03-05 16:28:21] [TRACE] [OmnipathR] JSON validation successful: TRUE [2024-03-05 16:28:21] [TRACE] [OmnipathR] Reading JSON from `F:/biocbuild/bbs-3.18-bioc/R/library/00LOCK-OmnipathR/00new/OmnipathR/internal/magic_bytes.json` (encoding: UTF-8). [2024-03-05 16:28:21] [TRACE] [OmnipathR] JSON validation successful: TRUE [2024-03-05 16:28:21] [TRACE] [OmnipathR] Reading JSON from `F:/biocbuild/bbs-3.18-bioc/R/library/00LOCK-OmnipathR/00new/OmnipathR/internal/urls.json` (encoding: UTF-8). [2024-03-05 16:28:21] [TRACE] [OmnipathR] JSON validation successful: TRUE [2024-03-05 16:28:21] [TRACE] [OmnipathR] Reading JSON from `F:/biocbuild/bbs-3.18-bioc/R/library/00LOCK-OmnipathR/00new/OmnipathR/internal/id_types.json` (encoding: UTF-8). [2024-03-05 16:28:21] [TRACE] [OmnipathR] JSON validation successful: TRUE [2024-03-05 16:28:21] [TRACE] [OmnipathR] Cache locked: FALSE ** testing if installed package can be loaded from final location [2024-03-05 16:28:23] [TRACE] [OmnipathR] Reading JSON from `C:\Users\biocbuild\AppData\Local\Cache\OmnipathR/cache.json` (encoding: UTF-8). [2024-03-05 16:28:23] [TRACE] [OmnipathR] JSON validation successful: TRUE [2024-03-05 16:28:23] [INFO] [OmnipathR] Initialized cache: `C:\Users\biocbuild\AppData\Local\Cache\OmnipathR`. [2024-03-05 16:28:23] [TRACE] [OmnipathR] Running on a build server, wiping cache. [2024-03-05 16:28:23] [TRACE] [OmnipathR] Cache is at `C:\Users\biocbuild\AppData\Local\Cache\OmnipathR`. [2024-03-05 16:28:23] [TRACE] [OmnipathR] Contains 1 files. [2024-03-05 16:28:23] [TRACE] [OmnipathR] Cache is locked: FALSE. [2024-03-05 16:28:23] [TRACE] [OmnipathR] Reading JSON from `C:\Users\biocbuild\AppData\Local\Cache\OmnipathR/cache.json` (encoding: UTF-8). [2024-03-05 16:28:23] [TRACE] [OmnipathR] JSON validation successful: TRUE [2024-03-05 16:28:23] [SUCCESS] [OmnipathR] Removing all cache contents from `C:\Users\biocbuild\AppData\Local\Cache\OmnipathR`. [2024-03-05 16:28:23] [TRACE] [OmnipathR] Pandoc version: `2.7.3`. [2024-03-05 16:28:23] [TRACE] [OmnipathR] Reading JSON from `F:/biocbuild/bbs-3.18-bioc/R/library/OmnipathR/db/db_def.json` (encoding: UTF-8). [2024-03-05 16:28:23] [TRACE] [OmnipathR] JSON validation successful: TRUE [2024-03-05 16:28:23] [TRACE] [OmnipathR] Reading JSON from `F:/biocbuild/bbs-3.18-bioc/R/library/OmnipathR/internal/magic_bytes.json` (encoding: UTF-8). [2024-03-05 16:28:23] [TRACE] [OmnipathR] JSON validation successful: TRUE [2024-03-05 16:28:23] [TRACE] [OmnipathR] Reading JSON from `F:/biocbuild/bbs-3.18-bioc/R/library/OmnipathR/internal/urls.json` (encoding: UTF-8). [2024-03-05 16:28:23] [TRACE] [OmnipathR] JSON validation successful: TRUE [2024-03-05 16:28:23] [TRACE] [OmnipathR] Reading JSON from `F:/biocbuild/bbs-3.18-bioc/R/library/OmnipathR/internal/id_types.json` (encoding: UTF-8). [2024-03-05 16:28:23] [TRACE] [OmnipathR] JSON validation successful: TRUE [2024-03-05 16:28:23] [TRACE] [OmnipathR] Cache locked: FALSE ** testing if installed package keeps a record of temporary installation path * DONE (OmnipathR)
OmnipathR.Rcheck/tests/testthat.Rout
R version 4.3.2 (2023-10-31 ucrt) -- "Eye Holes"
Copyright (C) 2023 The R Foundation for Statistical Computing
Platform: x86_64-w64-mingw32/x64 (64-bit)
R is free software and comes with ABSOLUTELY NO WARRANTY.
You are welcome to redistribute it under certain conditions.
Type 'license()' or 'licence()' for distribution details.
R is a collaborative project with many contributors.
Type 'contributors()' for more information and
'citation()' on how to cite R or R packages in publications.
Type 'demo()' for some demos, 'help()' for on-line help, or
'help.start()' for an HTML browser interface to help.
Type 'q()' to quit R.
> #!/usr/bin/env Rscript
>
> #
> # This file is part of the `OmnipathR` R package
> #
> # Copyright
> # 2018-2023
> # Saez Lab, Uniklinik RWTH Aachen, Heidelberg University
> #
> # File author(s): Alberto Valdeolivas
> # Dénes Türei (turei.denes@gmail.com)
> # Attila Gábor
> #
> # Distributed under the MIT (Expat) License.
> # See accompanying file `LICENSE` or find a copy at
> # https://directory.fsf.org/wiki/License:Expat
> #
> # Website: https://r.omnipathdb.org/
> # Git repo: https://github.com/saezlab/OmnipathR
> #
>
>
> library(testthat)
> library(OmnipathR)
[2024-03-06 04:54:36] [TRACE] [OmnipathR] Reading JSON from `C:\Users\biocbuild\AppData\Local\Cache\OmnipathR/cache.json` (encoding: UTF-8).
[2024-03-06 04:54:36] [TRACE] [OmnipathR] JSON validation successful: TRUE
[2024-03-06 04:54:36] [INFO] [OmnipathR] Initialized cache: `C:\Users\biocbuild\AppData\Local\Cache\OmnipathR`.
[2024-03-06 04:54:36] [TRACE] [OmnipathR] Running on a build server, wiping cache.
[2024-03-06 04:54:36] [TRACE] [OmnipathR] Cache is at `C:\Users\biocbuild\AppData\Local\Cache\OmnipathR`.
[2024-03-06 04:54:36] [TRACE] [OmnipathR] Contains 17 files.
[2024-03-06 04:54:36] [TRACE] [OmnipathR] Cache is locked: FALSE.
[2024-03-06 04:54:36] [TRACE] [OmnipathR] Reading JSON from `C:\Users\biocbuild\AppData\Local\Cache\OmnipathR/cache.json` (encoding: UTF-8).
[2024-03-06 04:54:36] [TRACE] [OmnipathR] JSON validation successful: TRUE
[2024-03-06 04:54:36] [SUCCESS] [OmnipathR] Removing all cache contents from `C:\Users\biocbuild\AppData\Local\Cache\OmnipathR`.
[2024-03-06 04:54:36] [TRACE] [OmnipathR] Pandoc version: `2.7.3`.
[2024-03-06 04:54:36] [TRACE] [OmnipathR] Reading JSON from `F:/biocbuild/bbs-3.18-bioc/R/library/OmnipathR/db/db_def.json` (encoding: UTF-8).
[2024-03-06 04:54:36] [TRACE] [OmnipathR] JSON validation successful: TRUE
[2024-03-06 04:54:36] [TRACE] [OmnipathR] Reading JSON from `F:/biocbuild/bbs-3.18-bioc/R/library/OmnipathR/internal/magic_bytes.json` (encoding: UTF-8).
[2024-03-06 04:54:36] [TRACE] [OmnipathR] JSON validation successful: TRUE
[2024-03-06 04:54:36] [TRACE] [OmnipathR] Reading JSON from `F:/biocbuild/bbs-3.18-bioc/R/library/OmnipathR/internal/urls.json` (encoding: UTF-8).
[2024-03-06 04:54:37] [TRACE] [OmnipathR] JSON validation successful: TRUE
[2024-03-06 04:54:37] [TRACE] [OmnipathR] Reading JSON from `F:/biocbuild/bbs-3.18-bioc/R/library/OmnipathR/internal/id_types.json` (encoding: UTF-8).
[2024-03-06 04:54:37] [TRACE] [OmnipathR] JSON validation successful: TRUE
[2024-03-06 04:54:37] [TRACE] [OmnipathR] Cache locked: FALSE
>
> test_check('OmnipathR')
[ FAIL 0 | WARN 1 | SKIP 0 | PASS 34 ]
[ FAIL 0 | WARN 1 | SKIP 0 | PASS 34 ]
>
> proc.time()
user system elapsed
9.95 1.43 27.93
OmnipathR.Rcheck/OmnipathR-Ex.timings
| name | user | system | elapsed | |
| OmnipathR | 0 | 0 | 0 | |
| all_uniprot_acs | 0.08 | 0.00 | 0.08 | |
| all_uniprots | 0.03 | 0.00 | 0.03 | |
| ancestors | 0.01 | 0.00 | 0.01 | |
| annotated_network | 1.53 | 0.12 | 5.40 | |
| annotation_categories | 61.72 | 0.08 | 62.40 | |
| biomart_query | 0.67 | 0.08 | 3.02 | |
| bioplex1 | 0.00 | 0.02 | 0.01 | |
| bioplex2 | 0.00 | 0.00 | 0.02 | |
| bioplex3 | 0.02 | 0.00 | 0.01 | |
| bioplex_all | 0.02 | 0.00 | 0.02 | |
| bioplex_hct116_1 | 0.01 | 0.00 | 0.02 | |
| bma_motif_es | 0.39 | 0.03 | 1.06 | |
| bma_motif_vs | 0.17 | 0.00 | 0.54 | |
| collectri | 77.25 | 1.48 | 78.96 | |
| common_name | 0.02 | 0.00 | 0.01 | |
| consensuspathdb_download | 0 | 0 | 0 | |
| consensuspathdb_raw_table | 0.01 | 0.00 | 0.02 | |
| curated_ligand_receptor_interactions | 3.85 | 0.50 | 9.98 | |
| curated_ligrec_stats | 23.55 | 1.66 | 66.55 | |
| database_summary | 1.20 | 0.01 | 1.94 | |
| descendants | 0.01 | 0.00 | 0.01 | |
| dorothea | 44.13 | 0.66 | 45.61 | |
| ensembl_dataset | 0.01 | 0.00 | 0.02 | |
| ensembl_id_mapping_table | 0.75 | 0.08 | 32.05 | |
| ensembl_id_type | 0 | 0 | 0 | |
| ensembl_name | 0.04 | 0.00 | 0.03 | |
| ensembl_organisms | 0.17 | 0.00 | 0.17 | |
| ensembl_organisms_raw | 0.15 | 0.00 | 0.17 | |
| ensembl_orthology | 0 | 0 | 0 | |
| enzsub_graph | 1.55 | 0.05 | 2.61 | |
| evex_download | 0.00 | 0.02 | 0.01 | |
| evidences | 0 | 0 | 0 | |
| extra_attr_values | 9.64 | 0.23 | 10.22 | |
| extra_attrs | 5.30 | 0.02 | 5.31 | |
| extra_attrs_to_cols | 8.73 | 0.12 | 8.88 | |
| filter_by_resource | 4.69 | 0.11 | 5.43 | |
| filter_extra_attrs | 14.83 | 0.11 | 15.33 | |
| filter_intercell | 5.62 | 0.33 | 5.97 | |
| filter_intercell_network | 0.03 | 0.00 | 0.03 | |
| find_all_paths | 4.08 | 0.14 | 4.22 | |
| from_evidences | 0 | 0 | 0 | |
| get_annotation_resources | 0.05 | 0.00 | 0.42 | |
| get_complex_genes | 1.01 | 0.08 | 1.67 | |
| get_complex_resources | 0.08 | 0.00 | 0.45 | |
| get_db | 0 | 0 | 0 | |
| get_enzsub_resources | 0.09 | 0.00 | 0.47 | |
| get_interaction_resources | 0.05 | 0.00 | 0.42 | |
| get_intercell_categories | 0.39 | 0.01 | 0.68 | |
| get_intercell_generic_categories | 0.05 | 0.00 | 0.04 | |
| get_intercell_resources | 0.08 | 0.00 | 0.47 | |
| get_ontology_db | 0.01 | 0.00 | 0.02 | |
| get_resources | 0.06 | 0.00 | 0.44 | |
| get_signed_ptms | 4.02 | 0.02 | 4.40 | |
| giant_component | 8.92 | 0.17 | 9.56 | |
| go_annot_download | 8.06 | 0.53 | 7.63 | |
| go_annot_slim | 0 | 0 | 0 | |
| go_ontology_download | 0.02 | 0.00 | 0.01 | |
| guide2pharma_download | 0.00 | 0.02 | 0.02 | |
| harmonizome_download | 0.01 | 0.00 | 0.02 | |
| has_extra_attrs | 4.80 | 0.01 | 4.81 | |
| homologene_download | 0.02 | 0.00 | 0.01 | |
| homologene_raw | 0.01 | 0.00 | 0.02 | |
| homologene_uniprot_orthology | 0.07 | 0.00 | 0.06 | |
| hpo_download | 1.56 | 0.14 | 1.91 | |
| htridb_download | 0 | 0 | 0 | |
| import_all_interactions | 1.41 | 0.07 | 2.71 | |
| import_intercell_network | 0.02 | 0.00 | 0.01 | |
| import_kinaseextra_interactions | 0.96 | 0.09 | 2.05 | |
| import_ligrecextra_interactions | 0.71 | 0.03 | 1.62 | |
| import_lncrna_mrna_interactions | 0.47 | 0.05 | 1.19 | |
| import_mirnatarget_interactions | 0.76 | 0.08 | 1.72 | |
| import_omnipath_annotations | 0.44 | 0.06 | 1.11 | |
| import_omnipath_complexes | 0.64 | 0.02 | 1.59 | |
| import_omnipath_enzsub | 0.77 | 0.02 | 1.17 | |
| import_omnipath_interactions | 0.18 | 0.00 | 0.58 | |
| import_omnipath_intercell | 0.52 | 0.06 | 0.97 | |
| import_pathwayextra_interactions | 0.73 | 0.03 | 1.67 | |
| import_post_translational_interactions | 0.69 | 0.09 | 1.64 | |
| import_small_molecule_protein_interactions | 0.47 | 0.00 | 0.72 | |
| import_tf_mirna_interactions | 0.59 | 0.10 | 1.45 | |
| import_tf_target_interactions | 1.03 | 0.06 | 2.05 | |
| import_transcriptional_interactions | 1.79 | 0.05 | 2.83 | |
| inbiomap_download | 0 | 0 | 0 | |
| inbiomap_raw | 0 | 0 | 0 | |
| interaction_datasets | 0.45 | 0.03 | 0.83 | |
| interaction_graph | 0.26 | 0.01 | 0.65 | |
| interaction_types | 0.05 | 0.00 | 0.05 | |
| intercell_categories | 0.06 | 0.00 | 0.06 | |
| intercell_consensus_filter | 1.21 | 0.05 | 1.81 | |
| is_ontology_id | 0 | 0 | 0 | |
| is_swissprot | 0.03 | 0.00 | 0.04 | |
| is_trembl | 0.03 | 0.00 | 0.03 | |
| is_uniprot | 0.05 | 0.01 | 0.06 | |
| kegg_info | 0.01 | 0.00 | 0.02 | |
| kegg_open | 0 | 0 | 0 | |
| kegg_pathway_annotations | 0 | 0 | 0 | |
| kegg_pathway_download | 0.02 | 0.00 | 0.02 | |
| kegg_pathway_list | 0.01 | 0.00 | 0.01 | |
| kegg_pathways_download | 0 | 0 | 0 | |
| kegg_picture | 0.07 | 0.03 | 2.42 | |
| kegg_process | 0.01 | 0.02 | 0.03 | |
| latin_name | 0.03 | 0.00 | 0.04 | |
| load_db | 0.08 | 0.00 | 0.07 | |
| ncbi_taxid | 0.03 | 0.00 | 0.03 | |
| nichenet_build_model | 0 | 0 | 0 | |
| nichenet_expression_data | 0.02 | 0.00 | 0.02 | |
| nichenet_gr_network | 0.03 | 0.02 | 0.04 | |
| nichenet_gr_network_evex | 0.00 | 0.01 | 0.02 | |
| nichenet_gr_network_harmonizome | 0.01 | 0.00 | 0.01 | |
| nichenet_gr_network_htridb | 0.00 | 0.02 | 0.02 | |
| nichenet_gr_network_omnipath | 10.54 | 0.48 | 11.39 | |
| nichenet_gr_network_pathwaycommons | 0.01 | 0.00 | 0.02 | |
| nichenet_gr_network_regnetwork | 0.02 | 0.00 | 0.01 | |
| nichenet_gr_network_remap | 0.00 | 0.02 | 0.02 | |
| nichenet_gr_network_trrust | 0.00 | 0.00 | 0.01 | |
| nichenet_ligand_activities | 0 | 0 | 0 | |
| nichenet_ligand_target_links | 0 | 0 | 0 | |
| nichenet_ligand_target_matrix | 0 | 0 | 0 | |
| nichenet_lr_network | 0.04 | 0.00 | 0.05 | |
| nichenet_lr_network_guide2pharma | 0.02 | 0.00 | 0.03 | |
| nichenet_lr_network_omnipath | 0.05 | 0.02 | 0.06 | |
| nichenet_lr_network_ramilowski | 0.01 | 0.00 | 0.02 | |
| nichenet_main | 0 | 0 | 0 | |
| nichenet_networks | 0.11 | 0.00 | 0.11 | |
| nichenet_optimization | 0 | 0 | 0 | |
| nichenet_remove_orphan_ligands | 0.02 | 0.01 | 0.03 | |
| nichenet_results_dir | 0 | 0 | 0 | |
| nichenet_signaling_network | 0.11 | 0.00 | 0.11 | |
| nichenet_signaling_network_cpdb | 0.00 | 0.00 | 0.02 | |
| nichenet_signaling_network_evex | 0.03 | 0.00 | 0.03 | |
| nichenet_signaling_network_harmonizome | 0.01 | 0.00 | 0.01 | |
| nichenet_signaling_network_inbiomap | 0 | 0 | 0 | |
| nichenet_signaling_network_omnipath | 7.53 | 0.19 | 8.28 | |
| nichenet_signaling_network_pathwaycommons | 0.02 | 0.00 | 0.02 | |
| nichenet_signaling_network_vinayagam | 0.02 | 0.00 | 0.01 | |
| nichenet_test | 0 | 0 | 0 | |
| nichenet_workarounds | 0 | 0 | 0 | |
| obo_parser | 0.12 | 0.00 | 0.30 | |
| oma_code | 0.03 | 0.00 | 0.03 | |
| oma_organisms | 0.08 | 0.00 | 0.10 | |
| oma_pairwise | 0.02 | 0.00 | 0.01 | |
| omnipath | 5.09 | 0.00 | 5.10 | |
| omnipath_cache_autoclean | 0 | 0 | 0 | |
| omnipath_cache_clean | 0.02 | 0.00 | 0.01 | |
| omnipath_cache_clean_db | 0.14 | 0.00 | 0.25 | |
| omnipath_cache_download_ready | 0.73 | 0.16 | 2.69 | |
| omnipath_cache_filter_versions | 0.22 | 0.04 | 1.20 | |
| omnipath_cache_get | 0.14 | 0.08 | 0.54 | |
| omnipath_cache_key | 0 | 0 | 0 | |
| omnipath_cache_latest_or_new | 0.17 | 0.05 | 0.54 | |
| omnipath_cache_load | 0.77 | 0.06 | 3.03 | |
| omnipath_cache_move_in | 0.39 | 0.05 | 1.89 | |
| omnipath_cache_remove | 0.27 | 0.01 | 1.00 | |
| omnipath_cache_save | 0.28 | 0.06 | 1.53 | |
| omnipath_cache_search | 0 | 0 | 0 | |
| omnipath_cache_set_ext | 0.20 | 0.04 | 0.65 | |
| omnipath_cache_update_status | 0.26 | 0.00 | 0.38 | |
| omnipath_cache_wipe | 0 | 0 | 0 | |
| omnipath_get_config_path | 0.00 | 0.01 | 0.01 | |
| omnipath_load_config | 0 | 0 | 0 | |
| omnipath_log | 0 | 0 | 0 | |
| omnipath_logfile | 0 | 0 | 0 | |
| omnipath_msg | 0.02 | 0.00 | 0.02 | |
| omnipath_reset_config | 0 | 0 | 0 | |
| omnipath_save_config | 0 | 0 | 0 | |
| omnipath_set_cachedir | 0.06 | 0.00 | 0.06 | |
| omnipath_set_console_loglevel | 0 | 0 | 0 | |
| omnipath_set_logfile_loglevel | 0 | 0 | 0 | |
| omnipath_set_loglevel | 0 | 0 | 0 | |
| omnipath_show_db | 0.08 | 0.01 | 0.10 | |
| omnipath_unlock_cache_db | 0 | 0 | 0 | |
| only_from | 0 | 0 | 0 | |
| ontology_ensure_id | 0 | 0 | 0 | |
| ontology_ensure_name | 0 | 0 | 0 | |
| ontology_name_id | 0 | 0 | 0 | |
| pathwaycommons_download | 0 | 0 | 0 | |
| pivot_annotations | 11.58 | 0.60 | 13.84 | |
| preppi_download | 0 | 0 | 0 | |
| preppi_filter | 0 | 0 | 0 | |
| print_bma_motif_es | 0.18 | 0.03 | 0.88 | |
| print_bma_motif_vs | 0.11 | 0.00 | 0.48 | |
| print_interactions | 6.08 | 0.23 | 7.80 | |
| print_path_es | 0.53 | 0.08 | 1.45 | |
| print_path_vs | 2.19 | 0.09 | 3.92 | |
| pubmed_open | 4.87 | 0.22 | 5.58 | |
| query_info | 0.10 | 0.00 | 0.45 | |
| ramilowski_download | 0 | 0 | 0 | |
| regnetwork_directions | 0 | 0 | 0 | |
| regnetwork_download | 0 | 0 | 0 | |
| relations_list_to_table | 0.12 | 0.00 | 0.16 | |
| relations_table_to_graph | 0 | 0 | 0 | |
| relations_table_to_list | 0.08 | 0.01 | 0.14 | |
| remap_dorothea_download | 0 | 0 | 0 | |
| remap_filtered | 0 | 0 | 0 | |
| remap_tf_target_download | 0 | 0 | 0 | |
| resource_info | 0.26 | 0.04 | 0.96 | |
| resources_colname | 0.63 | 0.01 | 1.34 | |
| show_network | 0 | 0 | 0 | |
| simplify_intercell_network | 0 | 0 | 0 | |
| static_table | 7.60 | 0.27 | 8.09 | |
| static_tables | 0.04 | 0.00 | 0.12 | |
| swap_relations | 0.11 | 0.00 | 0.13 | |
| swissprots_only | 0.03 | 0.00 | 0.03 | |
| tfcensus_download | 0.27 | 0.03 | 0.34 | |
| translate_ids | 0 | 0 | 0 | |
| trembls_only | 0.03 | 0.00 | 0.04 | |
| trrust_download | 0 | 0 | 0 | |
| uniprot_full_id_mapping_table | 0 | 0 | 0 | |
| uniprot_genesymbol_cleanup | 0 | 0 | 0 | |
| uniprot_id_mapping_table | 0 | 0 | 0 | |
| uniprot_id_type | 0.02 | 0.00 | 0.01 | |
| uniprot_idmapping_id_types | 0.12 | 0.03 | 0.97 | |
| unique_intercell_network | 0 | 0 | 0 | |
| unnest_evidences | 0 | 0 | 0 | |
| uploadlists_id_type | 0 | 0 | 0 | |
| vinayagam_download | 0 | 0 | 0 | |
| walk_ontology_tree | 0 | 0 | 0 | |
| with_extra_attrs | 9.19 | 0.19 | 9.87 | |
| with_references | 0.61 | 0.06 | 6.31 | |
| zenodo_download | 0.00 | 0.00 | 0.05 | |