| Back to Multiple platform build/check report for BioC 3.18: simplified long |
|
This page was generated on 2024-04-17 11:37:53 -0400 (Wed, 17 Apr 2024).
| Hostname | OS | Arch (*) | R version | Installed pkgs |
|---|---|---|---|---|
| nebbiolo2 | Linux (Ubuntu 22.04.3 LTS) | x86_64 | 4.3.3 (2024-02-29) -- "Angel Food Cake" | 4676 |
| palomino4 | Windows Server 2022 Datacenter | x64 | 4.3.3 (2024-02-29 ucrt) -- "Angel Food Cake" | 4414 |
| merida1 | macOS 12.7.1 Monterey | x86_64 | 4.3.3 (2024-02-29) -- "Angel Food Cake" | 4437 |
| Click on any hostname to see more info about the system (e.g. compilers) (*) as reported by 'uname -p', except on Windows and Mac OS X | ||||
| Package 1134/2266 | Hostname | OS / Arch | INSTALL | BUILD | CHECK | BUILD BIN | ||||||||
| MAGeCKFlute 2.6.0 (landing page) Wubing Zhang
| nebbiolo2 | Linux (Ubuntu 22.04.3 LTS) / x86_64 | OK | OK | OK | |||||||||
| palomino4 | Windows Server 2022 Datacenter / x64 | OK | OK | OK | OK | |||||||||
| merida1 | macOS 12.7.1 Monterey / x86_64 | OK | OK | OK | OK | |||||||||
| kjohnson1 | macOS 13.6.1 Ventura / arm64 | see weekly results here | ||||||||||||
|
To the developers/maintainers of the MAGeCKFlute package: - Allow up to 24 hours (and sometimes 48 hours) for your latest push to git@git.bioconductor.org:packages/MAGeCKFlute.git to reflect on this report. See Troubleshooting Build Report for more information. - Use the following Renviron settings to reproduce errors and warnings. - If 'R CMD check' started to fail recently on the Linux builder(s) over a missing dependency, add the missing dependency to 'Suggests:' in your DESCRIPTION file. See Renviron.bioc for more information. |
| Package: MAGeCKFlute |
| Version: 2.6.0 |
| Command: /Library/Frameworks/R.framework/Resources/bin/R CMD check --install=check:MAGeCKFlute.install-out.txt --library=/Library/Frameworks/R.framework/Resources/library --no-vignettes --timings MAGeCKFlute_2.6.0.tar.gz |
| StartedAt: 2024-04-16 04:46:55 -0400 (Tue, 16 Apr 2024) |
| EndedAt: 2024-04-16 04:56:03 -0400 (Tue, 16 Apr 2024) |
| EllapsedTime: 547.8 seconds |
| RetCode: 0 |
| Status: OK |
| CheckDir: MAGeCKFlute.Rcheck |
| Warnings: 0 |
##############################################################################
##############################################################################
###
### Running command:
###
### /Library/Frameworks/R.framework/Resources/bin/R CMD check --install=check:MAGeCKFlute.install-out.txt --library=/Library/Frameworks/R.framework/Resources/library --no-vignettes --timings MAGeCKFlute_2.6.0.tar.gz
###
##############################################################################
##############################################################################
* using log directory ‘/Users/biocbuild/bbs-3.18-bioc/meat/MAGeCKFlute.Rcheck’
* using R version 4.3.3 (2024-02-29)
* using platform: x86_64-apple-darwin20 (64-bit)
* R was compiled by
Apple clang version 14.0.0 (clang-1400.0.29.202)
GNU Fortran (GCC) 12.2.0
* running under: macOS Monterey 12.7.1
* using session charset: UTF-8
* using option ‘--no-vignettes’
* checking for file ‘MAGeCKFlute/DESCRIPTION’ ... OK
* checking extension type ... Package
* this is package ‘MAGeCKFlute’ version ‘2.6.0’
* package encoding: UTF-8
* checking package namespace information ... OK
* checking package dependencies ... OK
* checking if this is a source package ... OK
* checking if there is a namespace ... OK
* checking for hidden files and directories ... OK
* checking for portable file names ... OK
* checking for sufficient/correct file permissions ... OK
* checking whether package ‘MAGeCKFlute’ can be installed ... OK
* checking installed package size ... NOTE
installed size is 20.7Mb
sub-directories of 1Mb or more:
extdata 20.3Mb
* checking package directory ... OK
* checking ‘build’ directory ... OK
* checking DESCRIPTION meta-information ... OK
* checking top-level files ... OK
* checking for left-over files ... OK
* checking index information ... OK
* checking package subdirectories ... OK
* checking R files for non-ASCII characters ... OK
* checking R files for syntax errors ... OK
* checking whether the package can be loaded ... OK
* checking whether the package can be loaded with stated dependencies ... OK
* checking whether the package can be unloaded cleanly ... OK
* checking whether the namespace can be loaded with stated dependencies ... OK
* checking whether the namespace can be unloaded cleanly ... OK
* checking dependencies in R code ... OK
* checking S3 generic/method consistency ... OK
* checking replacement functions ... OK
* checking foreign function calls ... OK
* checking R code for possible problems ... NOTE
EnrichedFilter: no visible global function definition for ‘is’
EnrichedGeneView: no visible global function definition for ‘is’
EnrichedView: no visible global function definition for ‘is’
EnrichedView: no visible global function definition for ‘slot’
enrich.HGT: no visible global function definition for ‘new’
Undefined global functions or variables:
is new slot
Consider adding
importFrom("methods", "is", "new", "slot")
to your NAMESPACE file (and ensure that your DESCRIPTION Imports field
contains 'methods').
* checking Rd files ... OK
* checking Rd metadata ... OK
* checking Rd cross-references ... OK
* checking for missing documentation entries ... OK
* checking for code/documentation mismatches ... OK
* checking Rd \usage sections ... OK
* checking Rd contents ... OK
* checking for unstated dependencies in examples ... OK
* checking files in ‘vignettes’ ... OK
* checking examples ... OK
Examples with CPU (user + system) or elapsed time > 5s
user system elapsed
MAView 21.723 0.442 22.610
enrich.ORT 7.446 0.131 8.316
ScatterView 5.111 0.174 5.720
BatchRemove 4.872 0.126 5.062
* checking for unstated dependencies in vignettes ... OK
* checking package vignettes in ‘inst/doc’ ... OK
* checking running R code from vignettes ... SKIPPED
* checking re-building of vignette outputs ... SKIPPED
* checking PDF version of manual ... OK
* DONE
Status: 2 NOTEs
See
‘/Users/biocbuild/bbs-3.18-bioc/meat/MAGeCKFlute.Rcheck/00check.log’
for details.
MAGeCKFlute.Rcheck/00install.out
############################################################################## ############################################################################## ### ### Running command: ### ### /Library/Frameworks/R.framework/Resources/bin/R CMD INSTALL MAGeCKFlute ### ############################################################################## ############################################################################## * installing to library ‘/Library/Frameworks/R.framework/Versions/4.3-x86_64/Resources/library’ * installing *source* package ‘MAGeCKFlute’ ... ** using staged installation ** R ** inst ** byte-compile and prepare package for lazy loading ** help *** installing help indices ** building package indices ** installing vignettes ** testing if installed package can be loaded from temporary location ** testing if installed package can be loaded from final location ** testing if installed package keeps a record of temporary installation path * DONE (MAGeCKFlute)
MAGeCKFlute.Rcheck/MAGeCKFlute-Ex.timings
| name | user | system | elapsed | |
| BarView | 0.369 | 0.012 | 0.426 | |
| BatchRemove | 4.872 | 0.126 | 5.062 | |
| ConsistencyView | 1.610 | 0.111 | 1.745 | |
| CutoffCalling | 0.005 | 0.001 | 0.006 | |
| DensityDiffView | 1.720 | 0.042 | 1.769 | |
| DensityView | 1.671 | 0.091 | 1.771 | |
| EnrichAnalyzer | 0.018 | 0.002 | 0.021 | |
| EnrichedFilter | 0.016 | 0.001 | 0.018 | |
| EnrichedGeneView | 0.018 | 0.001 | 0.019 | |
| EnrichedView | 0.017 | 0.001 | 0.019 | |
| FluteMLE | 0.002 | 0.001 | 0.003 | |
| FluteRRA | 0.003 | 0.002 | 0.004 | |
| HeatmapView | 0.594 | 0.016 | 0.611 | |
| IdentBarView | 0.279 | 0.003 | 0.283 | |
| IncorporateDepmap | 0.365 | 0.011 | 0.380 | |
| MAView | 21.723 | 0.442 | 22.610 | |
| MapRatesView | 0.785 | 0.011 | 0.877 | |
| NormalizeBeta | 1.284 | 0.030 | 1.419 | |
| OmitCommonEssential | 0.001 | 0.001 | 0.000 | |
| RankView | 1.232 | 0.075 | 1.442 | |
| ReadBeta | 0.547 | 0.011 | 0.609 | |
| ReadRRA | 0.366 | 0.015 | 0.425 | |
| ReadsgRRA | 0.023 | 0.003 | 0.029 | |
| ResembleDepmap | 0.314 | 0.006 | 0.341 | |
| ScatterView | 5.111 | 0.174 | 5.720 | |
| Selector | 1.044 | 0.017 | 1.162 | |
| SquareView | 1.898 | 0.071 | 2.115 | |
| TransGeneID | 3.298 | 0.044 | 3.636 | |
| ViolinView | 2.291 | 0.051 | 2.531 | |
| VolcanoView | 2.541 | 0.075 | 2.958 | |
| arrangePathview | 0.629 | 0.015 | 0.695 | |
| enrich.GSE | 0.016 | 0.002 | 0.017 | |
| enrich.HGT | 3.940 | 0.078 | 4.354 | |
| enrich.ORT | 7.446 | 0.131 | 8.316 | |
| getCols | 0.010 | 0.001 | 0.012 | |
| getGeneAnn | 0.000 | 0.001 | 0.001 | |
| getOrg | 0.001 | 0.001 | 0.001 | |
| getOrtAnn | 0.000 | 0.000 | 0.001 | |
| gsGetter | 0.606 | 0.015 | 0.681 | |
| hclustView | 0.732 | 0.027 | 0.834 | |
| loadDepmap | 0.001 | 0.000 | 0.000 | |
| normalize.loess | 1.449 | 0.033 | 1.612 | |
| sgRankView | 0.370 | 0.003 | 0.404 | |
| writeGMT | 0.048 | 0.002 | 0.052 | |