| Back to Multiple platform build/check report for BioC 3.18: simplified long |
|
This page was generated on 2024-04-17 11:37:47 -0400 (Wed, 17 Apr 2024).
| Hostname | OS | Arch (*) | R version | Installed pkgs |
|---|---|---|---|---|
| nebbiolo2 | Linux (Ubuntu 22.04.3 LTS) | x86_64 | 4.3.3 (2024-02-29) -- "Angel Food Cake" | 4676 |
| palomino4 | Windows Server 2022 Datacenter | x64 | 4.3.3 (2024-02-29 ucrt) -- "Angel Food Cake" | 4414 |
| merida1 | macOS 12.7.1 Monterey | x86_64 | 4.3.3 (2024-02-29) -- "Angel Food Cake" | 4437 |
| Click on any hostname to see more info about the system (e.g. compilers) (*) as reported by 'uname -p', except on Windows and Mac OS X | ||||
| Package 894/2266 | Hostname | OS / Arch | INSTALL | BUILD | CHECK | BUILD BIN | ||||||||
| GRaNIE 1.6.1 (landing page) Christian Arnold
| nebbiolo2 | Linux (Ubuntu 22.04.3 LTS) / x86_64 | OK | OK | OK | |||||||||
| palomino4 | Windows Server 2022 Datacenter / x64 | OK | OK | ERROR | OK | |||||||||
| merida1 | macOS 12.7.1 Monterey / x86_64 | OK | OK | OK | OK | |||||||||
| kjohnson1 | macOS 13.6.1 Ventura / arm64 | see weekly results here | ||||||||||||
|
To the developers/maintainers of the GRaNIE package: - Allow up to 24 hours (and sometimes 48 hours) for your latest push to git@git.bioconductor.org:packages/GRaNIE.git to reflect on this report. See Troubleshooting Build Report for more information. - Use the following Renviron settings to reproduce errors and warnings. - If 'R CMD check' started to fail recently on the Linux builder(s) over a missing dependency, add the missing dependency to 'Suggests:' in your DESCRIPTION file. See Renviron.bioc for more information. |
| Package: GRaNIE |
| Version: 1.6.1 |
| Command: /Library/Frameworks/R.framework/Resources/bin/R CMD check --install=check:GRaNIE.install-out.txt --library=/Library/Frameworks/R.framework/Resources/library --no-vignettes --timings GRaNIE_1.6.1.tar.gz |
| StartedAt: 2024-04-16 03:38:22 -0400 (Tue, 16 Apr 2024) |
| EndedAt: 2024-04-16 03:52:39 -0400 (Tue, 16 Apr 2024) |
| EllapsedTime: 857.2 seconds |
| RetCode: 0 |
| Status: OK |
| CheckDir: GRaNIE.Rcheck |
| Warnings: 0 |
##############################################################################
##############################################################################
###
### Running command:
###
### /Library/Frameworks/R.framework/Resources/bin/R CMD check --install=check:GRaNIE.install-out.txt --library=/Library/Frameworks/R.framework/Resources/library --no-vignettes --timings GRaNIE_1.6.1.tar.gz
###
##############################################################################
##############################################################################
* using log directory ‘/Users/biocbuild/bbs-3.18-bioc/meat/GRaNIE.Rcheck’
* using R version 4.3.3 (2024-02-29)
* using platform: x86_64-apple-darwin20 (64-bit)
* R was compiled by
Apple clang version 14.0.0 (clang-1400.0.29.202)
GNU Fortran (GCC) 12.2.0
* running under: macOS Monterey 12.7.1
* using session charset: UTF-8
* using option ‘--no-vignettes’
* checking for file ‘GRaNIE/DESCRIPTION’ ... OK
* this is package ‘GRaNIE’ version ‘1.6.1’
* package encoding: UTF-8
* checking package namespace information ... OK
* checking package dependencies ... OK
* checking if this is a source package ... OK
* checking if there is a namespace ... OK
* checking for hidden files and directories ... OK
* checking for portable file names ... OK
* checking for sufficient/correct file permissions ... OK
* checking whether package ‘GRaNIE’ can be installed ... OK
* checking installed package size ... OK
* checking package directory ... OK
* checking ‘build’ directory ... OK
* checking DESCRIPTION meta-information ... OK
* checking top-level files ... OK
* checking for left-over files ... OK
* checking index information ... OK
* checking package subdirectories ... OK
* checking R files for non-ASCII characters ... OK
* checking R files for syntax errors ... OK
* checking whether the package can be loaded ... OK
* checking whether the package can be loaded with stated dependencies ... OK
* checking whether the package can be unloaded cleanly ... OK
* checking whether the namespace can be loaded with stated dependencies ... OK
* checking whether the namespace can be unloaded cleanly ... OK
* checking startup messages can be suppressed ... OK
* checking dependencies in R code ... OK
* checking S3 generic/method consistency ... OK
* checking replacement functions ... OK
* checking foreign function calls ... OK
* checking R code for possible problems ... NOTE
.performIHW: no visible binding for global variable 'adj_pvalue'
Undefined global functions or variables:
adj_pvalue
* checking Rd files ... OK
* checking Rd metadata ... OK
* checking Rd cross-references ... OK
* checking for missing documentation entries ... OK
* checking for code/documentation mismatches ... OK
* checking Rd \usage sections ... OK
* checking Rd contents ... OK
* checking for unstated dependencies in examples ... OK
* checking files in ‘vignettes’ ... OK
* checking examples ... OK
Examples with CPU (user + system) or elapsed time > 5s
user system elapsed
generateStatsSummary 12.498 0.199 14.827
plotDiagnosticPlots_peakGene 9.215 0.226 10.532
addConnections_TF_peak 6.884 1.232 14.271
addSNPData 7.141 0.362 43.055
plotDiagnosticPlots_TFPeaks 6.404 0.242 7.410
plotCommunitiesEnrichment 6.175 0.183 7.336
visualizeGRN 6.058 0.124 6.946
plotGeneralGraphStats 5.792 0.092 6.622
plotCommunitiesStats 5.339 0.196 6.232
plot_stats_connectionSummary 5.387 0.113 6.028
getGRNSummary 5.215 0.114 5.950
plotCorrelations 5.054 0.153 5.877
filterData 4.717 0.093 5.524
plotTFEnrichment 4.579 0.088 5.251
calculateCommunitiesEnrichment 4.533 0.109 5.290
plotPCA_all 4.452 0.169 5.484
addConnections_peak_gene 3.939 0.087 7.088
* checking for unstated dependencies in vignettes ... OK
* checking package vignettes in ‘inst/doc’ ... OK
* checking running R code from vignettes ... SKIPPED
* checking re-building of vignette outputs ... SKIPPED
* checking PDF version of manual ... OK
* DONE
Status: 1 NOTE
See
‘/Users/biocbuild/bbs-3.18-bioc/meat/GRaNIE.Rcheck/00check.log’
for details.
GRaNIE.Rcheck/00install.out
############################################################################## ############################################################################## ### ### Running command: ### ### /Library/Frameworks/R.framework/Resources/bin/R CMD INSTALL GRaNIE ### ############################################################################## ############################################################################## * installing to library ‘/Library/Frameworks/R.framework/Versions/4.3-x86_64/Resources/library’ * installing *source* package ‘GRaNIE’ ... ** using staged installation ** R ** byte-compile and prepare package for lazy loading ** help *** installing help indices ** building package indices ** installing vignettes ** testing if installed package can be loaded from temporary location ** testing if installed package can be loaded from final location ** testing if installed package keeps a record of temporary installation path * DONE (GRaNIE)
GRaNIE.Rcheck/GRaNIE-Ex.timings
| name | user | system | elapsed | |
| AR_classification_wrapper | 0.000 | 0.001 | 0.001 | |
| addConnections_TF_peak | 6.884 | 1.232 | 14.271 | |
| addConnections_peak_gene | 3.939 | 0.087 | 7.088 | |
| addData | 0.000 | 0.001 | 0.001 | |
| addSNPData | 7.141 | 0.362 | 43.055 | |
| addTFBS | 0 | 0 | 0 | |
| add_TF_gene_correlation | 2.951 | 0.086 | 3.645 | |
| add_featureVariation | 0.000 | 0.001 | 0.001 | |
| build_eGRN_graph | 3.917 | 0.084 | 4.607 | |
| calculateCommunitiesEnrichment | 4.533 | 0.109 | 5.290 | |
| calculateCommunitiesStats | 2.938 | 0.071 | 3.533 | |
| calculateGeneralEnrichment | 3.386 | 0.070 | 4.118 | |
| calculateTFEnrichment | 3.621 | 0.075 | 4.144 | |
| changeOutputDirectory | 2.944 | 0.073 | 3.480 | |
| deleteIntermediateData | 2.820 | 0.066 | 3.384 | |
| filterConnectionsForPlotting | 3.000 | 0.072 | 3.652 | |
| filterData | 4.717 | 0.093 | 5.524 | |
| filterGRNAndConnectGenes | 2.905 | 0.068 | 3.555 | |
| generateStatsSummary | 12.498 | 0.199 | 14.827 | |
| getCounts | 3.196 | 0.091 | 3.911 | |
| getGRNConnections | 2.935 | 0.075 | 3.624 | |
| getGRNSummary | 5.215 | 0.114 | 5.950 | |
| getParameters | 2.930 | 0.082 | 3.652 | |
| getTopNodes | 3.023 | 0.069 | 3.622 | |
| initializeGRN | 0.036 | 0.003 | 0.040 | |
| loadExampleObject | 3.995 | 0.084 | 4.654 | |
| nGenes | 2.820 | 0.062 | 3.397 | |
| nPeaks | 2.933 | 0.074 | 3.708 | |
| nTFs | 3.000 | 0.081 | 3.933 | |
| overlapPeaksAndTFBS | 2.946 | 0.076 | 4.000 | |
| performAllNetworkAnalyses | 0.000 | 0.001 | 0.001 | |
| plotCommunitiesEnrichment | 6.175 | 0.183 | 7.336 | |
| plotCommunitiesStats | 5.339 | 0.196 | 6.232 | |
| plotCorrelations | 5.054 | 0.153 | 5.877 | |
| plotDiagnosticPlots_TFPeaks | 6.404 | 0.242 | 7.410 | |
| plotDiagnosticPlots_peakGene | 9.215 | 0.226 | 10.532 | |
| plotGeneralEnrichment | 3.646 | 0.074 | 4.332 | |
| plotGeneralGraphStats | 5.792 | 0.092 | 6.622 | |
| plotPCA_all | 4.452 | 0.169 | 5.484 | |
| plotTFEnrichment | 4.579 | 0.088 | 5.251 | |
| plot_stats_connectionSummary | 5.387 | 0.113 | 6.028 | |
| visualizeGRN | 6.058 | 0.124 | 6.946 | |