| Back to Multiple platform build/check report for BioC 3.18: simplified long |
|
This page was generated on 2024-04-17 11:36:50 -0400 (Wed, 17 Apr 2024).
| Hostname | OS | Arch (*) | R version | Installed pkgs |
|---|---|---|---|---|
| nebbiolo2 | Linux (Ubuntu 22.04.3 LTS) | x86_64 | 4.3.3 (2024-02-29) -- "Angel Food Cake" | 4676 |
| palomino4 | Windows Server 2022 Datacenter | x64 | 4.3.3 (2024-02-29 ucrt) -- "Angel Food Cake" | 4414 |
| merida1 | macOS 12.7.1 Monterey | x86_64 | 4.3.3 (2024-02-29) -- "Angel Food Cake" | 4437 |
| Click on any hostname to see more info about the system (e.g. compilers) (*) as reported by 'uname -p', except on Windows and Mac OS X | ||||
| Package 878/2266 | Hostname | OS / Arch | INSTALL | BUILD | CHECK | BUILD BIN | ||||||||
| GOexpress 1.36.0 (landing page) Kevin Rue-Albrecht
| nebbiolo2 | Linux (Ubuntu 22.04.3 LTS) / x86_64 | OK | OK | OK | |||||||||
| palomino4 | Windows Server 2022 Datacenter / x64 | OK | OK | OK | OK | |||||||||
| merida1 | macOS 12.7.1 Monterey / x86_64 | OK | OK | OK | OK | |||||||||
| kjohnson1 | macOS 13.6.1 Ventura / arm64 | see weekly results here | ||||||||||||
|
To the developers/maintainers of the GOexpress package: - Allow up to 24 hours (and sometimes 48 hours) for your latest push to git@git.bioconductor.org:packages/GOexpress.git to reflect on this report. See Troubleshooting Build Report for more information. - Use the following Renviron settings to reproduce errors and warnings. - If 'R CMD check' started to fail recently on the Linux builder(s) over a missing dependency, add the missing dependency to 'Suggests:' in your DESCRIPTION file. See Renviron.bioc for more information. |
| Package: GOexpress |
| Version: 1.36.0 |
| Command: F:\biocbuild\bbs-3.18-bioc\R\bin\R.exe CMD check --no-multiarch --install=check:GOexpress.install-out.txt --library=F:\biocbuild\bbs-3.18-bioc\R\library --no-vignettes --timings GOexpress_1.36.0.tar.gz |
| StartedAt: 2024-04-16 01:21:44 -0400 (Tue, 16 Apr 2024) |
| EndedAt: 2024-04-16 01:24:13 -0400 (Tue, 16 Apr 2024) |
| EllapsedTime: 148.6 seconds |
| RetCode: 0 |
| Status: OK |
| CheckDir: GOexpress.Rcheck |
| Warnings: 0 |
##############################################################################
##############################################################################
###
### Running command:
###
### F:\biocbuild\bbs-3.18-bioc\R\bin\R.exe CMD check --no-multiarch --install=check:GOexpress.install-out.txt --library=F:\biocbuild\bbs-3.18-bioc\R\library --no-vignettes --timings GOexpress_1.36.0.tar.gz
###
##############################################################################
##############################################################################
* using log directory 'F:/biocbuild/bbs-3.18-bioc/meat/GOexpress.Rcheck'
* using R version 4.3.3 (2024-02-29 ucrt)
* using platform: x86_64-w64-mingw32 (64-bit)
* R was compiled by
gcc.exe (GCC) 12.3.0
GNU Fortran (GCC) 12.3.0
* running under: Windows Server 2022 x64 (build 20348)
* using session charset: UTF-8
* using option '--no-vignettes'
* checking for file 'GOexpress/DESCRIPTION' ... OK
* this is package 'GOexpress' version '1.36.0'
* checking package namespace information ... OK
* checking package dependencies ... OK
* checking if this is a source package ... OK
* checking if there is a namespace ... OK
* checking for hidden files and directories ... NOTE
Found the following hidden files and directories:
.travis.yml
These were most likely included in error. See section 'Package
structure' in the 'Writing R Extensions' manual.
* checking for portable file names ... OK
* checking whether package 'GOexpress' can be installed ... OK
* checking installed package size ... OK
* checking package directory ... OK
* checking 'build' directory ... OK
* checking DESCRIPTION meta-information ... OK
* checking top-level files ... OK
* checking for left-over files ... OK
* checking index information ... OK
* checking package subdirectories ... OK
* checking R files for non-ASCII characters ... OK
* checking R files for syntax errors ... OK
* checking whether the package can be loaded ... OK
* checking whether the package can be loaded with stated dependencies ... OK
* checking whether the package can be unloaded cleanly ... OK
* checking whether the namespace can be loaded with stated dependencies ... OK
* checking whether the namespace can be unloaded cleanly ... OK
* checking dependencies in R code ... OK
* checking S3 generic/method consistency ... OK
* checking replacement functions ... OK
* checking foreign function calls ... OK
* checking R code for possible problems ... NOTE
GO_analyse: no visible binding for global variable 'microarray2dataset'
GO_analyse: no visible binding for global variable 'prefix2dataset'
mart_from_ensembl: no visible binding for global variable
'prefix2dataset'
Undefined global functions or variables:
microarray2dataset prefix2dataset
* checking Rd files ... OK
* checking Rd metadata ... OK
* checking Rd cross-references ... OK
* checking for missing documentation entries ... OK
* checking for code/documentation mismatches ... OK
* checking Rd \usage sections ... OK
* checking Rd contents ... OK
* checking for unstated dependencies in examples ... OK
* checking contents of 'data' directory ... OK
* checking data for non-ASCII characters ... OK
* checking LazyData ... OK
* checking data for ASCII and uncompressed saves ... OK
* checking sizes of PDF files under 'inst/doc' ... OK
* checking files in 'vignettes' ... OK
* checking examples ... OK
* checking for unstated dependencies in vignettes ... OK
* checking package vignettes in 'inst/doc' ... OK
* checking running R code from vignettes ... SKIPPED
* checking re-building of vignette outputs ... SKIPPED
* checking PDF version of manual ... OK
* DONE
Status: 2 NOTEs
See
'F:/biocbuild/bbs-3.18-bioc/meat/GOexpress.Rcheck/00check.log'
for details.
GOexpress.Rcheck/00install.out
############################################################################## ############################################################################## ### ### Running command: ### ### F:\biocbuild\bbs-3.18-bioc\R\bin\R.exe CMD INSTALL GOexpress ### ############################################################################## ############################################################################## * installing to library 'F:/biocbuild/bbs-3.18-bioc/R/library' * installing *source* package 'GOexpress' ... ** using staged installation ** R ** data *** moving datasets to lazyload DB ** inst ** byte-compile and prepare package for lazy loading ** help *** installing help indices ** building package indices ** installing vignettes ** testing if installed package can be loaded from temporary location ** testing if installed package can be loaded from final location ** testing if installed package keeps a record of temporary installation path * DONE (GOexpress)
GOexpress.Rcheck/GOexpress-Ex.timings
| name | user | system | elapsed | |
| AlvMac | 0.53 | 0.02 | 0.55 | |
| AlvMac_GOgenes | 0.10 | 0.00 | 0.09 | |
| AlvMac_allGO | 0.03 | 0.00 | 0.03 | |
| AlvMac_allgenes | 0.02 | 0.00 | 0.01 | |
| AlvMac_results | 0.12 | 0.00 | 0.13 | |
| AlvMac_results.pVal | 2.58 | 1.08 | 3.65 | |
| GO_analyse | 4.08 | 0.06 | 4.15 | |
| GOexpress-package | 0.00 | 0.01 | 0.01 | |
| cluster_GO | 0.10 | 0.00 | 0.11 | |
| expression_plot | 2.33 | 0.08 | 2.40 | |
| expression_plot_symbol | 0.70 | 0.03 | 0.73 | |
| expression_profiles | 0.63 | 0.02 | 0.64 | |
| expression_profiles_symbol | 0.70 | 0.00 | 0.71 | |
| heatmap_GO | 0.39 | 0.03 | 0.42 | |
| hist_scores | 0.73 | 0.00 | 0.73 | |
| list_genes | 0.08 | 0.02 | 0.10 | |
| microarray2dataset | 0.00 | 0.01 | 0.01 | |
| pValue_GO | 0 | 0 | 0 | |
| plot_design | 0.11 | 0.05 | 0.15 | |
| prefix2dataset | 0.00 | 0.01 | 0.02 | |
| quantiles_scores | 0.19 | 0.02 | 0.20 | |
| rerank | 0.25 | 0.02 | 0.27 | |
| subEset | 0.04 | 0.01 | 0.06 | |
| subset_scores | 0.27 | 0.02 | 0.28 | |
| table_genes | 0.11 | 0.01 | 0.13 | |