| Back to Multiple platform build/check report for BioC 3.18: simplified long |
|
This page was generated on 2023-06-17 11:37:04 -0400 (Sat, 17 Jun 2023).
| Hostname | OS | Arch (*) | R version | Installed pkgs |
|---|---|---|---|---|
| nebbiolo2 | Linux (Ubuntu 22.04.2 LTS) | x86_64 | 4.3.0 RC (2023-04-18 r84287) -- "Already Tomorrow" | 4599 |
| palomino4 | Windows Server 2022 Datacenter | x64 | 4.3.0 RC (2023-04-18 r84287 ucrt) -- "Already Tomorrow" | 4349 |
| lconway | macOS 12.6.5 Monterey | x86_64 | 4.3.0 RC (2023-04-13 r84266) -- "Already Tomorrow" | 4356 |
| kunpeng2 | Linux (openEuler 22.03 LTS-SP1) | aarch64 | 4.3.0 (2023-04-21) -- "Already Tomorrow" | 4381 |
| Click on any hostname to see more info about the system (e.g. compilers) (*) as reported by 'uname -p', except on Windows and Mac OS X | ||||
| Package 603/2199 | Hostname | OS / Arch | INSTALL | BUILD | CHECK | BUILD BIN | ||||||||
| EBSeqHMM 1.35.0 (landing page) Ning Leng
| nebbiolo2 | Linux (Ubuntu 22.04.2 LTS) / x86_64 | OK | OK | OK | |||||||||
| palomino4 | Windows Server 2022 Datacenter / x64 | OK | OK | OK | OK | |||||||||
| lconway | macOS 12.6.5 Monterey / x86_64 | OK | OK | OK | OK | |||||||||
| kunpeng2 | Linux (openEuler 22.03 LTS-SP1) / aarch64 | OK | OK | OK | ||||||||||
| The builds on kunpeng2 (Linux ARM64) are experimental! |
|
To the developers/maintainers of the EBSeqHMM package: - Allow up to 24 hours (and sometimes 48 hours) for your latest push to git@git.bioconductor.org:packages/EBSeqHMM.git to reflect on this report. See Troubleshooting Build Report for more information. - Use the following Renviron settings to reproduce errors and warnings. - If 'R CMD check' started to fail recently on the Linux builder(s) over a missing dependency, add the missing dependency to 'Suggests:' in your DESCRIPTION file. See Renviron.bioc for more information. |
| Package: EBSeqHMM |
| Version: 1.35.0 |
| Command: rm -rf EBSeqHMM.buildbin-libdir && mkdir EBSeqHMM.buildbin-libdir && F:\biocbuild\bbs-3.18-bioc\R\bin\R.exe CMD INSTALL --build --library=EBSeqHMM.buildbin-libdir EBSeqHMM_1.35.0.tar.gz |
| StartedAt: 2023-06-17 08:53:54 -0400 (Sat, 17 Jun 2023) |
| EndedAt: 2023-06-17 08:54:12 -0400 (Sat, 17 Jun 2023) |
| EllapsedTime: 18.3 seconds |
| RetCode: 0 |
| Status: OK |
| PackageFile: EBSeqHMM_1.35.0.zip |
| PackageFileSize: 1.008 MiB |
############################################################################## ############################################################################## ### ### Running command: ### ### rm -rf EBSeqHMM.buildbin-libdir && mkdir EBSeqHMM.buildbin-libdir && F:\biocbuild\bbs-3.18-bioc\R\bin\R.exe CMD INSTALL --build --library=EBSeqHMM.buildbin-libdir EBSeqHMM_1.35.0.tar.gz ### ############################################################################## ############################################################################## * installing *source* package 'EBSeqHMM' ... ** using staged installation ** R ** data ** demo ** inst ** byte-compile and prepare package for lazy loading ** help *** installing help indices ** building package indices ** installing vignettes ** testing if installed package can be loaded from temporary location ** testing if installed package can be loaded from final location ** testing if installed package keeps a record of temporary installation path * MD5 sums packaged installation of 'EBSeqHMM' as EBSeqHMM_1.35.0.zip * DONE (EBSeqHMM)