| Back to Multiple platform build/check report for BioC 3.18: simplified long |
|
This page was generated on 2023-10-25 11:41:21 -0400 (Wed, 25 Oct 2023).
| Hostname | OS | Arch (*) | R version | Installed pkgs |
|---|---|---|---|---|
| nebbiolo2 | Linux (Ubuntu 22.04.2 LTS) | x86_64 | 4.3.1 (2023-06-16) -- "Beagle Scouts" | 4727 |
| palomino4 | Windows Server 2022 Datacenter | x64 | 4.3.1 (2023-06-16 ucrt) -- "Beagle Scouts" | 4465 |
| lconway | macOS 12.6.5 Monterey | x86_64 | 4.3.1 Patched (2023-06-17 r84564) -- "Beagle Scouts" | 4476 |
| kunpeng2 | Linux (openEuler 22.03 LTS-SP1) | aarch64 | 4.3.1 (2023-06-16) -- "Beagle Scouts" | 4464 |
| Click on any hostname to see more info about the system (e.g. compilers) (*) as reported by 'uname -p', except on Windows and Mac OS X | ||||
| Package 441/2266 | Hostname | OS / Arch | INSTALL | BUILD | CHECK | BUILD BIN | ||||||||
| CoSIA 1.2.0 (landing page) Amanda D. Clark
| nebbiolo2 | Linux (Ubuntu 22.04.2 LTS) / x86_64 | OK | OK | OK | |||||||||
| palomino4 | Windows Server 2022 Datacenter / x64 | OK | OK | OK | OK | |||||||||
| lconway | macOS 12.6.5 Monterey / x86_64 | OK | OK | OK | OK | |||||||||
| kjohnson1 | macOS 13.3.1 Ventura / arm64 | see weekly results here | ||||||||||||
| kunpeng2 | Linux (openEuler 22.03 LTS-SP1) / aarch64 | OK | OK | OK | ||||||||||
|
To the developers/maintainers of the CoSIA package: - Allow up to 24 hours (and sometimes 48 hours) for your latest push to git@git.bioconductor.org:packages/CoSIA.git to reflect on this report. See Troubleshooting Build Report for more information. - Use the following Renviron settings to reproduce errors and warnings. - If 'R CMD check' started to fail recently on the Linux builder(s) over a missing dependency, add the missing dependency to 'Suggests:' in your DESCRIPTION file. See Renviron.bioc for more information. - See Martin Grigorov's blog post for how to debug Linux ARM64 related issues on a x86_64 host. |
| Package: CoSIA |
| Version: 1.2.0 |
| Command: /home/biocbuild/R/R-4.3.1/bin/R CMD check --install=check:CoSIA.install-out.txt --library=/home/biocbuild/R/R-4.3.1/site-library --timings CoSIA_1.2.0.tar.gz |
| StartedAt: 2023-10-25 09:13:15 -0000 (Wed, 25 Oct 2023) |
| EndedAt: 2023-10-25 09:33:54 -0000 (Wed, 25 Oct 2023) |
| EllapsedTime: 1239.0 seconds |
| RetCode: 0 |
| Status: OK |
| CheckDir: CoSIA.Rcheck |
| Warnings: 0 |
##############################################################################
##############################################################################
###
### Running command:
###
### /home/biocbuild/R/R-4.3.1/bin/R CMD check --install=check:CoSIA.install-out.txt --library=/home/biocbuild/R/R-4.3.1/site-library --timings CoSIA_1.2.0.tar.gz
###
##############################################################################
##############################################################################
* using log directory ‘/home/biocbuild/bbs-3.18-bioc/meat/CoSIA.Rcheck’
* using R version 4.3.1 (2023-06-16)
* using platform: aarch64-unknown-linux-gnu (64-bit)
* R was compiled by
gcc (GCC) 10.3.1
GNU Fortran (GCC) 10.3.1
* running under: openEuler 22.03 (LTS-SP1)
* using session charset: UTF-8
* checking for file ‘CoSIA/DESCRIPTION’ ... OK
* checking extension type ... Package
* this is package ‘CoSIA’ version ‘1.2.0’
* package encoding: UTF-8
* checking package namespace information ... OK
* checking package dependencies ... OK
* checking if this is a source package ... OK
* checking if there is a namespace ... OK
* checking for hidden files and directories ... OK
* checking for portable file names ... OK
* checking for sufficient/correct file permissions ... OK
* checking whether package ‘CoSIA’ can be installed ... OK
* checking installed package size ... OK
* checking package directory ... OK
* checking ‘build’ directory ... OK
* checking DESCRIPTION meta-information ... OK
* checking top-level files ... OK
* checking for left-over files ... OK
* checking index information ... OK
* checking package subdirectories ... OK
* checking R files for non-ASCII characters ... OK
* checking R files for syntax errors ... OK
* checking whether the package can be loaded ... OK
* checking whether the package can be loaded with stated dependencies ... OK
* checking whether the package can be unloaded cleanly ... OK
* checking whether the namespace can be loaded with stated dependencies ... OK
* checking whether the namespace can be unloaded cleanly ... OK
* checking loading without being on the library search path ... OK
* checking dependencies in R code ... OK
* checking S3 generic/method consistency ... OK
* checking replacement functions ... OK
* checking foreign function calls ... OK
* checking R code for possible problems ... OK
* checking Rd files ... OK
* checking Rd metadata ... OK
* checking Rd cross-references ... OK
* checking for missing documentation entries ... OK
* checking for code/documentation mismatches ... OK
* checking Rd \usage sections ... OK
* checking Rd contents ... OK
* checking for unstated dependencies in examples ... OK
* checking files in ‘vignettes’ ... OK
* checking examples ... OK
Examples with CPU (user + system) or elapsed time > 5s
user system elapsed
plotCVGEx-CoSIAn-method 135.803 8.943 150.795
plotCVGEx 88.556 4.686 102.459
getGEx-CoSIAn-method 32.739 1.466 50.197
plotDSGEx 31.488 0.445 34.827
getTissues 29.237 0.507 32.606
plotDSGEx-CoSIAn-method 28.032 1.445 32.338
plotSpeciesGEx-CoSIAn-method 18.631 0.329 24.200
plotTissueGEx-CoSIAn-method 17.632 0.236 21.405
plotTissueGEx 17.467 0.191 20.540
plotSpeciesGEx 16.806 0.274 19.921
getGExMetrics 8.536 0.181 11.597
getGExMetrics-CoSIAn-method 8.257 0.180 12.366
getConversion-CoSIAn-method 5.314 0.164 5.507
getGEx 5.132 0.156 8.563
* checking for unstated dependencies in vignettes ... OK
* checking package vignettes in ‘inst/doc’ ... OK
* checking running R code from vignettes ...
‘CoSIA_Intro.Rmd’ using ‘UTF-8’... OK
NONE
* checking re-building of vignette outputs ... OK
* checking PDF version of manual ... OK
* DONE
Status: OK
CoSIA.Rcheck/00install.out
############################################################################## ############################################################################## ### ### Running command: ### ### /home/biocbuild/R/R-4.3.1/bin/R CMD INSTALL CoSIA ### ############################################################################## ############################################################################## * installing to library ‘/home/biocbuild/R/R-4.3.1/site-library’ * installing *source* package ‘CoSIA’ ... ** using staged installation ** R ** inst ** byte-compile and prepare package for lazy loading ** help *** installing help indices ** building package indices ** installing vignettes ** testing if installed package can be loaded from temporary location ** testing if installed package can be loaded from final location ** testing if installed package keeps a record of temporary installation path * DONE (CoSIA)
CoSIA.Rcheck/CoSIA-Ex.timings
| name | user | system | elapsed | |
| CoSIA-constructor | 0.001 | 0.004 | 0.005 | |
| getConversion-CoSIAn-method | 5.314 | 0.164 | 5.507 | |
| getConversion | 3.064 | 0.048 | 3.117 | |
| getGEx-CoSIAn-method | 32.739 | 1.466 | 50.197 | |
| getGEx | 5.132 | 0.156 | 8.563 | |
| getGExMetrics-CoSIAn-method | 8.257 | 0.180 | 12.366 | |
| getGExMetrics | 8.536 | 0.181 | 11.597 | |
| getTissues | 29.237 | 0.507 | 32.606 | |
| plotCVGEx-CoSIAn-method | 135.803 | 8.943 | 150.795 | |
| plotCVGEx | 88.556 | 4.686 | 102.459 | |
| plotDSGEx-CoSIAn-method | 28.032 | 1.445 | 32.338 | |
| plotDSGEx | 31.488 | 0.445 | 34.827 | |
| plotSpeciesGEx-CoSIAn-method | 18.631 | 0.329 | 24.200 | |
| plotSpeciesGEx | 16.806 | 0.274 | 19.921 | |
| plotTissueGEx-CoSIAn-method | 17.632 | 0.236 | 21.405 | |
| plotTissueGEx | 17.467 | 0.191 | 20.540 | |
| viewCoSIAn-CoSIAn-method | 0.002 | 0.000 | 0.002 | |
| viewCoSIAn | 0.002 | 0.000 | 0.002 | |