| Back to Multiple platform build/check report for BioC 3.18: simplified long |
|
This page was generated on 2024-04-17 11:36:37 -0400 (Wed, 17 Apr 2024).
| Hostname | OS | Arch (*) | R version | Installed pkgs |
|---|---|---|---|---|
| nebbiolo2 | Linux (Ubuntu 22.04.3 LTS) | x86_64 | 4.3.3 (2024-02-29) -- "Angel Food Cake" | 4676 |
| palomino4 | Windows Server 2022 Datacenter | x64 | 4.3.3 (2024-02-29 ucrt) -- "Angel Food Cake" | 4414 |
| merida1 | macOS 12.7.1 Monterey | x86_64 | 4.3.3 (2024-02-29) -- "Angel Food Cake" | 4437 |
| Click on any hostname to see more info about the system (e.g. compilers) (*) as reported by 'uname -p', except on Windows and Mac OS X | ||||
| Package 333/2266 | Hostname | OS / Arch | INSTALL | BUILD | CHECK | BUILD BIN | ||||||||
| ChIPpeakAnno 3.36.1 (landing page) Jianhong Ou
| nebbiolo2 | Linux (Ubuntu 22.04.3 LTS) / x86_64 | OK | OK | ERROR | |||||||||
| palomino4 | Windows Server 2022 Datacenter / x64 | OK | OK | OK | OK | |||||||||
| merida1 | macOS 12.7.1 Monterey / x86_64 | OK | OK | OK | OK | |||||||||
| kjohnson1 | macOS 13.6.1 Ventura / arm64 | see weekly results here | ||||||||||||
|
To the developers/maintainers of the ChIPpeakAnno package: - Allow up to 24 hours (and sometimes 48 hours) for your latest push to git@git.bioconductor.org:packages/ChIPpeakAnno.git to reflect on this report. See Troubleshooting Build Report for more information. - Use the following Renviron settings to reproduce errors and warnings. - If 'R CMD check' started to fail recently on the Linux builder(s) over a missing dependency, add the missing dependency to 'Suggests:' in your DESCRIPTION file. See Renviron.bioc for more information. |
| Package: ChIPpeakAnno |
| Version: 3.36.1 |
| Command: F:\biocbuild\bbs-3.18-bioc\R\bin\R.exe CMD check --no-multiarch --install=check:ChIPpeakAnno.install-out.txt --library=F:\biocbuild\bbs-3.18-bioc\R\library --no-vignettes --timings ChIPpeakAnno_3.36.1.tar.gz |
| StartedAt: 2024-04-15 23:14:58 -0400 (Mon, 15 Apr 2024) |
| EndedAt: 2024-04-15 23:26:48 -0400 (Mon, 15 Apr 2024) |
| EllapsedTime: 710.8 seconds |
| RetCode: 0 |
| Status: OK |
| CheckDir: ChIPpeakAnno.Rcheck |
| Warnings: 0 |
##############################################################################
##############################################################################
###
### Running command:
###
### F:\biocbuild\bbs-3.18-bioc\R\bin\R.exe CMD check --no-multiarch --install=check:ChIPpeakAnno.install-out.txt --library=F:\biocbuild\bbs-3.18-bioc\R\library --no-vignettes --timings ChIPpeakAnno_3.36.1.tar.gz
###
##############################################################################
##############################################################################
* using log directory 'F:/biocbuild/bbs-3.18-bioc/meat/ChIPpeakAnno.Rcheck'
* using R version 4.3.3 (2024-02-29 ucrt)
* using platform: x86_64-w64-mingw32 (64-bit)
* R was compiled by
gcc.exe (GCC) 12.3.0
GNU Fortran (GCC) 12.3.0
* running under: Windows Server 2022 x64 (build 20348)
* using session charset: UTF-8
* using option '--no-vignettes'
* checking for file 'ChIPpeakAnno/DESCRIPTION' ... OK
* checking extension type ... Package
* this is package 'ChIPpeakAnno' version '3.36.1'
* package encoding: UTF-8
* checking package namespace information ... OK
* checking package dependencies ... OK
* checking if this is a source package ... OK
* checking if there is a namespace ... OK
* checking for hidden files and directories ... OK
* checking for portable file names ... OK
* checking whether package 'ChIPpeakAnno' can be installed ... OK
* checking installed package size ... NOTE
installed size is 19.1Mb
sub-directories of 1Mb or more:
data 12.6Mb
extdata 5.2Mb
* checking package directory ... OK
* checking 'build' directory ... OK
* checking DESCRIPTION meta-information ... OK
* checking top-level files ... OK
* checking for left-over files ... OK
* checking index information ... OK
* checking package subdirectories ... OK
* checking R files for non-ASCII characters ... OK
* checking R files for syntax errors ... OK
* checking whether the package can be loaded ... OK
* checking whether the package can be loaded with stated dependencies ... OK
* checking whether the package can be unloaded cleanly ... OK
* checking whether the namespace can be loaded with stated dependencies ... OK
* checking whether the namespace can be unloaded cleanly ... OK
* checking dependencies in R code ... NOTE
Namespace in Imports field not imported from: 'ensembldb'
All declared Imports should be used.
* checking S3 generic/method consistency ... OK
* checking replacement functions ... OK
* checking foreign function calls ... OK
* checking R code for possible problems ... OK
* checking Rd files ... NOTE
checkRd: (-1) assignChromosomeRegion.Rd:133: Escaped LaTeX specials: \_
* checking Rd metadata ... OK
* checking Rd cross-references ... OK
* checking for missing documentation entries ... OK
* checking for code/documentation mismatches ... OK
* checking Rd \usage sections ... OK
* checking Rd contents ... OK
* checking for unstated dependencies in examples ... OK
* checking contents of 'data' directory ... OK
* checking data for non-ASCII characters ... OK
* checking LazyData ... OK
* checking data for ASCII and uncompressed saves ... OK
* checking files in 'vignettes' ... OK
* checking examples ... OK
Examples with CPU (user + system) or elapsed time > 5s
user system elapsed
findEnhancers 30.83 1.42 32.97
findMotifsInPromoterSeqs 15.75 0.36 16.38
annotatePeakInBatch 13.75 1.23 16.20
summarizeOverlapsByBins 4.07 0.05 22.35
tileCount 1.33 0.04 21.19
* checking for unstated dependencies in 'tests' ... OK
* checking tests ...
Running 'runTests.R'
OK
* checking for unstated dependencies in vignettes ... OK
* checking package vignettes in 'inst/doc' ... OK
* checking running R code from vignettes ... SKIPPED
* checking re-building of vignette outputs ... SKIPPED
* checking PDF version of manual ... OK
* DONE
Status: 3 NOTEs
See
'F:/biocbuild/bbs-3.18-bioc/meat/ChIPpeakAnno.Rcheck/00check.log'
for details.
ChIPpeakAnno.Rcheck/00install.out
############################################################################## ############################################################################## ### ### Running command: ### ### F:\biocbuild\bbs-3.18-bioc\R\bin\R.exe CMD INSTALL ChIPpeakAnno ### ############################################################################## ############################################################################## * installing to library 'F:/biocbuild/bbs-3.18-bioc/R/library' * installing *source* package 'ChIPpeakAnno' ... ** using staged installation ** R ** data *** moving datasets to lazyload DB ** inst ** byte-compile and prepare package for lazy loading in method for 'annoGR' with signature '"EnsDb"': no definition for class "EnsDb" in method for 'toGRanges' with signature '"EnsDb"': no definition for class "EnsDb" ** help *** installing help indices ** building package indices ** installing vignettes ** testing if installed package can be loaded from temporary location ** testing if installed package can be loaded from final location ** testing if installed package keeps a record of temporary installation path * DONE (ChIPpeakAnno)
ChIPpeakAnno.Rcheck/tests/runTests.Rout
R version 4.3.3 (2024-02-29 ucrt) -- "Angel Food Cake"
Copyright (C) 2024 The R Foundation for Statistical Computing
Platform: x86_64-w64-mingw32/x64 (64-bit)
R is free software and comes with ABSOLUTELY NO WARRANTY.
You are welcome to redistribute it under certain conditions.
Type 'license()' or 'licence()' for distribution details.
R is a collaborative project with many contributors.
Type 'contributors()' for more information and
'citation()' on how to cite R or R packages in publications.
Type 'demo()' for some demos, 'help()' for on-line help, or
'help.start()' for an HTML browser interface to help.
Type 'q()' to quit R.
> require("ChIPpeakAnno") || stop("unable to load Package:ChIPpeakAnno")
Loading required package: ChIPpeakAnno
Loading required package: IRanges
Loading required package: BiocGenerics
Attaching package: 'BiocGenerics'
The following objects are masked from 'package:stats':
IQR, mad, sd, var, xtabs
The following objects are masked from 'package:base':
Filter, Find, Map, Position, Reduce, anyDuplicated, aperm, append,
as.data.frame, basename, cbind, colnames, dirname, do.call,
duplicated, eval, evalq, get, grep, grepl, intersect, is.unsorted,
lapply, mapply, match, mget, order, paste, pmax, pmax.int, pmin,
pmin.int, rank, rbind, rownames, sapply, setdiff, sort, table,
tapply, union, unique, unsplit, which.max, which.min
Loading required package: S4Vectors
Loading required package: stats4
Attaching package: 'S4Vectors'
The following object is masked from 'package:utils':
findMatches
The following objects are masked from 'package:base':
I, expand.grid, unname
Attaching package: 'IRanges'
The following object is masked from 'package:grDevices':
windows
Loading required package: GenomicRanges
Loading required package: GenomeInfoDb
[1] TRUE
> require("BSgenome.Drerio.UCSC.danRer7") || stop("unable to load Package:BSgenome.Drerio.UCSC.danRer7")
Loading required package: BSgenome.Drerio.UCSC.danRer7
Loading required package: BSgenome
Loading required package: Biostrings
Loading required package: XVector
Attaching package: 'Biostrings'
The following object is masked from 'package:base':
strsplit
Loading required package: BiocIO
Loading required package: rtracklayer
Attaching package: 'rtracklayer'
The following object is masked from 'package:BiocIO':
FileForFormat
[1] TRUE
> require("org.Hs.eg.db") || stop("unable to load Package:org.Hs.eg.db")
Loading required package: org.Hs.eg.db
Loading required package: AnnotationDbi
Loading required package: Biobase
Welcome to Bioconductor
Vignettes contain introductory material; view with
'browseVignettes()'. To cite Bioconductor, see
'citation("Biobase")', and for packages 'citation("pkgname")'.
[1] TRUE
> require("org.Ce.eg.db") || stop("unable to load Package:org.Ce.eg.db")
Loading required package: org.Ce.eg.db
[1] TRUE
> require("BSgenome.Celegans.UCSC.ce10") || stop("unable to load Package:BSgenome.Celegans.UCSC.ce10")
Loading required package: BSgenome.Celegans.UCSC.ce10
[1] TRUE
> require("EnsDb.Hsapiens.v79") || stop("unable to load Package:EnsDb.Hsapiens.v79")
Loading required package: EnsDb.Hsapiens.v79
Loading required package: ensembldb
Loading required package: GenomicFeatures
Loading required package: AnnotationFilter
Attaching package: 'ensembldb'
The following object is masked from 'package:stats':
filter
[1] TRUE
> require("TxDb.Hsapiens.UCSC.hg38.knownGene") || stop("unable to load TxDb.Hsapiens.UCSC.hg38.knownGene")
Loading required package: TxDb.Hsapiens.UCSC.hg38.knownGene
[1] TRUE
> require("biomaRt") || stop("unable to load biomaRt")
Loading required package: biomaRt
[1] TRUE
> require("reactome.db") || stop("unable to load reactome.db")
Loading required package: reactome.db
[1] TRUE
> require("testthat") || stop("unable to load testthat")
Loading required package: testthat
Attaching package: 'testthat'
The following object is masked from 'package:AnnotationFilter':
not
[1] TRUE
> test_check("ChIPpeakAnno")
INFO [2024-04-15 23:26:25] $cat.cex
INFO [2024-04-15 23:26:25] [1] 1
INFO [2024-04-15 23:26:25]
INFO [2024-04-15 23:26:25] $cat.col
INFO [2024-04-15 23:26:25] [1] "black"
INFO [2024-04-15 23:26:25]
INFO [2024-04-15 23:26:25] $cat.fontface
INFO [2024-04-15 23:26:25] [1] "plain"
INFO [2024-04-15 23:26:25]
INFO [2024-04-15 23:26:25] $cat.fontfamily
INFO [2024-04-15 23:26:25] [1] "serif"
INFO [2024-04-15 23:26:25]
INFO [2024-04-15 23:26:25] $x
INFO [2024-04-15 23:26:25] $x$TF1
INFO [2024-04-15 23:26:25] [1] 3 4 5
INFO [2024-04-15 23:26:25]
INFO [2024-04-15 23:26:25] $x$TF2
INFO [2024-04-15 23:26:25] [1] 1 2 3 4 5
INFO [2024-04-15 23:26:25]
INFO [2024-04-15 23:26:25]
INFO [2024-04-15 23:26:25] $filename
INFO [2024-04-15 23:26:25] NULL
INFO [2024-04-15 23:26:25]
INFO [2024-04-15 23:26:25] $disable.logging
INFO [2024-04-15 23:26:25] [1] TRUE
INFO [2024-04-15 23:26:25]
INFO [2024-04-15 23:26:25] $cat.cex
INFO [2024-04-15 23:26:25] [1] 1
INFO [2024-04-15 23:26:25]
INFO [2024-04-15 23:26:25] $cat.col
INFO [2024-04-15 23:26:25] [1] "black"
INFO [2024-04-15 23:26:25]
INFO [2024-04-15 23:26:25] $cat.fontface
INFO [2024-04-15 23:26:25] [1] "plain"
INFO [2024-04-15 23:26:25]
INFO [2024-04-15 23:26:25] $cat.fontfamily
INFO [2024-04-15 23:26:25] [1] "serif"
INFO [2024-04-15 23:26:25]
INFO [2024-04-15 23:26:25] $x
INFO [2024-04-15 23:26:25] $x$TF1
INFO [2024-04-15 23:26:25] [1] 3 4 5
INFO [2024-04-15 23:26:25]
INFO [2024-04-15 23:26:25] $x$TF2
INFO [2024-04-15 23:26:25] [1] 1 2 4 5
INFO [2024-04-15 23:26:25]
INFO [2024-04-15 23:26:25] $x$TF3
INFO [2024-04-15 23:26:25] [1] 3 4 5
INFO [2024-04-15 23:26:25]
INFO [2024-04-15 23:26:25] $x$TF4
INFO [2024-04-15 23:26:25] [1] 1 2 4 5
INFO [2024-04-15 23:26:25]
INFO [2024-04-15 23:26:25]
INFO [2024-04-15 23:26:25] $filename
INFO [2024-04-15 23:26:25] NULL
INFO [2024-04-15 23:26:25]
INFO [2024-04-15 23:26:25] $disable.logging
INFO [2024-04-15 23:26:25] [1] TRUE
INFO [2024-04-15 23:26:25]
INFO [2024-04-15 23:26:26] $scaled
INFO [2024-04-15 23:26:26] [1] FALSE
INFO [2024-04-15 23:26:26]
INFO [2024-04-15 23:26:26] $euler.d
INFO [2024-04-15 23:26:26] [1] FALSE
INFO [2024-04-15 23:26:26]
INFO [2024-04-15 23:26:26] $cat.cex
INFO [2024-04-15 23:26:26] [1] 1
INFO [2024-04-15 23:26:26]
INFO [2024-04-15 23:26:26] $cat.col
INFO [2024-04-15 23:26:26] [1] "black"
INFO [2024-04-15 23:26:26]
INFO [2024-04-15 23:26:26] $cat.fontface
INFO [2024-04-15 23:26:26] [1] "plain"
INFO [2024-04-15 23:26:26]
INFO [2024-04-15 23:26:26] $cat.fontfamily
INFO [2024-04-15 23:26:26] [1] "serif"
INFO [2024-04-15 23:26:26]
INFO [2024-04-15 23:26:26] $x
INFO [2024-04-15 23:26:26] $x$TF1
INFO [2024-04-15 23:26:26] [1] 1 2 3
INFO [2024-04-15 23:26:26]
INFO [2024-04-15 23:26:26] $x$TF2
INFO [2024-04-15 23:26:26] [1] 1 2 3
INFO [2024-04-15 23:26:26]
INFO [2024-04-15 23:26:26]
INFO [2024-04-15 23:26:26] $filename
INFO [2024-04-15 23:26:26] NULL
INFO [2024-04-15 23:26:26]
INFO [2024-04-15 23:26:26] $disable.logging
INFO [2024-04-15 23:26:26] [1] TRUE
INFO [2024-04-15 23:26:26]
INFO [2024-04-15 23:26:26] $scaled
INFO [2024-04-15 23:26:26] [1] FALSE
INFO [2024-04-15 23:26:26]
INFO [2024-04-15 23:26:26] $euler.d
INFO [2024-04-15 23:26:26] [1] FALSE
INFO [2024-04-15 23:26:26]
INFO [2024-04-15 23:26:26] $cat.cex
INFO [2024-04-15 23:26:26] [1] 1
INFO [2024-04-15 23:26:26]
INFO [2024-04-15 23:26:26] $cat.col
INFO [2024-04-15 23:26:26] [1] "black"
INFO [2024-04-15 23:26:26]
INFO [2024-04-15 23:26:26] $cat.fontface
INFO [2024-04-15 23:26:26] [1] "plain"
INFO [2024-04-15 23:26:26]
INFO [2024-04-15 23:26:26] $cat.fontfamily
INFO [2024-04-15 23:26:26] [1] "serif"
INFO [2024-04-15 23:26:26]
INFO [2024-04-15 23:26:26] $x
INFO [2024-04-15 23:26:26] $x$TF1
INFO [2024-04-15 23:26:26] [1] 4 5 6
INFO [2024-04-15 23:26:26]
INFO [2024-04-15 23:26:26] $x$TF2
INFO [2024-04-15 23:26:26] [1] 1 2 3
INFO [2024-04-15 23:26:26]
INFO [2024-04-15 23:26:26]
INFO [2024-04-15 23:26:26] $filename
INFO [2024-04-15 23:26:26] NULL
INFO [2024-04-15 23:26:26]
INFO [2024-04-15 23:26:26] $disable.logging
INFO [2024-04-15 23:26:26] [1] TRUE
INFO [2024-04-15 23:26:26]
INFO [2024-04-15 23:26:26] $scaled
INFO [2024-04-15 23:26:26] [1] FALSE
INFO [2024-04-15 23:26:26]
INFO [2024-04-15 23:26:26] $euler.d
INFO [2024-04-15 23:26:26] [1] FALSE
INFO [2024-04-15 23:26:26]
INFO [2024-04-15 23:26:26] $cat.cex
INFO [2024-04-15 23:26:26] [1] 1
INFO [2024-04-15 23:26:26]
INFO [2024-04-15 23:26:26] $cat.col
INFO [2024-04-15 23:26:26] [1] "black"
INFO [2024-04-15 23:26:26]
INFO [2024-04-15 23:26:26] $cat.fontface
INFO [2024-04-15 23:26:26] [1] "plain"
INFO [2024-04-15 23:26:26]
INFO [2024-04-15 23:26:26] $cat.fontfamily
INFO [2024-04-15 23:26:26] [1] "serif"
INFO [2024-04-15 23:26:26]
INFO [2024-04-15 23:26:26] $x
INFO [2024-04-15 23:26:26] $x$TF1
INFO [2024-04-15 23:26:26] [1] 4 5 6
INFO [2024-04-15 23:26:26]
INFO [2024-04-15 23:26:26] $x$TF2
INFO [2024-04-15 23:26:26] [1] 1 2 3
INFO [2024-04-15 23:26:26]
INFO [2024-04-15 23:26:26]
INFO [2024-04-15 23:26:26] $filename
INFO [2024-04-15 23:26:26] NULL
INFO [2024-04-15 23:26:26]
INFO [2024-04-15 23:26:26] $disable.logging
INFO [2024-04-15 23:26:26] [1] TRUE
INFO [2024-04-15 23:26:26]
INFO [2024-04-15 23:26:27] $scaled
INFO [2024-04-15 23:26:27] [1] FALSE
INFO [2024-04-15 23:26:27]
INFO [2024-04-15 23:26:27] $euler.d
INFO [2024-04-15 23:26:27] [1] FALSE
INFO [2024-04-15 23:26:27]
INFO [2024-04-15 23:26:27] $cat.cex
INFO [2024-04-15 23:26:27] [1] 1
INFO [2024-04-15 23:26:27]
INFO [2024-04-15 23:26:27] $cat.col
INFO [2024-04-15 23:26:27] [1] "black"
INFO [2024-04-15 23:26:27]
INFO [2024-04-15 23:26:27] $cat.fontface
INFO [2024-04-15 23:26:27] [1] "plain"
INFO [2024-04-15 23:26:27]
INFO [2024-04-15 23:26:27] $cat.fontfamily
INFO [2024-04-15 23:26:27] [1] "serif"
INFO [2024-04-15 23:26:27]
INFO [2024-04-15 23:26:27] $x
INFO [2024-04-15 23:26:27] $x$TF1
INFO [2024-04-15 23:26:27] [1] 4 5 6
INFO [2024-04-15 23:26:27]
INFO [2024-04-15 23:26:27] $x$TF2
INFO [2024-04-15 23:26:27] [1] 1 2 3
INFO [2024-04-15 23:26:27]
INFO [2024-04-15 23:26:27] $x$TF3
INFO [2024-04-15 23:26:27] [1] 2 3 6
INFO [2024-04-15 23:26:27]
INFO [2024-04-15 23:26:27]
INFO [2024-04-15 23:26:27] $filename
INFO [2024-04-15 23:26:27] NULL
INFO [2024-04-15 23:26:27]
INFO [2024-04-15 23:26:27] $disable.logging
INFO [2024-04-15 23:26:27] [1] TRUE
INFO [2024-04-15 23:26:27]
INFO [2024-04-15 23:26:27] $scaled
INFO [2024-04-15 23:26:27] [1] FALSE
INFO [2024-04-15 23:26:27]
INFO [2024-04-15 23:26:27] $euler.d
INFO [2024-04-15 23:26:27] [1] FALSE
INFO [2024-04-15 23:26:27]
INFO [2024-04-15 23:26:27] $cat.cex
INFO [2024-04-15 23:26:27] [1] 1
INFO [2024-04-15 23:26:27]
INFO [2024-04-15 23:26:27] $cat.col
INFO [2024-04-15 23:26:27] [1] "black"
INFO [2024-04-15 23:26:27]
INFO [2024-04-15 23:26:27] $cat.fontface
INFO [2024-04-15 23:26:27] [1] "plain"
INFO [2024-04-15 23:26:27]
INFO [2024-04-15 23:26:27] $cat.fontfamily
INFO [2024-04-15 23:26:27] [1] "serif"
INFO [2024-04-15 23:26:27]
INFO [2024-04-15 23:26:27] $x
INFO [2024-04-15 23:26:27] $x$TF1
INFO [2024-04-15 23:26:27] [1] 3 4 5
INFO [2024-04-15 23:26:27]
INFO [2024-04-15 23:26:27] $x$TF2
INFO [2024-04-15 23:26:27] [1] 1 2 5
INFO [2024-04-15 23:26:27]
INFO [2024-04-15 23:26:27] $x$TF3
INFO [2024-04-15 23:26:27] [1] 1 2 5
INFO [2024-04-15 23:26:27]
INFO [2024-04-15 23:26:27]
INFO [2024-04-15 23:26:27] $filename
INFO [2024-04-15 23:26:27] NULL
INFO [2024-04-15 23:26:27]
INFO [2024-04-15 23:26:27] $disable.logging
INFO [2024-04-15 23:26:27] [1] TRUE
INFO [2024-04-15 23:26:27]
INFO [2024-04-15 23:26:27] $scaled
INFO [2024-04-15 23:26:27] [1] FALSE
INFO [2024-04-15 23:26:27]
INFO [2024-04-15 23:26:27] $euler.d
INFO [2024-04-15 23:26:27] [1] FALSE
INFO [2024-04-15 23:26:27]
INFO [2024-04-15 23:26:27] $cat.cex
INFO [2024-04-15 23:26:27] [1] 1
INFO [2024-04-15 23:26:27]
INFO [2024-04-15 23:26:27] $cat.col
INFO [2024-04-15 23:26:27] [1] "black"
INFO [2024-04-15 23:26:27]
INFO [2024-04-15 23:26:27] $cat.fontface
INFO [2024-04-15 23:26:27] [1] "plain"
INFO [2024-04-15 23:26:27]
INFO [2024-04-15 23:26:27] $cat.fontfamily
INFO [2024-04-15 23:26:27] [1] "serif"
INFO [2024-04-15 23:26:27]
INFO [2024-04-15 23:26:27] $x
INFO [2024-04-15 23:26:27] $x$TF1
INFO [2024-04-15 23:26:27] [1] 3 4 5
INFO [2024-04-15 23:26:27]
INFO [2024-04-15 23:26:27] $x$TF2
INFO [2024-04-15 23:26:27] [1] 1 2 5
INFO [2024-04-15 23:26:27]
INFO [2024-04-15 23:26:27] $x$TF3
INFO [2024-04-15 23:26:27] [1] 1 2 5
INFO [2024-04-15 23:26:27]
INFO [2024-04-15 23:26:27] $x$TF4
INFO [2024-04-15 23:26:27] [1] 1 2 5
INFO [2024-04-15 23:26:27]
INFO [2024-04-15 23:26:27]
INFO [2024-04-15 23:26:27] $filename
INFO [2024-04-15 23:26:27] NULL
INFO [2024-04-15 23:26:27]
INFO [2024-04-15 23:26:27] $disable.logging
INFO [2024-04-15 23:26:27] [1] TRUE
INFO [2024-04-15 23:26:27]
[ FAIL 0 | WARN 4 | SKIP 6 | PASS 316 ]
══ Skipped tests (6) ═══════════════════════════════════════════════════════════
• empty test (6): 'test_binOverGene.R:1:1', 'test_binOverRegions.R:1:1',
'test_enrichmentPlot.R:1:1', 'test_getAnnotation.R:1:1',
'test_reCenterPeaks.R:1:1', 'test_write2FASTA.R:1:1'
[ FAIL 0 | WARN 4 | SKIP 6 | PASS 316 ]
>
> proc.time()
user system elapsed
197.40 9.28 216.50
ChIPpeakAnno.Rcheck/ChIPpeakAnno-Ex.timings
| name | user | system | elapsed | |
| ChIPpeakAnno-package | 0 | 0 | 0 | |
| ExonPlusUtr.human.GRCh37 | 3.80 | 0.04 | 3.84 | |
| HOT.spots | 0.11 | 0.00 | 0.11 | |
| IDRfilter | 0 | 0 | 0 | |
| Peaks.Ste12.Replicate1 | 0.04 | 0.00 | 0.05 | |
| Peaks.Ste12.Replicate2 | 0.02 | 0.00 | 0.02 | |
| Peaks.Ste12.Replicate3 | 0.03 | 0.00 | 0.03 | |
| TSS.human.GRCh37 | 0.19 | 0.03 | 0.22 | |
| TSS.human.GRCh38 | 0.12 | 0.03 | 0.15 | |
| TSS.human.NCBI36 | 0.10 | 0.02 | 0.11 | |
| TSS.mouse.GRCm38 | 0.11 | 0.01 | 0.13 | |
| TSS.mouse.NCBIM37 | 0.07 | 0.02 | 0.09 | |
| TSS.rat.RGSC3.4 | 0.08 | 0.00 | 0.07 | |
| TSS.rat.Rnor_5.0 | 0.06 | 0.00 | 0.07 | |
| TSS.zebrafish.Zv8 | 0.07 | 0.01 | 0.07 | |
| TSS.zebrafish.Zv9 | 0.09 | 0.00 | 0.10 | |
| addAncestors | 0.94 | 0.05 | 0.98 | |
| addGeneIDs | 2.95 | 1.47 | 4.42 | |
| addMetadata | 1.80 | 0.09 | 1.89 | |
| annoGR | 0 | 0 | 0 | |
| annoPeaks | 3.40 | 0.45 | 4.39 | |
| annotatePeakInBatch | 13.75 | 1.23 | 16.20 | |
| annotatedPeak | 0.05 | 0.00 | 0.05 | |
| assignChromosomeRegion | 0.01 | 0.00 | 0.01 | |
| bdp | 0 | 0 | 0 | |
| binOverFeature | 0.83 | 0.03 | 0.97 | |
| binOverGene | 0 | 0 | 0 | |
| binOverRegions | 0 | 0 | 0 | |
| condenseMatrixByColnames | 0.02 | 0.00 | 0.02 | |
| convert2EntrezID | 0.39 | 0.00 | 0.39 | |
| countPatternInSeqs | 0.15 | 0.04 | 0.18 | |
| cumulativePercentage | 0 | 0 | 0 | |
| downstreams | 0.03 | 0.00 | 0.04 | |
| egOrgMap | 0 | 0 | 0 | |
| enrichedGO | 0.00 | 0.01 | 0.01 | |
| enrichmentPlot | 0.79 | 0.03 | 0.83 | |
| estFragmentLength | 0 | 0 | 0 | |
| estLibSize | 0.00 | 0.02 | 0.02 | |
| featureAlignedDistribution | 0.32 | 0.00 | 0.32 | |
| featureAlignedExtendSignal | 0 | 0 | 0 | |
| featureAlignedHeatmap | 0.32 | 0.00 | 0.32 | |
| featureAlignedSignal | 0.15 | 0.06 | 0.21 | |
| findEnhancers | 30.83 | 1.42 | 32.97 | |
| findMotifsInPromoterSeqs | 15.75 | 0.36 | 16.38 | |
| findOverlappingPeaks | 0 | 0 | 0 | |
| findOverlapsOfPeaks | 2.11 | 0.05 | 2.16 | |
| genomicElementDistribution | 0 | 0 | 0 | |
| genomicElementUpSetR | 0.01 | 0.00 | 0.02 | |
| getAllPeakSequence | 0.83 | 0.08 | 0.96 | |
| getAnnotation | 0 | 0 | 0 | |
| getEnrichedGO | 0.02 | 0.01 | 0.04 | |
| getEnrichedPATH | 0 | 0 | 0 | |
| getGO | 0 | 0 | 0 | |
| getGeneSeq | 0.01 | 0.00 | 0.01 | |
| getUniqueGOidCount | 0 | 0 | 0 | |
| getVennCounts | 0 | 0 | 0 | |
| hyperGtest | 0 | 0 | 0 | |
| makeVennDiagram | 0 | 0 | 0 | |
| mergePlusMinusPeaks | 0 | 0 | 0 | |
| metagenePlot | 2.68 | 0.08 | 2.81 | |
| myPeakList | 0.02 | 0.00 | 0.02 | |
| oligoFrequency | 0.23 | 0.00 | 0.23 | |
| oligoSummary | 0 | 0 | 0 | |
| peakPermTest | 0 | 0 | 0 | |
| peaksNearBDP | 0 | 0 | 0 | |
| pie1 | 0.02 | 0.00 | 0.01 | |
| plotBinOverRegions | 0 | 0 | 0 | |
| preparePool | 0 | 0 | 0 | |
| reCenterPeaks | 0.03 | 0.00 | 0.03 | |
| summarizeOverlapsByBins | 4.07 | 0.05 | 22.35 | |
| summarizePatternInPeaks | 0.52 | 0.00 | 0.51 | |
| tileCount | 1.33 | 0.04 | 21.19 | |
| tileGRanges | 0.05 | 0.00 | 0.05 | |
| toGRanges | 0.10 | 0.00 | 0.11 | |
| translatePattern | 0 | 0 | 0 | |
| wgEncodeTfbsV3 | 0.19 | 0.00 | 0.18 | |
| write2FASTA | 0.02 | 0.00 | 0.02 | |
| xget | 0.09 | 0.02 | 0.11 | |