| Back to Multiple platform build/check report for BioC 3.18: simplified long |
|
This page was generated on 2023-11-02 11:40:27 -0400 (Thu, 02 Nov 2023).
| Hostname | OS | Arch (*) | R version | Installed pkgs |
|---|---|---|---|---|
| nebbiolo2 | Linux (Ubuntu 22.04.2 LTS) | x86_64 | 4.3.1 (2023-06-16) -- "Beagle Scouts" | 4729 |
| palomino4 | Windows Server 2022 Datacenter | x64 | 4.3.1 (2023-06-16 ucrt) -- "Beagle Scouts" | 4463 |
| lconway | macOS 12.6.5 Monterey | x86_64 | 4.3.1 Patched (2023-06-17 r84564) -- "Beagle Scouts" | 4478 |
| kunpeng2 | Linux (openEuler 22.03 LTS-SP1) | aarch64 | 4.3.1 (2023-06-16) -- "Beagle Scouts" | 4464 |
| Click on any hostname to see more info about the system (e.g. compilers) (*) as reported by 'uname -p', except on Windows and Mac OS X | ||||
| Package 175/2266 | Hostname | OS / Arch | INSTALL | BUILD | CHECK | BUILD BIN | ||||||||
| BiocFHIR 1.4.0 (landing page) Vincent Carey
| nebbiolo2 | Linux (Ubuntu 22.04.2 LTS) / x86_64 | OK | OK | OK | |||||||||
| palomino4 | Windows Server 2022 Datacenter / x64 | OK | OK | OK | OK | |||||||||
| lconway | macOS 12.6.5 Monterey / x86_64 | OK | OK | OK | OK | |||||||||
| kjohnson1 | macOS 13.6.1 Ventura / arm64 | see weekly results here | ||||||||||||
| kunpeng2 | Linux (openEuler 22.03 LTS-SP1) / aarch64 | OK | OK | OK | ||||||||||
|
To the developers/maintainers of the BiocFHIR package: - Allow up to 24 hours (and sometimes 48 hours) for your latest push to git@git.bioconductor.org:packages/BiocFHIR.git to reflect on this report. See Troubleshooting Build Report for more information. - Use the following Renviron settings to reproduce errors and warnings. - If 'R CMD check' started to fail recently on the Linux builder(s) over a missing dependency, add the missing dependency to 'Suggests:' in your DESCRIPTION file. See Renviron.bioc for more information. - See Martin Grigorov's blog post for how to debug Linux ARM64 related issues on a x86_64 host. |
| Package: BiocFHIR |
| Version: 1.4.0 |
| Command: /home/biocbuild/R/R-4.3.1/bin/R CMD check --install=check:BiocFHIR.install-out.txt --library=/home/biocbuild/R/R-4.3.1/site-library --no-vignettes --timings BiocFHIR_1.4.0.tar.gz |
| StartedAt: 2023-11-02 08:40:19 -0000 (Thu, 02 Nov 2023) |
| EndedAt: 2023-11-02 08:42:12 -0000 (Thu, 02 Nov 2023) |
| EllapsedTime: 113.1 seconds |
| RetCode: 0 |
| Status: OK |
| CheckDir: BiocFHIR.Rcheck |
| Warnings: 0 |
##############################################################################
##############################################################################
###
### Running command:
###
### /home/biocbuild/R/R-4.3.1/bin/R CMD check --install=check:BiocFHIR.install-out.txt --library=/home/biocbuild/R/R-4.3.1/site-library --no-vignettes --timings BiocFHIR_1.4.0.tar.gz
###
##############################################################################
##############################################################################
* using log directory ‘/home/biocbuild/bbs-3.18-bioc/meat/BiocFHIR.Rcheck’
* using R version 4.3.1 (2023-06-16)
* using platform: aarch64-unknown-linux-gnu (64-bit)
* R was compiled by
gcc (GCC) 10.3.1
GNU Fortran (GCC) 10.3.1
* running under: openEuler 22.03 (LTS-SP1)
* using session charset: UTF-8
* using option ‘--no-vignettes’
* checking for file ‘BiocFHIR/DESCRIPTION’ ... OK
* this is package ‘BiocFHIR’ version ‘1.4.0’
* package encoding: UTF-8
* checking package namespace information ... OK
* checking package dependencies ... OK
* checking if this is a source package ... OK
* checking if there is a namespace ... OK
* checking for hidden files and directories ... OK
* checking for portable file names ... OK
* checking for sufficient/correct file permissions ... OK
* checking whether package ‘BiocFHIR’ can be installed ... OK
* checking installed package size ... OK
* checking package directory ... OK
* checking ‘build’ directory ... OK
* checking DESCRIPTION meta-information ... OK
* checking top-level files ... OK
* checking for left-over files ... OK
* checking index information ... OK
* checking package subdirectories ... OK
* checking R files for non-ASCII characters ... OK
* checking R files for syntax errors ... OK
* checking whether the package can be loaded ... OK
* checking whether the package can be loaded with stated dependencies ... OK
* checking whether the package can be unloaded cleanly ... OK
* checking whether the namespace can be loaded with stated dependencies ... OK
* checking whether the namespace can be unloaded cleanly ... OK
* checking loading without being on the library search path ... OK
* checking dependencies in R code ... OK
* checking S3 generic/method consistency ... OK
* checking replacement functions ... OK
* checking foreign function calls ... OK
* checking R code for possible problems ... OK
* checking Rd files ... OK
* checking Rd metadata ... OK
* checking Rd cross-references ... OK
* checking for missing documentation entries ... OK
* checking for code/documentation mismatches ... OK
* checking Rd \usage sections ... OK
* checking Rd contents ... OK
* checking for unstated dependencies in examples ... OK
* checking contents of ‘data’ directory ... OK
* checking data for non-ASCII characters ... NOTE
Note: found 630 marked UTF-8 strings
* checking data for ASCII and uncompressed saves ... OK
* checking files in ‘vignettes’ ... OK
* checking examples ... OK
* checking for unstated dependencies in ‘tests’ ... OK
* checking tests ...
Running ‘test.R’
OK
* checking for unstated dependencies in vignettes ... OK
* checking package vignettes in ‘inst/doc’ ... OK
* checking running R code from vignettes ... SKIPPED
* checking re-building of vignette outputs ... SKIPPED
* checking PDF version of manual ... OK
* DONE
Status: 1 NOTE
See
‘/home/biocbuild/bbs-3.18-bioc/meat/BiocFHIR.Rcheck/00check.log’
for details.
BiocFHIR.Rcheck/00install.out
############################################################################## ############################################################################## ### ### Running command: ### ### /home/biocbuild/R/R-4.3.1/bin/R CMD INSTALL BiocFHIR ### ############################################################################## ############################################################################## * installing to library ‘/home/biocbuild/R/R-4.3.1/site-library’ * installing *source* package ‘BiocFHIR’ ... ** using staged installation ** R ** data ** inst ** byte-compile and prepare package for lazy loading ** help *** installing help indices ** building package indices ** installing vignettes ** testing if installed package can be loaded from temporary location ** testing if installed package can be loaded from final location ** testing if installed package keeps a record of temporary installation path * DONE (BiocFHIR)
BiocFHIR.Rcheck/tests/test.Rout
R version 4.3.1 (2023-06-16) -- "Beagle Scouts"
Copyright (C) 2023 The R Foundation for Statistical Computing
Platform: aarch64-unknown-linux-gnu (64-bit)
R is free software and comes with ABSOLUTELY NO WARRANTY.
You are welcome to redistribute it under certain conditions.
Type 'license()' or 'licence()' for distribution details.
R is a collaborative project with many contributors.
Type 'contributors()' for more information and
'citation()' on how to cite R or R packages in publications.
Type 'demo()' for some demos, 'help()' for on-line help, or
'help.start()' for an HTML browser interface to help.
Type 'q()' to quit R.
> library(testthat)
> library(BiocFHIR)
>
> test_check("BiocFHIR")
prcs__> testf = system.file("json/Vince741_Rogahn59_6fa3d4ab-c0b6-424a-89d8-7d9105129296.json",
prcs__+ package="BiocFHIR")
prcs__> tbun = process_fhir_bundle(testf)
prcs__> tbun
BiocFHIR FHIR.bundle instance.
resource types are:
AllergyIntolerance CarePlan ... Patient Procedure
[1] 231 10
id system code
1 3eae0267-0426-439c-a616-04c1dea70dd1 http://snomed.info/sct 409002
2 3eae0267-0426-439c-a616-04c1dea70dd1 http://snomed.info/sct 58332002
3 3eae0267-0426-439c-a616-04c1dea70dd1 http://snomed.info/sct 58332002
4 86d99438-bcfe-4149-b581-555f4e8243bb http://snomed.info/sct 386463000
5 86d99438-bcfe-4149-b581-555f4e8243bb http://snomed.info/sct 413473000
6 86d99438-bcfe-4149-b581-555f4e8243bb http://snomed.info/sct 1151000175103
display status
1 Food allergy diet in-progress
2 Allergy education in-progress
3 Allergy education in-progress
4 Prescribed activity/exercise education in-progress
5 Counseling about alcohol consumption in-progress
6 Dietary approaches to stop hypertension diet in-progress
location category.system category.code
1 HALLMARK HEALTH SYSTEM http://snomed.info/sct 326051000000105
2 HALLMARK HEALTH SYSTEM http://snomed.info/sct 326051000000105
3 HALLMARK HEALTH SYSTEM http://snomed.info/sct 326051000000105
4 RIVERBEND MEDICAL GROUP INC http://snomed.info/sct 443402002
5 RIVERBEND MEDICAL GROUP INC http://snomed.info/sct 443402002
6 RIVERBEND MEDICAL GROUP INC http://snomed.info/sct 443402002
category.display
1 Self care
2 Self care
3 Self care
4 Lifestyle education regarding hypertension
5 Lifestyle education regarding hypertension
6 Lifestyle education regarding hypertension
subject.reference
1 urn:uuid:15e20922-0f51-47a0-9345-225906c35fbf
2 urn:uuid:15e20922-0f51-47a0-9345-225906c35fbf
3 urn:uuid:15e20922-0f51-47a0-9345-225906c35fbf
4 urn:uuid:aef6dabb-9372-44bc-abf1-f3111812eec7
5 urn:uuid:aef6dabb-9372-44bc-abf1-f3111812eec7
6 urn:uuid:aef6dabb-9372-44bc-abf1-f3111812eec7
[1] 1423 9
[1] 247 5
[1] 1032 9
[1] 406 6
[1] 391 8
[1] 6860 11
[1] 30 40
[1] 881 8
[ FAIL 0 | WARN 0 | SKIP 0 | PASS 21 ]
>
> proc.time()
user system elapsed
30.159 2.696 35.851
BiocFHIR.Rcheck/BiocFHIR-Ex.timings
| name | user | system | elapsed | |
| FHIR_ResourceTypes | 0.000 | 0.000 | 0.001 | |
| FHIR_retention_schemas | 0.000 | 0.000 | 0.001 | |
| FHIRtabs | 0.000 | 0.000 | 0.001 | |
| add_procedures | 1.193 | 0.052 | 1.249 | |
| allin | 0.476 | 0.009 | 0.488 | |
| available_retention_schemas | 0.000 | 0.000 | 0.001 | |
| build_proccond_igraph | 0.911 | 0.832 | 2.984 | |
| display_proccond_igraph | 0.941 | 0.114 | 1.064 | |
| freq_app | 0 | 0 | 0 | |
| getHumanName | 0.643 | 0.019 | 0.666 | |
| make_condition_graph | 0.592 | 0.016 | 0.611 | |
| make_test_json_set | 0.062 | 0.032 | 0.101 | |
| print.BiocFHIR.FHIRgraph | 0.653 | 0.853 | 1.720 | |
| process_AllergyIntolerance | 0.680 | 0.088 | 0.773 | |
| process_CarePlan | 0.633 | 0.004 | 0.638 | |
| process_Claim | 0.636 | 0.000 | 0.638 | |
| process_Condition | 0.638 | 0.000 | 0.640 | |
| process_Encounter | 0.660 | 0.000 | 0.662 | |
| process_Immunization | 0.804 | 0.107 | 0.912 | |
| process_MedicationRequest | 0.608 | 0.000 | 0.609 | |
| process_Observation | 0.636 | 0.544 | 1.598 | |
| process_Patient | 0.620 | 0.004 | 0.633 | |
| process_Procedure | 0.630 | 0.000 | 0.633 | |
| process_fhir_bundle | 0.613 | 0.003 | 0.617 | |
| stack_fhir | 2.020 | 0.074 | 2.117 | |