| Back to Build/check report for BioC 3.17 |
|
This page was generated on 2023-01-02 09:00:53 -0500 (Mon, 02 Jan 2023).
| Hostname | OS | Arch (*) | R version | Installed pkgs |
|---|---|---|---|---|
| palomino5 | Windows Server 2022 Datacenter | x64 | R Under development (unstable) (2022-12-25 r83502 ucrt) -- "Unsuffered Consequences" | 4165 |
| Click on any hostname to see more info about the system (e.g. compilers) (*) as reported by 'uname -p', except on Windows and Mac OS X | ||||
|
To the developers/maintainers of the staRank package: Make sure to use the following settings in order to reproduce any error or warning you see on this page. |
| Package 1953/2158 | Hostname | OS / Arch | INSTALL | BUILD | CHECK | BUILD BIN | ||||||||
| staRank 1.41.0 (landing page) Juliane Siebourg
| palomino5 | Windows Server 2022 Datacenter / x64 | OK | OK | OK | OK | ||||||||
| Package: staRank |
| Version: 1.41.0 |
| Command: F:\biocbuild\bbs-3.17-bioc\R\bin\R.exe CMD check --no-multiarch --install=check:staRank.install-out.txt --library=F:\biocbuild\bbs-3.17-bioc\R\library --no-vignettes --timings staRank_1.41.0.tar.gz |
| StartedAt: 2022-12-29 03:57:51 -0500 (Thu, 29 Dec 2022) |
| EndedAt: 2022-12-29 04:00:15 -0500 (Thu, 29 Dec 2022) |
| EllapsedTime: 143.7 seconds |
| RetCode: 0 |
| Status: OK |
| CheckDir: staRank.Rcheck |
| Warnings: 0 |
##############################################################################
##############################################################################
###
### Running command:
###
### F:\biocbuild\bbs-3.17-bioc\R\bin\R.exe CMD check --no-multiarch --install=check:staRank.install-out.txt --library=F:\biocbuild\bbs-3.17-bioc\R\library --no-vignettes --timings staRank_1.41.0.tar.gz
###
##############################################################################
##############################################################################
* using log directory 'F:/biocbuild/bbs-3.17-bioc-rtools43/meat/staRank.Rcheck'
* using R Under development (unstable) (2022-12-25 r83502 ucrt)
* using platform: x86_64-w64-mingw32 (64-bit)
* R was compiled by
gcc.exe (GCC) 10.4.0
GNU Fortran (GCC) 10.4.0
* running under: Windows Server x64 (build 20348)
* using session charset: UTF-8
* using option '--no-vignettes'
* checking for file 'staRank/DESCRIPTION' ... OK
* checking extension type ... Package
* this is package 'staRank' version '1.41.0'
* checking package namespace information ... OK
* checking package dependencies ... OK
* checking if this is a source package ... OK
* checking if there is a namespace ... OK
* checking for hidden files and directories ... OK
* checking for portable file names ... OK
* checking whether package 'staRank' can be installed ... OK
* checking installed package size ... OK
* checking package directory ... OK
* checking 'build' directory ... OK
* checking DESCRIPTION meta-information ... OK
* checking top-level files ... OK
* checking for left-over files ... OK
* checking index information ... OK
* checking package subdirectories ... OK
* checking R files for non-ASCII characters ... OK
* checking R files for syntax errors ... OK
* checking whether the package can be loaded ... OK
* checking whether the package can be loaded with stated dependencies ... OK
* checking whether the package can be unloaded cleanly ... OK
* checking whether the namespace can be loaded with stated dependencies ... OK
* checking whether the namespace can be unloaded cleanly ... OK
* checking dependencies in R code ... OK
* checking S3 generic/method consistency ... OK
* checking replacement functions ... OK
* checking foreign function calls ... OK
* checking R code for possible problems ... NOTE
OPIScore : <anonymous>: no visible global function definition for
'phyper'
aggregRank : <anonymous>: no visible global function definition for
'median'
mwTest2samp: no visible global function definition for 'pwilcox'
mwTest2samp: no visible global function definition for 'pnorm'
show,RankSummary: no visible global function definition for 'head'
stabilityRanking,cellHTS: no visible global function definition for
'channelNames'
stabilityRanking,cellHTS: no visible global function definition for
'sampleNames'
stabilityRanking,cellHTS: no visible global function definition for
'featureNames'
stabilityRanking,numeric: no visible global function definition for
'avrgRank<-'
stabilityRanking,numeric: no visible global function definition for
'cor'
summaryStats,list : <anonymous>: no visible global function definition
for 'median'
summaryStats,list : <anonymous>: no visible global function definition
for 't.test'
summaryStats,matrix : <anonymous>: no visible global function
definition for 'median'
summaryStats,matrix : <anonymous>: no visible global function
definition for 't.test'
Undefined global functions or variables:
avrgRank<- channelNames cor featureNames head median phyper pnorm
pwilcox sampleNames t.test
Consider adding
importFrom("stats", "cor", "median", "phyper", "pnorm", "pwilcox",
"t.test")
importFrom("utils", "head")
to your NAMESPACE file.
* checking Rd files ... OK
* checking Rd metadata ... OK
* checking Rd cross-references ... OK
* checking for missing documentation entries ... OK
* checking for code/documentation mismatches ... OK
* checking Rd \usage sections ... OK
* checking Rd contents ... OK
* checking for unstated dependencies in examples ... OK
* checking contents of 'data' directory ... OK
* checking data for non-ASCII characters ... OK
* checking data for ASCII and uncompressed saves ... OK
* checking sizes of PDF files under 'inst/doc' ... OK
* checking files in 'vignettes' ... OK
* checking examples ... OK
* checking for unstated dependencies in vignettes ... OK
* checking package vignettes in 'inst/doc' ... OK
* checking running R code from vignettes ... SKIPPED
* checking re-building of vignette outputs ... SKIPPED
* checking PDF version of manual ... OK
* DONE
Status: 1 NOTE
See
'F:/biocbuild/bbs-3.17-bioc-rtools43/meat/staRank.Rcheck/00check.log'
for details.
staRank.Rcheck/00install.out
############################################################################## ############################################################################## ### ### Running command: ### ### F:\biocbuild\bbs-3.17-bioc\R\bin\R.exe CMD INSTALL staRank ### ############################################################################## ############################################################################## * installing to library 'F:/biocbuild/bbs-3.17-bioc/R/library' * installing *source* package 'staRank' ... ** using staged installation ** R ** data ** inst ** byte-compile and prepare package for lazy loading ** help *** installing help indices ** building package indices ** installing vignettes ** testing if installed package can be loaded from temporary location ** testing if installed package can be loaded from final location ** testing if installed package keeps a record of temporary installation path * DONE (staRank)
staRank.Rcheck/staRank-Ex.timings
| name | user | system | elapsed | |
| RankSummary-class | 0.04 | 0.00 | 0.05 | |
| aggregRank | 0.47 | 0.00 | 0.47 | |
| dataFormatRSA | 0.07 | 0.00 | 0.06 | |
| getRankmatrix | 0.04 | 0.01 | 0.06 | |
| getSampleScores-methods | 0.07 | 0.02 | 0.08 | |
| getStability | 0.04 | 0.01 | 0.06 | |
| mwTest2samp | 0 | 0 | 0 | |
| runRSA | 0.05 | 0.02 | 0.07 | |
| staRank-package | 0.05 | 0.03 | 0.07 | |
| stabilityRanking-methods | 0.04 | 0.01 | 0.07 | |
| summary-methods | 0.07 | 0.00 | 0.06 | |
| summaryStats-methods | 0.04 | 0.00 | 0.05 | |
| uniqueRSARanking | 0.05 | 0.00 | 0.04 | |