| Back to Build/check report for BioC 3.17 | 
  | 
This page was generated on 2023-01-02 09:00:53 -0500 (Mon, 02 Jan 2023).
| Hostname | OS | Arch (*) | R version | Installed pkgs | 
|---|---|---|---|---|
| palomino5 | Windows Server 2022 Datacenter | x64 | R Under development (unstable) (2022-12-25 r83502 ucrt) -- "Unsuffered Consequences" | 4165 | 
| Click on any hostname to see more info about the system (e.g. compilers) (*) as reported by 'uname -p', except on Windows and Mac OS X | ||||
| 
To the developers/maintainers of the staRank package: Make sure to use the following settings in order to reproduce any error or warning you see on this page.  | 
| Package 1953/2158 | Hostname | OS / Arch | INSTALL | BUILD | CHECK | BUILD BIN | ||||||||
| staRank 1.41.0  (landing page) Juliane Siebourg 
  | palomino5 | Windows Server 2022 Datacenter / x64 | OK | OK | OK | OK | ||||||||
| Package: staRank | 
| Version: 1.41.0 | 
| Command: rm -rf staRank.buildbin-libdir && mkdir staRank.buildbin-libdir && F:\biocbuild\bbs-3.17-bioc\R\bin\R.exe CMD INSTALL --build --library=staRank.buildbin-libdir staRank_1.41.0.tar.gz | 
| StartedAt: 2022-12-29 05:49:00 -0500 (Thu, 29 Dec 2022) | 
| EndedAt: 2022-12-29 05:49:32 -0500 (Thu, 29 Dec 2022) | 
| EllapsedTime: 32.2 seconds | 
| RetCode: 0 | 
| Status: OK | 
| PackageFile: staRank_1.41.0.zip | 
| PackageFileSize: 1.043 MiB | 
############################################################################## ############################################################################## ### ### Running command: ### ### rm -rf staRank.buildbin-libdir && mkdir staRank.buildbin-libdir && F:\biocbuild\bbs-3.17-bioc\R\bin\R.exe CMD INSTALL --build --library=staRank.buildbin-libdir staRank_1.41.0.tar.gz ### ############################################################################## ############################################################################## * installing *source* package 'staRank' ... ** using staged installation ** R ** data ** inst ** byte-compile and prepare package for lazy loading ** help *** installing help indices ** building package indices ** installing vignettes ** testing if installed package can be loaded from temporary location ** testing if installed package can be loaded from final location ** testing if installed package keeps a record of temporary installation path * MD5 sums packaged installation of 'staRank' as staRank_1.41.0.zip * DONE (staRank)