| Back to Mac ARM64 build report for BioC 3.16 |
|
This page was generated on 2023-04-19 11:01:48 -0400 (Wed, 19 Apr 2023).
| Hostname | OS | Arch (*) | R version | Installed pkgs |
|---|---|---|---|---|
| kjohnson | macOS 13.0 Ventura | arm64 | 4.2.2 (2022-10-31) -- "Innocent and Trusting" | 4256 |
| Click on any hostname to see more info about the system (e.g. compilers) (*) as reported by 'uname -p', except on Windows and Mac OS X | ||||
|
To the developers/maintainers of the edgeR package: Make sure to use the following settings in order to reproduce any error or warning you see on this page. |
| Package 595/2183 | Hostname | OS / Arch | INSTALL | BUILD | BUILD BIN | ||||||||
| edgeR 3.40.2 (landing page) Yunshun Chen
| kjohnson | macOS 13.0 Ventura / arm64 | OK | OK | OK | ||||||||
| QUICK STATS | OS / Arch | INSTALL | BUILD | BUILD BIN | |||||||||||||
| kjohnson | macOS 13.0 Ventura / arm64 |
|
|
| |||||||||||||
| Package 1/113 | Hostname | OS / Arch | INSTALL | BUILD | BUILD BIN | ||||||||||||
| affycoretools 1.70.0 (landing page) James W. MacDonald
| kjohnson | macOS 13.0 Ventura / arm64 | OK | OK | OK | ||||||||||||
| Package 2/113 | Hostname | OS / Arch | INSTALL | BUILD | BUILD BIN | ||||||||||||
| anota2seq 1.20.0 (landing page) Christian Oertlin
| kjohnson | macOS 13.0 Ventura / arm64 | OK | OK | OK | ||||||||||||
| Package 3/113 | Hostname | OS / Arch | INSTALL | BUILD | BUILD BIN | ||||||||||||
| ArrayExpressHTS 1.48.0 (landing page) Angela Goncalves
| kjohnson | macOS 13.0 Ventura / arm64 | ERROR | ERROR | skipped | ||||||||||||
| Package 4/113 | Hostname | OS / Arch | INSTALL | BUILD | BUILD BIN | ||||||||||||
| ASpli 2.8.0 (landing page) Estefania Mancini
| kjohnson | macOS 13.0 Ventura / arm64 | OK | OK | OK | ||||||||||||
| Package 5/113 | Hostname | OS / Arch | INSTALL | BUILD | BUILD BIN | ||||||||||||
| ATACseqQC 1.22.0 (landing page) Jianhong Ou
| kjohnson | macOS 13.0 Ventura / arm64 | OK | OK | OK | ||||||||||||
| Package 6/113 | Hostname | OS / Arch | INSTALL | BUILD | BUILD BIN | ||||||||||||
| autonomics 1.6.0 (landing page) Aditya Bhagwat
| kjohnson | macOS 13.0 Ventura / arm64 | OK | OK | OK | ||||||||||||
| Package 7/113 | Hostname | OS / Arch | INSTALL | BUILD | BUILD BIN | ||||||||||||
| AWFisher 1.12.0 (landing page) Zhiguang Huo
| kjohnson | macOS 13.0 Ventura / arm64 | OK | OK | OK | ||||||||||||
| Package 8/113 | Hostname | OS / Arch | INSTALL | BUILD | BUILD BIN | ||||||||||||
| baySeq 2.32.0 (landing page) Thomas J. Hardcastle
| kjohnson | macOS 13.0 Ventura / arm64 | OK | OK | OK | ||||||||||||
| Package 9/113 | Hostname | OS / Arch | INSTALL | BUILD | BUILD BIN | ||||||||||||
| beer 1.2.0 (landing page) Athena Chen
| kjohnson | macOS 13.0 Ventura / arm64 | OK | OK | OK | ||||||||||||
| Package 10/113 | Hostname | OS / Arch | INSTALL | BUILD | BUILD BIN | ||||||||||||
| benchdamic 1.4.0 (landing page) Matteo Calgaro
| kjohnson | macOS 13.0 Ventura / arm64 | OK | OK | OK | ||||||||||||
| Package 11/113 | Hostname | OS / Arch | INSTALL | BUILD | BUILD BIN | ||||||||||||
| BioQC 1.26.0 (landing page) Jitao David Zhang
| kjohnson | macOS 13.0 Ventura / arm64 | OK | OK | OK | ||||||||||||
| Package 12/113 | Hostname | OS / Arch | INSTALL | BUILD | BUILD BIN | ||||||||||||
| censcyt 1.6.1 (landing page) Reto Gerber
| kjohnson | macOS 13.0 Ventura / arm64 | OK | OK | OK | ||||||||||||
| Package 13/113 | Hostname | OS / Arch | INSTALL | BUILD | BUILD BIN | ||||||||||||
| ChromSCape 1.8.0 (landing page) Pacome Prompsy
| kjohnson | macOS 13.0 Ventura / arm64 | OK | OK | OK | ||||||||||||
| Package 14/113 | Hostname | OS / Arch | INSTALL | BUILD | BUILD BIN | ||||||||||||
| circRNAprofiler 1.12.2 (landing page) Simona Aufiero
| kjohnson | macOS 13.0 Ventura / arm64 | OK | OK | OK | ||||||||||||
| Package 15/113 | Hostname | OS / Arch | INSTALL | BUILD | BUILD BIN | ||||||||||||
| clusterExperiment 2.18.2 (landing page) Elizabeth Purdom
| kjohnson | macOS 13.0 Ventura / arm64 | OK | OK | OK | ||||||||||||
| Package 16/113 | Hostname | OS / Arch | INSTALL | BUILD | BUILD BIN | ||||||||||||
| CNVRanger 1.14.0 (landing page) Ludwig Geistlinger
| kjohnson | macOS 13.0 Ventura / arm64 | OK | OK | OK | ||||||||||||
| Package 17/113 | Hostname | OS / Arch | INSTALL | BUILD | BUILD BIN | ||||||||||||
| compcodeR 1.34.0 (landing page) Charlotte Soneson
| kjohnson | macOS 13.0 Ventura / arm64 | OK | OK | OK | ||||||||||||
| Package 18/113 | Hostname | OS / Arch | INSTALL | BUILD | BUILD BIN | ||||||||||||
| consensusDE 1.16.0 (landing page) Ashley J. Waardenberg
| kjohnson | macOS 13.0 Ventura / arm64 | OK | OK | OK | ||||||||||||
| Package 19/113 | Hostname | OS / Arch | INSTALL | BUILD | BUILD BIN | ||||||||||||
| coseq 1.22.0 (landing page) Andrea Rau
| kjohnson | macOS 13.0 Ventura / arm64 | OK | OK | OK | ||||||||||||
| Package 20/113 | Hostname | OS / Arch | INSTALL | BUILD | BUILD BIN | ||||||||||||
| countsimQC 1.16.1 (landing page) Charlotte Soneson
| kjohnson | macOS 13.0 Ventura / arm64 | OK | OK | OK | ||||||||||||
| Package 21/113 | Hostname | OS / Arch | INSTALL | BUILD | BUILD BIN | ||||||||||||
| crossmeta 1.24.0 (landing page) Alex Pickering
| kjohnson | macOS 13.0 Ventura / arm64 | OK | OK | OK | ||||||||||||
| Package 22/113 | Hostname | OS / Arch | INSTALL | BUILD | BUILD BIN | ||||||||||||
| csaw 1.32.0 (landing page) Aaron Lun
| kjohnson | macOS 13.0 Ventura / arm64 | OK | OK | OK | ||||||||||||
| Package 23/113 | Hostname | OS / Arch | INSTALL | BUILD | BUILD BIN | ||||||||||||
| DaMiRseq 2.10.0 (landing page) Mattia Chiesa
| kjohnson | macOS 13.0 Ventura / arm64 | OK | OK | OK | ||||||||||||
| Package 24/113 | Hostname | OS / Arch | INSTALL | BUILD | BUILD BIN | ||||||||||||
| dce 1.6.0 (landing page) Kim Philipp Jablonski
| kjohnson | macOS 13.0 Ventura / arm64 | OK | OK | OK | ||||||||||||
| Package 25/113 | Hostname | OS / Arch | INSTALL | BUILD | BUILD BIN | ||||||||||||
| debrowser 1.26.3 (landing page) Alper Kucukural
| kjohnson | macOS 13.0 Ventura / arm64 | OK | OK | OK | ||||||||||||
| Package 26/113 | Hostname | OS / Arch | INSTALL | BUILD | BUILD BIN | ||||||||||||
Guofeng Meng
| kjohnson | macOS 13.0 Ventura / arm64 | OK | ERROR | skipped | ||||||||||||
| Package 27/113 | Hostname | OS / Arch | INSTALL | BUILD | BUILD BIN | ||||||||||||
| DEFormats 1.26.0 (landing page) Andrzej Oleś
| kjohnson | macOS 13.0 Ventura / arm64 | OK | OK | OK | ||||||||||||
| Package 28/113 | Hostname | OS / Arch | INSTALL | BUILD | BUILD BIN | ||||||||||||
| DEGreport 1.34.0 (landing page) Lorena Pantano
| kjohnson | macOS 13.0 Ventura / arm64 | OK | OK | OK | ||||||||||||
| Package 29/113 | Hostname | OS / Arch | INSTALL | BUILD | BUILD BIN | ||||||||||||
| DEsubs 1.24.0 (landing page) Aristidis G. Vrahatis
| kjohnson | macOS 13.0 Ventura / arm64 | OK | OK | OK | ||||||||||||
| Package 30/113 | Hostname | OS / Arch | INSTALL | BUILD | BUILD BIN | ||||||||||||
| diffcyt 1.18.0 (landing page) Lukas M. Weber
| kjohnson | macOS 13.0 Ventura / arm64 | OK | OK | OK | ||||||||||||
| Package 31/113 | Hostname | OS / Arch | INSTALL | BUILD | BUILD BIN | ||||||||||||
| diffHic 1.30.0 (landing page) Aaron Lun
| kjohnson | macOS 13.0 Ventura / arm64 | OK | OK | OK | ||||||||||||
| Package 32/113 | Hostname | OS / Arch | INSTALL | BUILD | BUILD BIN | ||||||||||||
| diffUTR 1.6.0 (landing page) Pierre-Luc Germain
| kjohnson | macOS 13.0 Ventura / arm64 | OK | OK | OK | ||||||||||||
| Package 33/113 | Hostname | OS / Arch | INSTALL | BUILD | BUILD BIN | ||||||||||||
| DMRcate 2.12.0 (landing page) Tim Peters
| kjohnson | macOS 13.0 Ventura / arm64 | OK | OK | OK | ||||||||||||
| Package 34/113 | Hostname | OS / Arch | INSTALL | BUILD | BUILD BIN | ||||||||||||
| doseR 1.14.0 (landing page) ake.vastermark
| kjohnson | macOS 13.0 Ventura / arm64 | OK | OK | OK | ||||||||||||
| Package 35/113 | Hostname | OS / Arch | INSTALL | BUILD | BUILD BIN | ||||||||||||
| DRIMSeq 1.26.0 (landing page) Malgorzata Nowicka
| kjohnson | macOS 13.0 Ventura / arm64 | OK | OK | OK | ||||||||||||
| Package 36/113 | Hostname | OS / Arch | INSTALL | BUILD | BUILD BIN | ||||||||||||
| DropletUtils 1.18.1 (landing page) Jonathan Griffiths
| kjohnson | macOS 13.0 Ventura / arm64 | OK | OK | OK | ||||||||||||
| Package 37/113 | Hostname | OS / Arch | INSTALL | BUILD | BUILD BIN | ||||||||||||
| easyRNASeq 2.34.0 (landing page) Nicolas Delhomme
| kjohnson | macOS 13.0 Ventura / arm64 | OK | OK | OK | ||||||||||||
| Package 38/113 | Hostname | OS / Arch | INSTALL | BUILD | BUILD BIN | ||||||||||||
| eegc 1.24.0 (landing page) Xiaoyuan Zhou
| kjohnson | macOS 13.0 Ventura / arm64 | OK | OK | OK | ||||||||||||
| Package 39/113 | Hostname | OS / Arch | INSTALL | BUILD | BUILD BIN | ||||||||||||
| EGSEA 1.26.0 (landing page) Monther Alhamdoosh
| kjohnson | macOS 13.0 Ventura / arm64 | OK | OK | OK | ||||||||||||
| Package 40/113 | Hostname | OS / Arch | INSTALL | BUILD | BUILD BIN | ||||||||||||
| eisaR 1.10.0 (landing page) Michael Stadler
| kjohnson | macOS 13.0 Ventura / arm64 | OK | OK | OK | ||||||||||||
| Package 41/113 | Hostname | OS / Arch | INSTALL | BUILD | BUILD BIN | ||||||||||||
| EnrichmentBrowser 2.28.2 (landing page) Ludwig Geistlinger
| kjohnson | macOS 13.0 Ventura / arm64 | OK | OK | OK | ||||||||||||
| Package 42/113 | Hostname | OS / Arch | INSTALL | BUILD | BUILD BIN | ||||||||||||
| erccdashboard 1.32.0 (landing page) Sarah Munro
| kjohnson | macOS 13.0 Ventura / arm64 | OK | OK | OK | ||||||||||||
| Package 43/113 | Hostname | OS / Arch | INSTALL | BUILD | BUILD BIN | ||||||||||||
| ERSSA 1.16.0 (landing page) Zixuan Shao
| kjohnson | macOS 13.0 Ventura / arm64 | OK | OK | OK | ||||||||||||
| Package 44/113 | Hostname | OS / Arch | INSTALL | BUILD | BUILD BIN | ||||||||||||
| extraChIPs 1.2.4 (landing page) Stephen Pederson
| kjohnson | macOS 13.0 Ventura / arm64 | OK | OK | OK | ||||||||||||
| Package 45/113 | Hostname | OS / Arch | INSTALL | BUILD | BUILD BIN | ||||||||||||
| GDCRNATools 1.18.0 (landing page) Ruidong Li
| kjohnson | macOS 13.0 Ventura / arm64 | OK | OK | OK | ||||||||||||
| Package 46/113 | Hostname | OS / Arch | INSTALL | BUILD | BUILD BIN | ||||||||||||
| Glimma 2.8.0 (landing page) Shian Su
| kjohnson | macOS 13.0 Ventura / arm64 | OK | OK | OK | ||||||||||||
| Package 47/113 | Hostname | OS / Arch | INSTALL | BUILD | BUILD BIN | ||||||||||||
| GSEABenchmarkeR 1.18.0 (landing page) Ludwig Geistlinger
| kjohnson | macOS 13.0 Ventura / arm64 | OK | OK | OK | ||||||||||||
| Package 48/113 | Hostname | OS / Arch | INSTALL | BUILD | BUILD BIN | ||||||||||||
| hermes 1.2.0 (landing page) Daniel Sabanés Bové
| kjohnson | macOS 13.0 Ventura / arm64 | OK | OK | OK | ||||||||||||
| Package 49/113 | Hostname | OS / Arch | INSTALL | BUILD | BUILD BIN | ||||||||||||
| HTSFilter 1.38.0 (landing page) Andrea Rau
| kjohnson | macOS 13.0 Ventura / arm64 | OK | OK | OK | ||||||||||||
| Package 50/113 | Hostname | OS / Arch | INSTALL | BUILD | BUILD BIN | ||||||||||||
| icetea 1.16.0 (landing page) Vivek Bhardwaj
| kjohnson | macOS 13.0 Ventura / arm64 | OK | OK | OK | ||||||||||||
| Package 51/113 | Hostname | OS / Arch | INSTALL | BUILD | BUILD BIN | ||||||||||||
| infercnv 1.14.2 (landing page) Christophe Georgescu
| kjohnson | macOS 13.0 Ventura / arm64 | OK | OK | OK | ||||||||||||
| Package 52/113 | Hostname | OS / Arch | INSTALL | BUILD | BUILD BIN | ||||||||||||
| IntEREst 1.22.2 (landing page) Ali Oghabian
| kjohnson | macOS 13.0 Ventura / arm64 | OK | OK | OK | ||||||||||||
| Package 53/113 | Hostname | OS / Arch | INSTALL | BUILD | BUILD BIN | ||||||||||||
| IsoformSwitchAnalyzeR 1.20.0 (landing page) Kristoffer Vitting-Seerup
| kjohnson | macOS 13.0 Ventura / arm64 | OK | OK | OK | ||||||||||||
| Package 54/113 | Hostname | OS / Arch | INSTALL | BUILD | BUILD BIN | ||||||||||||
| KnowSeq 1.12.0 (landing page) Daniel Castillo-Secilla
| kjohnson | macOS 13.0 Ventura / arm64 | OK | OK | OK | ||||||||||||
| Package 55/113 | Hostname | OS / Arch | INSTALL | BUILD | BUILD BIN | ||||||||||||
| Maaslin2 1.12.0 (landing page) Lauren McIver
| kjohnson | macOS 13.0 Ventura / arm64 | OK | OK | OK | ||||||||||||
| Package 56/113 | Hostname | OS / Arch | INSTALL | BUILD | BUILD BIN | ||||||||||||
| MEDIPS 1.50.0 (landing page) Lukas Chavez
| kjohnson | macOS 13.0 Ventura / arm64 | OK | OK | OK | ||||||||||||
| Package 57/113 | Hostname | OS / Arch | INSTALL | BUILD | BUILD BIN | ||||||||||||
| metaseqR2 1.10.0 (landing page) Panagiotis Moulos
| kjohnson | macOS 13.0 Ventura / arm64 | OK | OK | OK | ||||||||||||
| Package 58/113 | Hostname | OS / Arch | INSTALL | BUILD | BUILD BIN | ||||||||||||
| methylMnM 1.36.0 (landing page) Yan Zhou
| kjohnson | macOS 13.0 Ventura / arm64 | OK | OK | OK | ||||||||||||
| Package 59/113 | Hostname | OS / Arch | INSTALL | BUILD | BUILD BIN | ||||||||||||
| microbiomeMarker 1.4.0 (landing page) Yang Cao
| kjohnson | macOS 13.0 Ventura / arm64 | OK | OK | OK | ||||||||||||
| Package 60/113 | Hostname | OS / Arch | INSTALL | BUILD | BUILD BIN | ||||||||||||
| MIGSA 1.22.0 (landing page) Juan C. Rodriguez
| kjohnson | macOS 13.0 Ventura / arm64 | OK | ERROR | skipped | ||||||||||||
| Package 61/113 | Hostname | OS / Arch | INSTALL | BUILD | BUILD BIN | ||||||||||||
| miloR 1.6.0 (landing page) Mike Morgan
| kjohnson | macOS 13.0 Ventura / arm64 | OK | OK | OK | ||||||||||||
| Package 62/113 | Hostname | OS / Arch | INSTALL | BUILD | BUILD BIN | ||||||||||||
| MLSeq 2.16.0 (landing page) Gokmen Zararsiz
| kjohnson | macOS 13.0 Ventura / arm64 | OK | OK | OK | ||||||||||||
| Package 63/113 | Hostname | OS / Arch | INSTALL | BUILD | BUILD BIN | ||||||||||||
| moanin 1.6.0 (landing page) Nelle Varoquaux
| kjohnson | macOS 13.0 Ventura / arm64 | OK | OK | OK | ||||||||||||
| Package 64/113 | Hostname | OS / Arch | INSTALL | BUILD | BUILD BIN | ||||||||||||
| Motif2Site 1.2.0 (landing page) Peyman Zarrineh
| kjohnson | macOS 13.0 Ventura / arm64 | OK | OK | OK | ||||||||||||
| Package 65/113 | Hostname | OS / Arch | INSTALL | BUILD | BUILD BIN | ||||||||||||
| msgbsR 1.22.0 (landing page) Benjamin Mayne
| kjohnson | macOS 13.0 Ventura / arm64 | OK | OK | OK | ||||||||||||
| Package 66/113 | Hostname | OS / Arch | INSTALL | BUILD | BUILD BIN | ||||||||||||
| msmsTests 1.36.0 (landing page) Josep Gregori i Font
| kjohnson | macOS 13.0 Ventura / arm64 | OK | OK | OK | ||||||||||||
| Package 67/113 | Hostname | OS / Arch | INSTALL | BUILD | BUILD BIN | ||||||||||||
| multiHiCcompare 1.16.0 (landing page) John Stansfield
| kjohnson | macOS 13.0 Ventura / arm64 | OK | OK | OK | ||||||||||||
| Package 68/113 | Hostname | OS / Arch | INSTALL | BUILD | BUILD BIN | ||||||||||||
| muscat 1.12.1 (landing page) Helena L. Crowell
| kjohnson | macOS 13.0 Ventura / arm64 | OK | ERROR | skipped | ||||||||||||
| Package 69/113 | Hostname | OS / Arch | INSTALL | BUILD | BUILD BIN | ||||||||||||
| NBSplice 1.16.0 (landing page) Gabriela Merino
| kjohnson | macOS 13.0 Ventura / arm64 | ERROR | ERROR | skipped | ||||||||||||
| Package 70/113 | Hostname | OS / Arch | INSTALL | BUILD | BUILD BIN | ||||||||||||
| octad 1.0.0 (landing page) E. Chekalin
| kjohnson | macOS 13.0 Ventura / arm64 | OK | OK | OK | ||||||||||||
| Package 71/113 | Hostname | OS / Arch | INSTALL | BUILD | BUILD BIN | ||||||||||||
| PathoStat 1.24.0 (landing page) Solaiappan Manimaran
| kjohnson | macOS 13.0 Ventura / arm64 | OK | OK | OK | ||||||||||||
| Package 72/113 | Hostname | OS / Arch | INSTALL | BUILD | BUILD BIN | ||||||||||||
| PhIPData 1.6.0 (landing page) Athena Chen
| kjohnson | macOS 13.0 Ventura / arm64 | OK | OK | OK | ||||||||||||
| Package 73/113 | Hostname | OS / Arch | INSTALL | BUILD | BUILD BIN | ||||||||||||
| ppcseq 1.6.0 (landing page) Stefano Mangiola
| kjohnson | macOS 13.0 Ventura / arm64 | OK | OK | OK | ||||||||||||
| Package 74/113 | Hostname | OS / Arch | INSTALL | BUILD | BUILD BIN | ||||||||||||
| PROPER 1.30.0 (landing page) Hao Wu
| kjohnson | macOS 13.0 Ventura / arm64 | OK | OK | OK | ||||||||||||
| Package 75/113 | Hostname | OS / Arch | INSTALL | BUILD | BUILD BIN | ||||||||||||
| psichomics 1.24.0 (landing page) Nuno Saraiva-Agostinho
| kjohnson | macOS 13.0 Ventura / arm64 | OK | OK | OK | ||||||||||||
| Package 76/113 | Hostname | OS / Arch | INSTALL | BUILD | BUILD BIN | ||||||||||||
| RCM 1.14.0 (landing page) Stijn Hawinkel
| kjohnson | macOS 13.0 Ventura / arm64 | OK | OK | OK | ||||||||||||
| Package 77/113 | Hostname | OS / Arch | INSTALL | BUILD | BUILD BIN | ||||||||||||
| regsplice 1.24.0 (landing page) Lukas M. Weber
| kjohnson | macOS 13.0 Ventura / arm64 | OK | OK | OK | ||||||||||||
| Package 78/113 | Hostname | OS / Arch | INSTALL | BUILD | BUILD BIN | ||||||||||||
| Repitools 1.44.0 (landing page) Mark Robinson
| kjohnson | macOS 13.0 Ventura / arm64 | OK | OK | OK | ||||||||||||
| Package 79/113 | Hostname | OS / Arch | INSTALL | BUILD | BUILD BIN | ||||||||||||
| ReportingTools 2.38.0 (landing page) Jason A. Hackney
| kjohnson | macOS 13.0 Ventura / arm64 | OK | OK | OK | ||||||||||||
| Package 80/113 | Hostname | OS / Arch | INSTALL | BUILD | BUILD BIN | ||||||||||||
Kuan-Hao Chao
| kjohnson | macOS 13.0 Ventura / arm64 | OK | OK | OK | ||||||||||||
| Package 81/113 | Hostname | OS / Arch | INSTALL | BUILD | BUILD BIN | ||||||||||||
| RnaSeqSampleSize 2.8.0 (landing page) Shilin Zhao Developer
| kjohnson | macOS 13.0 Ventura / arm64 | OK | OK | OK | ||||||||||||
| Package 82/113 | Hostname | OS / Arch | INSTALL | BUILD | BUILD BIN | ||||||||||||
| ROSeq 1.10.0 (landing page) Krishan Gupta
| kjohnson | macOS 13.0 Ventura / arm64 | OK | OK | OK | ||||||||||||
| Package 83/113 | Hostname | OS / Arch | INSTALL | BUILD | BUILD BIN | ||||||||||||
| RUVSeq 1.32.0 (landing page) Davide Risso
| kjohnson | macOS 13.0 Ventura / arm64 | OK | OK | OK | ||||||||||||
| Package 84/113 | Hostname | OS / Arch | INSTALL | BUILD | BUILD BIN | ||||||||||||
| scCB2 1.8.0 (landing page) Zijian Ni
| kjohnson | macOS 13.0 Ventura / arm64 | OK | OK | OK | ||||||||||||
| Package 85/113 | Hostname | OS / Arch | INSTALL | BUILD | BUILD BIN | ||||||||||||
| scde 2.26.2 (landing page) Jean Fan
| kjohnson | macOS 13.0 Ventura / arm64 | OK | OK | OK | ||||||||||||
| Package 86/113 | Hostname | OS / Arch | INSTALL | BUILD | BUILD BIN | ||||||||||||
| scone 1.22.0 (landing page) Davide Risso
| kjohnson | macOS 13.0 Ventura / arm64 | OK | OK | OK | ||||||||||||
| Package 87/113 | Hostname | OS / Arch | INSTALL | BUILD | BUILD BIN | ||||||||||||
| scran 1.26.2 (landing page) Aaron Lun
| kjohnson | macOS 13.0 Ventura / arm64 | OK | OK | OK | ||||||||||||
| Package 88/113 | Hostname | OS / Arch | INSTALL | BUILD | BUILD BIN | ||||||||||||
| ScreenR 1.0.0 (landing page) Emanuel Michele Soda
| kjohnson | macOS 13.0 Ventura / arm64 | OK | OK | OK | ||||||||||||
| Package 89/113 | Hostname | OS / Arch | INSTALL | BUILD | BUILD BIN | ||||||||||||
| SEtools 1.12.0 (landing page) Pierre-Luc Germain
| kjohnson | macOS 13.0 Ventura / arm64 | OK | OK | OK | ||||||||||||
| Package 90/113 | Hostname | OS / Arch | INSTALL | BUILD | BUILD BIN | ||||||||||||
| SIMD 1.16.0 (landing page) Jiadi Zhu
| kjohnson | macOS 13.0 Ventura / arm64 | OK | OK | OK | ||||||||||||
| Package 91/113 | Hostname | OS / Arch | INSTALL | BUILD | BUILD BIN | ||||||||||||
| SingleCellSignalR 1.10.0 (landing page) Jacques Colinge
| kjohnson | macOS 13.0 Ventura / arm64 | OK | OK | OK | ||||||||||||
| Package 92/113 | Hostname | OS / Arch | INSTALL | BUILD | BUILD BIN | ||||||||||||
| singscore 1.18.0 (landing page) Dharmesh D. Bhuva
| kjohnson | macOS 13.0 Ventura / arm64 | OK | OK | OK | ||||||||||||
| Package 93/113 | Hostname | OS / Arch | INSTALL | BUILD | BUILD BIN | ||||||||||||
| sparrow 1.4.0 (landing page) Steve Lianoglou
| kjohnson | macOS 13.0 Ventura / arm64 | OK | OK | OK | ||||||||||||
| Package 94/113 | Hostname | OS / Arch | INSTALL | BUILD | BUILD BIN | ||||||||||||
| spatialHeatmap 2.4.0 (landing page) Jianhai Zhang
| kjohnson | macOS 13.0 Ventura / arm64 | OK | OK | OK | ||||||||||||
| Package 95/113 | Hostname | OS / Arch | INSTALL | BUILD | BUILD BIN | ||||||||||||
| splatter 1.22.1 (landing page) Luke Zappia
| kjohnson | macOS 13.0 Ventura / arm64 | OK | OK | OK | ||||||||||||
| Package 96/113 | Hostname | OS / Arch | INSTALL | BUILD | BUILD BIN | ||||||||||||
| SPsimSeq 1.8.0 (landing page) Joris Meys
| kjohnson | macOS 13.0 Ventura / arm64 | OK | OK | OK | ||||||||||||
| Package 97/113 | Hostname | OS / Arch | INSTALL | BUILD | BUILD BIN | ||||||||||||
| srnadiff 1.18.2 (landing page) Zytnicki Matthias
| kjohnson | macOS 13.0 Ventura / arm64 | OK | OK | OK | ||||||||||||
| Package 98/113 | Hostname | OS / Arch | INSTALL | BUILD | BUILD BIN | ||||||||||||
| sSNAPPY 1.2.5 (landing page) Wenjun Liu
| kjohnson | macOS 13.0 Ventura / arm64 | OK | OK | OK | ||||||||||||
| Package 99/113 | Hostname | OS / Arch | INSTALL | BUILD | BUILD BIN | ||||||||||||
| standR 1.2.2 (landing page) Ning Liu
| kjohnson | macOS 13.0 Ventura / arm64 | OK | OK | OK | ||||||||||||
| Package 100/113 | Hostname | OS / Arch | INSTALL | BUILD | BUILD BIN | ||||||||||||
| STATegRa 1.34.0 (landing page) David Gomez-Cabrero
| kjohnson | macOS 13.0 Ventura / arm64 | OK | OK | OK | ||||||||||||
| Package 101/113 | Hostname | OS / Arch | INSTALL | BUILD | BUILD BIN | ||||||||||||
| sva 3.46.0 (landing page) Jeffrey T. Leek
| kjohnson | macOS 13.0 Ventura / arm64 | OK | OK | OK | ||||||||||||
| Package 102/113 | Hostname | OS / Arch | INSTALL | BUILD | BUILD BIN | ||||||||||||
| TBSignatureProfiler 1.10.0 (landing page) Aubrey R. Odom-Mabey
| kjohnson | macOS 13.0 Ventura / arm64 | OK | OK | OK | ||||||||||||
| Package 103/113 | Hostname | OS / Arch | INSTALL | BUILD | BUILD BIN | ||||||||||||
| TCC 1.38.0 (landing page) Jianqiang Sun
| kjohnson | macOS 13.0 Ventura / arm64 | OK | OK | OK | ||||||||||||
| Package 104/113 | Hostname | OS / Arch | INSTALL | BUILD | BUILD BIN | ||||||||||||
| TCseq 1.22.6 (landing page) Mengjun Wu
| kjohnson | macOS 13.0 Ventura / arm64 | OK | OK | OK | ||||||||||||
| Package 105/113 | Hostname | OS / Arch | INSTALL | BUILD | BUILD BIN | ||||||||||||
Lan Huong Nguyen
| kjohnson | macOS 13.0 Ventura / arm64 | OK | ERROR | skipped | ||||||||||||
| Package 106/113 | Hostname | OS / Arch | INSTALL | BUILD | BUILD BIN | ||||||||||||
| tradeSeq 1.12.0 (landing page) Hector Roux de Bezieux
| kjohnson | macOS 13.0 Ventura / arm64 | OK | OK | OK | ||||||||||||
| Package 107/113 | Hostname | OS / Arch | INSTALL | BUILD | BUILD BIN | ||||||||||||
| tRanslatome 1.36.0 (landing page) Toma Tebaldi
| kjohnson | macOS 13.0 Ventura / arm64 | OK | OK | OK | ||||||||||||
| Package 108/113 | Hostname | OS / Arch | INSTALL | BUILD | BUILD BIN | ||||||||||||
| treekoR 1.6.1 (landing page) Adam Chan
| kjohnson | macOS 13.0 Ventura / arm64 | OK | OK | OK | ||||||||||||
| Package 109/113 | Hostname | OS / Arch | INSTALL | BUILD | BUILD BIN | ||||||||||||
| tweeDEseq 1.44.0 (landing page) Juan R Gonzalez
| kjohnson | macOS 13.0 Ventura / arm64 | OK | OK | OK | ||||||||||||
| Package 110/113 | Hostname | OS / Arch | INSTALL | BUILD | BUILD BIN | ||||||||||||
| vidger 1.18.0 (landing page) Brandon Monier
| kjohnson | macOS 13.0 Ventura / arm64 | OK | OK | OK | ||||||||||||
| Package 111/113 | Hostname | OS / Arch | INSTALL | BUILD | BUILD BIN | ||||||||||||
| xcore 1.2.0 (landing page) Maciej Migdał
| kjohnson | macOS 13.0 Ventura / arm64 | OK | ERROR | skipped | ||||||||||||
| Package 112/113 | Hostname | OS / Arch | INSTALL | BUILD | BUILD BIN | ||||||||||||
| yarn 1.24.0 (landing page) Joseph N Paulson
| kjohnson | macOS 13.0 Ventura / arm64 | OK | OK | OK | ||||||||||||
| Package 113/113 | Hostname | OS / Arch | INSTALL | BUILD | BUILD BIN | ||||||||||||
| zinbwave 1.20.0 (landing page) Davide Risso
| kjohnson | macOS 13.0 Ventura / arm64 | OK | OK | OK | ||||||||||||