| Back to Multiple platform build/check report for BioC 3.15 |
|
This page was generated on 2022-10-19 13:21:03 -0400 (Wed, 19 Oct 2022).
| Hostname | OS | Arch (*) | R version | Installed pkgs |
|---|---|---|---|---|
| nebbiolo1 | Linux (Ubuntu 20.04.5 LTS) | x86_64 | 4.2.1 (2022-06-23) -- "Funny-Looking Kid" | 4386 |
| palomino3 | Windows Server 2022 Datacenter | x64 | 4.2.1 (2022-06-23 ucrt) -- "Funny-Looking Kid" | 4138 |
| merida1 | macOS 10.14.6 Mojave | x86_64 | 4.2.1 (2022-06-23) -- "Funny-Looking Kid" | 4205 |
| Click on any hostname to see more info about the system (e.g. compilers) (*) as reported by 'uname -p', except on Windows and Mac OS X | ||||
|
To the developers/maintainers of the wppi package: - Please allow up to 24 hours (and sometimes 48 hours) for your latest push to git@git.bioconductor.org:packages/wppi.git to reflect on this report. See How and When does the builder pull? When will my changes propagate? for more information. - Make sure to use the following settings in order to reproduce any error or warning you see on this page. |
| Package 2123/2140 | Hostname | OS / Arch | INSTALL | BUILD | CHECK | BUILD BIN | ||||||||
| wppi 1.4.0 (landing page) Ana Galhoz
| nebbiolo1 | Linux (Ubuntu 20.04.5 LTS) / x86_64 | OK | OK | OK | |||||||||
| palomino3 | Windows Server 2022 Datacenter / x64 | OK | OK | OK | OK | |||||||||
| merida1 | macOS 10.14.6 Mojave / x86_64 | OK | OK | OK | OK | |||||||||
| Package: wppi |
| Version: 1.4.0 |
| Command: /home/biocbuild/bbs-3.15-bioc/R/bin/R CMD check --install=check:wppi.install-out.txt --library=/home/biocbuild/bbs-3.15-bioc/R/library --no-vignettes --timings wppi_1.4.0.tar.gz |
| StartedAt: 2022-10-18 22:22:35 -0400 (Tue, 18 Oct 2022) |
| EndedAt: 2022-10-18 22:25:51 -0400 (Tue, 18 Oct 2022) |
| EllapsedTime: 195.2 seconds |
| RetCode: 0 |
| Status: OK |
| CheckDir: wppi.Rcheck |
| Warnings: 0 |
##############################################################################
##############################################################################
###
### Running command:
###
### /home/biocbuild/bbs-3.15-bioc/R/bin/R CMD check --install=check:wppi.install-out.txt --library=/home/biocbuild/bbs-3.15-bioc/R/library --no-vignettes --timings wppi_1.4.0.tar.gz
###
##############################################################################
##############################################################################
* using log directory ‘/home/biocbuild/bbs-3.15-bioc/meat/wppi.Rcheck’
* using R version 4.2.1 (2022-06-23)
* using platform: x86_64-pc-linux-gnu (64-bit)
* using session charset: UTF-8
* using option ‘--no-vignettes’
* checking for file ‘wppi/DESCRIPTION’ ... OK
* checking extension type ... Package
* this is package ‘wppi’ version ‘1.4.0’
* package encoding: UTF-8
* checking package namespace information ... OK
* checking package dependencies ... OK
* checking if this is a source package ... OK
* checking if there is a namespace ... OK
* checking for hidden files and directories ... OK
* checking for portable file names ... OK
* checking for sufficient/correct file permissions ... OK
* checking whether package ‘wppi’ can be installed ... OK
* checking installed package size ... OK
* checking package directory ... OK
* checking ‘build’ directory ... OK
* checking DESCRIPTION meta-information ... OK
* checking top-level files ... OK
* checking for left-over files ... OK
* checking index information ... OK
* checking package subdirectories ... OK
* checking R files for non-ASCII characters ... OK
* checking R files for syntax errors ... OK
* checking whether the package can be loaded ... OK
* checking whether the package can be loaded with stated dependencies ... OK
* checking whether the package can be unloaded cleanly ... OK
* checking whether the namespace can be loaded with stated dependencies ... OK
* checking whether the namespace can be unloaded cleanly ... OK
* checking dependencies in R code ... OK
* checking S3 generic/method consistency ... OK
* checking replacement functions ... OK
* checking foreign function calls ... OK
* checking R code for possible problems ... NOTE
[2022-10-18 22:23:14] [INFO] [OmnipathR] Initialized cache: `/home/biocbuild/.cache/OmnipathR`.
[2022-10-18 22:23:14] [TRACE] [OmnipathR] Running on a build server, wiping cache.
[2022-10-18 22:23:14] [SUCCESS] [OmnipathR] Removing all cache contents from `/home/biocbuild/.cache/OmnipathR`.
[2022-10-18 22:23:14] [TRACE] [OmnipathR] Pandoc version: `2.5`.
[2022-10-18 22:23:14] [TRACE] [OmnipathR] Cache locked: FALSE
* checking Rd files ... OK
* checking Rd metadata ... OK
* checking Rd cross-references ... OK
* checking for missing documentation entries ... OK
* checking for code/documentation mismatches ... OK
* checking Rd \usage sections ... OK
* checking Rd contents ... OK
* checking for unstated dependencies in examples ... OK
* checking files in ‘vignettes’ ... OK
* checking examples ... OK
Examples with CPU (user + system) or elapsed time > 5s
user system elapsed
wppi 24.202 0.147 24.348
count_genes 15.537 1.567 16.836
prioritization_genes 14.914 0.383 15.297
score_candidate_genes_from_PPI 14.533 0.170 14.704
random_walk 13.687 0.225 13.913
weighted_adj 8.978 0.147 9.126
functional_annot 4.573 0.595 9.042
common_neighbors 4.287 0.337 9.476
* checking for unstated dependencies in vignettes ... OK
* checking package vignettes in ‘inst/doc’ ... OK
* checking running R code from vignettes ... SKIPPED
* checking re-building of vignette outputs ... SKIPPED
* checking PDF version of manual ... OK
* DONE
Status: 1 NOTE
See
‘/home/biocbuild/bbs-3.15-bioc/meat/wppi.Rcheck/00check.log’
for details.
wppi.Rcheck/00install.out
############################################################################## ############################################################################## ### ### Running command: ### ### /home/biocbuild/bbs-3.15-bioc/R/bin/R CMD INSTALL wppi ### ############################################################################## ############################################################################## * installing to library ‘/home/biocbuild/bbs-3.15-bioc/R/library’ * installing *source* package ‘wppi’ ... ** using staged installation ** R ** byte-compile and prepare package for lazy loading [2022-10-18 15:31:05] [INFO] [OmnipathR] Initialized cache: `/home/biocbuild/.cache/OmnipathR`. [2022-10-18 15:31:05] [TRACE] [OmnipathR] Running on a build server, wiping cache. [2022-10-18 15:31:05] [SUCCESS] [OmnipathR] Removing all cache contents from `/home/biocbuild/.cache/OmnipathR`. [2022-10-18 15:31:05] [TRACE] [OmnipathR] Pandoc version: `2.5`. [2022-10-18 15:31:05] [TRACE] [OmnipathR] Cache locked: FALSE Note: wrong number of arguments to '/' ** help *** installing help indices ** building package indices ** installing vignettes ** testing if installed package can be loaded from temporary location [2022-10-18 15:31:08] [INFO] [OmnipathR] Initialized cache: `/home/biocbuild/.cache/OmnipathR`. [2022-10-18 15:31:08] [TRACE] [OmnipathR] Running on a build server, wiping cache. [2022-10-18 15:31:08] [SUCCESS] [OmnipathR] Removing all cache contents from `/home/biocbuild/.cache/OmnipathR`. [2022-10-18 15:31:08] [TRACE] [OmnipathR] Pandoc version: `2.5`. [2022-10-18 15:31:08] [TRACE] [OmnipathR] Cache locked: FALSE ** testing if installed package can be loaded from final location [2022-10-18 15:31:10] [INFO] [OmnipathR] Initialized cache: `/home/biocbuild/.cache/OmnipathR`. [2022-10-18 15:31:10] [TRACE] [OmnipathR] Running on a build server, wiping cache. [2022-10-18 15:31:10] [SUCCESS] [OmnipathR] Removing all cache contents from `/home/biocbuild/.cache/OmnipathR`. [2022-10-18 15:31:10] [TRACE] [OmnipathR] Pandoc version: `2.5`. [2022-10-18 15:31:10] [TRACE] [OmnipathR] Cache locked: FALSE ** testing if installed package keeps a record of temporary installation path * DONE (wppi)
wppi.Rcheck/wppi-Ex.timings
| name | user | system | elapsed | |
| common_neighbors | 4.287 | 0.337 | 9.476 | |
| count_genes | 15.537 | 1.567 | 16.836 | |
| filter_annot_with_network | 3.767 | 0.102 | 3.869 | |
| functional_annot | 4.573 | 0.595 | 9.042 | |
| graph_from_op | 1.121 | 0.044 | 1.165 | |
| in_omnipath | 1.265 | 0.053 | 1.317 | |
| prioritization_genes | 14.914 | 0.383 | 15.297 | |
| process_annot | 1.277 | 0.008 | 1.284 | |
| random_walk | 13.687 | 0.225 | 13.913 | |
| score_candidate_genes_from_PPI | 14.533 | 0.170 | 14.704 | |
| subgraph_op | 0.986 | 0.008 | 0.994 | |
| weighted_adj | 8.978 | 0.147 | 9.126 | |
| wppi | 24.202 | 0.147 | 24.348 | |
| wppi_data | 4.405 | 0.055 | 4.460 | |
| wppi_go_data | 2.050 | 0.008 | 2.058 | |
| wppi_hpo_data | 1.117 | 0.008 | 1.125 | |
| wppi_omnipath_data | 0.978 | 0.032 | 1.010 | |