| Back to Multiple platform build/check report for BioC 3.15 |
|
This page was generated on 2022-10-19 13:23:56 -0400 (Wed, 19 Oct 2022).
| Hostname | OS | Arch (*) | R version | Installed pkgs |
|---|---|---|---|---|
| nebbiolo1 | Linux (Ubuntu 20.04.5 LTS) | x86_64 | 4.2.1 (2022-06-23) -- "Funny-Looking Kid" | 4386 |
| palomino3 | Windows Server 2022 Datacenter | x64 | 4.2.1 (2022-06-23 ucrt) -- "Funny-Looking Kid" | 4138 |
| merida1 | macOS 10.14.6 Mojave | x86_64 | 4.2.1 (2022-06-23) -- "Funny-Looking Kid" | 4205 |
| Click on any hostname to see more info about the system (e.g. compilers) (*) as reported by 'uname -p', except on Windows and Mac OS X | ||||
|
To the developers/maintainers of the wppi package: - Please allow up to 24 hours (and sometimes 48 hours) for your latest push to git@git.bioconductor.org:packages/wppi.git to reflect on this report. See How and When does the builder pull? When will my changes propagate? for more information. - Make sure to use the following settings in order to reproduce any error or warning you see on this page. |
| Package 2123/2140 | Hostname | OS / Arch | INSTALL | BUILD | CHECK | BUILD BIN | ||||||||
| wppi 1.4.0 (landing page) Ana Galhoz
| nebbiolo1 | Linux (Ubuntu 20.04.5 LTS) / x86_64 | OK | OK | OK | |||||||||
| palomino3 | Windows Server 2022 Datacenter / x64 | OK | OK | OK | OK | |||||||||
| merida1 | macOS 10.14.6 Mojave / x86_64 | OK | OK | OK | OK | |||||||||
| Package: wppi |
| Version: 1.4.0 |
| Command: /Library/Frameworks/R.framework/Resources/bin/R CMD check --install=check:wppi.install-out.txt --library=/Library/Frameworks/R.framework/Resources/library --no-vignettes --timings wppi_1.4.0.tar.gz |
| StartedAt: 2022-10-19 09:32:23 -0400 (Wed, 19 Oct 2022) |
| EndedAt: 2022-10-19 09:38:53 -0400 (Wed, 19 Oct 2022) |
| EllapsedTime: 390.5 seconds |
| RetCode: 0 |
| Status: OK |
| CheckDir: wppi.Rcheck |
| Warnings: 0 |
##############################################################################
##############################################################################
###
### Running command:
###
### /Library/Frameworks/R.framework/Resources/bin/R CMD check --install=check:wppi.install-out.txt --library=/Library/Frameworks/R.framework/Resources/library --no-vignettes --timings wppi_1.4.0.tar.gz
###
##############################################################################
##############################################################################
* using log directory ‘/Users/biocbuild/bbs-3.15-bioc/meat/wppi.Rcheck’
* using R version 4.2.1 (2022-06-23)
* using platform: x86_64-apple-darwin17.0 (64-bit)
* using session charset: UTF-8
* using option ‘--no-vignettes’
* checking for file ‘wppi/DESCRIPTION’ ... OK
* checking extension type ... Package
* this is package ‘wppi’ version ‘1.4.0’
* package encoding: UTF-8
* checking package namespace information ... OK
* checking package dependencies ... OK
* checking if this is a source package ... OK
* checking if there is a namespace ... OK
* checking for hidden files and directories ... OK
* checking for portable file names ... OK
* checking for sufficient/correct file permissions ... OK
* checking whether package ‘wppi’ can be installed ... OK
* checking installed package size ... OK
* checking package directory ... OK
* checking ‘build’ directory ... OK
* checking DESCRIPTION meta-information ... OK
* checking top-level files ... OK
* checking for left-over files ... OK
* checking index information ... OK
* checking package subdirectories ... OK
* checking R files for non-ASCII characters ... OK
* checking R files for syntax errors ... OK
* checking whether the package can be loaded ... OK
* checking whether the package can be loaded with stated dependencies ... OK
* checking whether the package can be unloaded cleanly ... OK
* checking whether the namespace can be loaded with stated dependencies ... OK
* checking whether the namespace can be unloaded cleanly ... OK
* checking dependencies in R code ... OK
* checking S3 generic/method consistency ... OK
* checking replacement functions ... OK
* checking foreign function calls ... OK
* checking R code for possible problems ... NOTE
[2022-10-19 09:33:28] [INFO] [OmnipathR] Initialized cache: `/Users/biocbuild/Library/Caches/OmnipathR`.
[2022-10-19 09:33:28] [TRACE] [OmnipathR] Running on a build server, wiping cache.
[2022-10-19 09:33:28] [SUCCESS] [OmnipathR] Removing all cache contents from `/Users/biocbuild/Library/Caches/OmnipathR`.
[2022-10-19 09:33:28] [TRACE] [OmnipathR] Pandoc version: `2.7.3`.
[2022-10-19 09:33:28] [TRACE] [OmnipathR] Cache locked: FALSE
* checking Rd files ... OK
* checking Rd metadata ... OK
* checking Rd cross-references ... OK
* checking for missing documentation entries ... OK
* checking for code/documentation mismatches ... OK
* checking Rd \usage sections ... OK
* checking Rd contents ... OK
* checking for unstated dependencies in examples ... OK
* checking files in ‘vignettes’ ... OK
* checking examples ... OK
Examples with CPU (user + system) or elapsed time > 5s
user system elapsed
wppi 56.393 0.331 57.867
score_candidate_genes_from_PPI 31.602 0.233 34.031
prioritization_genes 30.029 0.274 33.338
random_walk 29.375 0.259 32.273
count_genes 21.975 1.703 23.882
weighted_adj 21.827 0.135 23.167
functional_annot 10.432 0.719 13.124
wppi_data 9.852 0.097 9.958
filter_annot_with_network 8.161 0.148 8.694
common_neighbors 7.461 0.409 10.197
wppi_go_data 5.038 0.077 5.120
* checking for unstated dependencies in vignettes ... OK
* checking package vignettes in ‘inst/doc’ ... OK
* checking running R code from vignettes ... SKIPPED
* checking re-building of vignette outputs ... SKIPPED
* checking PDF version of manual ... OK
* DONE
Status: 1 NOTE
See
‘/Users/biocbuild/bbs-3.15-bioc/meat/wppi.Rcheck/00check.log’
for details.
wppi.Rcheck/00install.out
############################################################################## ############################################################################## ### ### Running command: ### ### /Library/Frameworks/R.framework/Resources/bin/R CMD INSTALL wppi ### ############################################################################## ############################################################################## * installing to library ‘/Library/Frameworks/R.framework/Versions/4.2/Resources/library’ * installing *source* package ‘wppi’ ... ** using staged installation ** R ** byte-compile and prepare package for lazy loading [2022-10-18 15:59:09] [INFO] [OmnipathR] Initialized cache: `/Users/biocbuild/Library/Caches/OmnipathR`. [2022-10-18 15:59:09] [TRACE] [OmnipathR] Running on a build server, wiping cache. [2022-10-18 15:59:09] [SUCCESS] [OmnipathR] Removing all cache contents from `/Users/biocbuild/Library/Caches/OmnipathR`. [2022-10-18 15:59:09] [TRACE] [OmnipathR] Pandoc version: `2.7.3`. [2022-10-18 15:59:09] [TRACE] [OmnipathR] Cache locked: FALSE Note: wrong number of arguments to '/' ** help *** installing help indices ** building package indices ** installing vignettes ** testing if installed package can be loaded from temporary location [2022-10-18 15:59:16] [INFO] [OmnipathR] Initialized cache: `/Users/biocbuild/Library/Caches/OmnipathR`. [2022-10-18 15:59:16] [TRACE] [OmnipathR] Running on a build server, wiping cache. [2022-10-18 15:59:16] [SUCCESS] [OmnipathR] Removing all cache contents from `/Users/biocbuild/Library/Caches/OmnipathR`. [2022-10-18 15:59:16] [TRACE] [OmnipathR] Pandoc version: `2.7.3`. [2022-10-18 15:59:16] [TRACE] [OmnipathR] Cache locked: FALSE ** testing if installed package can be loaded from final location [2022-10-18 15:59:21] [INFO] [OmnipathR] Initialized cache: `/Users/biocbuild/Library/Caches/OmnipathR`. [2022-10-18 15:59:21] [TRACE] [OmnipathR] Running on a build server, wiping cache. [2022-10-18 15:59:21] [SUCCESS] [OmnipathR] Removing all cache contents from `/Users/biocbuild/Library/Caches/OmnipathR`. [2022-10-18 15:59:21] [TRACE] [OmnipathR] Pandoc version: `2.7.3`. [2022-10-18 15:59:21] [TRACE] [OmnipathR] Cache locked: FALSE ** testing if installed package keeps a record of temporary installation path * DONE (wppi)
wppi.Rcheck/wppi-Ex.timings
| name | user | system | elapsed | |
| common_neighbors | 7.461 | 0.409 | 10.197 | |
| count_genes | 21.975 | 1.703 | 23.882 | |
| filter_annot_with_network | 8.161 | 0.148 | 8.694 | |
| functional_annot | 10.432 | 0.719 | 13.124 | |
| graph_from_op | 2.999 | 0.039 | 3.247 | |
| in_omnipath | 2.932 | 0.023 | 3.318 | |
| prioritization_genes | 30.029 | 0.274 | 33.338 | |
| process_annot | 2.564 | 0.014 | 2.848 | |
| random_walk | 29.375 | 0.259 | 32.273 | |
| score_candidate_genes_from_PPI | 31.602 | 0.233 | 34.031 | |
| subgraph_op | 3.021 | 0.015 | 3.192 | |
| weighted_adj | 21.827 | 0.135 | 23.167 | |
| wppi | 56.393 | 0.331 | 57.867 | |
| wppi_data | 9.852 | 0.097 | 9.958 | |
| wppi_go_data | 5.038 | 0.077 | 5.120 | |
| wppi_hpo_data | 1.952 | 0.013 | 1.966 | |
| wppi_omnipath_data | 2.695 | 0.019 | 2.717 | |