| Back to Multiple platform build/check report for BioC 3.15 |
|
This page was generated on 2022-10-19 13:22:26 -0400 (Wed, 19 Oct 2022).
| Hostname | OS | Arch (*) | R version | Installed pkgs |
|---|---|---|---|---|
| nebbiolo1 | Linux (Ubuntu 20.04.5 LTS) | x86_64 | 4.2.1 (2022-06-23) -- "Funny-Looking Kid" | 4386 |
| palomino3 | Windows Server 2022 Datacenter | x64 | 4.2.1 (2022-06-23 ucrt) -- "Funny-Looking Kid" | 4138 |
| merida1 | macOS 10.14.6 Mojave | x86_64 | 4.2.1 (2022-06-23) -- "Funny-Looking Kid" | 4205 |
| Click on any hostname to see more info about the system (e.g. compilers) (*) as reported by 'uname -p', except on Windows and Mac OS X | ||||
|
To the developers/maintainers of the trena package: - Please allow up to 24 hours (and sometimes 48 hours) for your latest push to git@git.bioconductor.org:packages/trena.git to reflect on this report. See How and When does the builder pull? When will my changes propagate? for more information. - Make sure to use the following settings in order to reproduce any error or warning you see on this page. |
| Package 2052/2140 | Hostname | OS / Arch | INSTALL | BUILD | CHECK | BUILD BIN | ||||||||
| trena 1.18.1 (landing page) Paul Shannon
| nebbiolo1 | Linux (Ubuntu 20.04.5 LTS) / x86_64 | OK | OK | WARNINGS | |||||||||
| palomino3 | Windows Server 2022 Datacenter / x64 | OK | OK | WARNINGS | OK | |||||||||
| merida1 | macOS 10.14.6 Mojave / x86_64 | OK | OK | WARNINGS | OK | |||||||||
| Package: trena |
| Version: 1.18.1 |
| Command: rm -rf trena.buildbin-libdir && mkdir trena.buildbin-libdir && F:\biocbuild\bbs-3.15-bioc\R\bin\R.exe CMD INSTALL --build --library=trena.buildbin-libdir trena_1.18.1.tar.gz |
| StartedAt: 2022-10-19 06:43:00 -0400 (Wed, 19 Oct 2022) |
| EndedAt: 2022-10-19 06:44:33 -0400 (Wed, 19 Oct 2022) |
| EllapsedTime: 92.8 seconds |
| RetCode: 0 |
| Status: OK |
| PackageFile: trena_1.18.1.zip |
| PackageFileSize: 2.665 MiB |
##############################################################################
##############################################################################
###
### Running command:
###
### rm -rf trena.buildbin-libdir && mkdir trena.buildbin-libdir && F:\biocbuild\bbs-3.15-bioc\R\bin\R.exe CMD INSTALL --build --library=trena.buildbin-libdir trena_1.18.1.tar.gz
###
##############################################################################
##############################################################################
* installing *source* package 'trena' ...
** using staged installation
** R
** inst
** byte-compile and prepare package for lazy loading
See system.file("LICENSE", package="MotifDb") for use restrictions.
** help
*** installing help indices
** building package indices
** installing vignettes
** testing if installed package can be loaded from temporary location
See system.file("LICENSE", package="MotifDb") for use restrictions.
** testing if installed package can be loaded from final location
See system.file("LICENSE", package="MotifDb") for use restrictions.
** testing if installed package keeps a record of temporary installation path
* MD5 sums
packaged installation of 'trena' as trena_1.18.1.zip
* DONE (trena)