| Back to Multiple platform build/check report for BioC 3.15 |
|
This page was generated on 2022-02-17 11:08:46 -0500 (Thu, 17 Feb 2022).
| Hostname | OS | Arch (*) | R version | Installed pkgs |
|---|---|---|---|---|
| nebbiolo1 | Linux (Ubuntu 20.04.4 LTS) | x86_64 | R Under development (unstable) (2022-01-05 r81451) -- "Unsuffered Consequences" | 4189 |
| riesling1 | Windows Server 2019 Standard | x64 | R Under development (unstable) (2021-11-21 r81221) -- "Unsuffered Consequences" | 4084 |
| palomino3 | Windows Server 2022 Datacenter | x64 | R Under development (unstable) (2021-12-21 r81400 ucrt) -- "Unsuffered Consequences" | 4028 |
| merida1 | macOS 10.14.6 Mojave | x86_64 | R Under development (unstable) (2022-01-05 r81451) -- "Unsuffered Consequences" | 4143 |
| Click on any hostname to see more info about the system (e.g. compilers) (*) as reported by 'uname -p', except on Windows and Mac OS X | ||||
|
To the developers/maintainers of the sojourner package: - Please allow up to 24 hours (and sometimes 48 hours) for your latest push to git@git.bioconductor.org:packages/sojourner.git to reflect on this report. See How and When does the builder pull? When will my changes propagate? here for more information. - Make sure to use the following settings in order to reproduce any error or warning you see on this page. |
| Package 1836/2083 | Hostname | OS / Arch | INSTALL | BUILD | CHECK | BUILD BIN | ||||||||
| sojourner 1.9.0 (landing page) Sojourner Developer
| nebbiolo1 | Linux (Ubuntu 20.04.4 LTS) / x86_64 | OK | OK | OK | |||||||||
| riesling1 | Windows Server 2019 Standard / x64 | OK | OK | OK | OK | |||||||||
| palomino3 | Windows Server 2022 Datacenter / x64 | OK | OK | OK | OK | |||||||||
| merida1 | macOS 10.14.6 Mojave / x86_64 | OK | OK | OK | OK | |||||||||
| Package: sojourner |
| Version: 1.9.0 |
| Command: rm -rf sojourner.buildbin-libdir && mkdir sojourner.buildbin-libdir && D:\biocbuild\bbs-3.15-bioc\R\bin\R.exe CMD INSTALL --build --library=sojourner.buildbin-libdir sojourner_1.9.0.tar.gz |
| StartedAt: 2022-02-16 21:57:17 -0500 (Wed, 16 Feb 2022) |
| EndedAt: 2022-02-16 21:58:35 -0500 (Wed, 16 Feb 2022) |
| EllapsedTime: 77.5 seconds |
| RetCode: 0 |
| Status: OK |
| PackageFile: sojourner_1.9.0.zip |
| PackageFileSize: 2.944 MiB |
##############################################################################
##############################################################################
###
### Running command:
###
### rm -rf sojourner.buildbin-libdir && mkdir sojourner.buildbin-libdir && D:\biocbuild\bbs-3.15-bioc\R\bin\R.exe CMD INSTALL --build --library=sojourner.buildbin-libdir sojourner_1.9.0.tar.gz
###
##############################################################################
##############################################################################
* installing *source* package 'sojourner' ...
** using staged installation
** R
** inst
** byte-compile and prepare package for lazy loading
** help
*** installing help indices
converting help for package 'sojourner'
finding HTML links ... done
Dcoef-methods html
combineTrackll-methods html
compareFolder-methods html
compare_RT_CDF-methods html
createTrackll-methods html
dispVariance-methods html
displacementCDF-methods html
dwellTime-methods html
exportTrackll-methods html
filterTrack-methods html
fitNormDistr-methods html
fitRT-methods html
linkSkippedFrames-methods html
maskTracks-methods html
mergeTracks-methods html
msd-methods html
plotIndividual_Tracks-methods html
plotLocalizations_Density-methods html
plotTrack-methods html
plotTrackOverlay_Dcoef-methods html
sojourner html
sojournerGUI-methods html
squareDisp-methods html
** building package indices
** installing vignettes
** testing if installed package can be loaded from temporary location
** testing if installed package can be loaded from final location
** testing if installed package keeps a record of temporary installation path
* MD5 sums
packaged installation of 'sojourner' as sojourner_1.9.0.zip
* DONE (sojourner)