| Back to Multiple platform build/check report for BioC 3.15 |
|
This page was generated on 2022-07-08 13:23:28 -0400 (Fri, 08 Jul 2022).
| Hostname | OS | Arch (*) | R version | Installed pkgs |
|---|---|---|---|---|
| nebbiolo1 | Linux (Ubuntu 20.04.4 LTS) | x86_64 | 4.2.0 (2022-04-22) -- "Vigorous Calisthenics" | 4380 |
| palomino3 | Windows Server 2022 Datacenter | x64 | 4.2.0 (2022-04-22 ucrt) -- "Vigorous Calisthenics" | 4157 |
| merida1 | macOS 10.14.6 Mojave | x86_64 | 4.2.0 (2022-04-22) -- "Vigorous Calisthenics" | 4222 |
| Click on any hostname to see more info about the system (e.g. compilers) (*) as reported by 'uname -p', except on Windows and Mac OS X | ||||
|
To the developers/maintainers of the sojourner package: - Please allow up to 24 hours (and sometimes 48 hours) for your latest push to git@git.bioconductor.org:packages/sojourner.git to reflect on this report. See How and When does the builder pull? When will my changes propagate? for more information. - Make sure to use the following settings in order to reproduce any error or warning you see on this page. |
| Package 1882/2140 | Hostname | OS / Arch | INSTALL | BUILD | CHECK | BUILD BIN | ||||||||
| sojourner 1.10.0 (landing page) Sojourner Developer
| nebbiolo1 | Linux (Ubuntu 20.04.4 LTS) / x86_64 | OK | OK | OK | |||||||||
| palomino3 | Windows Server 2022 Datacenter / x64 | OK | OK | OK | OK | |||||||||
| merida1 | macOS 10.14.6 Mojave / x86_64 | OK | OK | OK | OK | |||||||||
| Package: sojourner |
| Version: 1.10.0 |
| Command: /Library/Frameworks/R.framework/Resources/bin/R CMD check --install=check:sojourner.install-out.txt --library=/Library/Frameworks/R.framework/Resources/library --no-vignettes --timings sojourner_1.10.0.tar.gz |
| StartedAt: 2022-07-08 09:33:06 -0400 (Fri, 08 Jul 2022) |
| EndedAt: 2022-07-08 09:51:02 -0400 (Fri, 08 Jul 2022) |
| EllapsedTime: 1076.5 seconds |
| RetCode: 0 |
| Status: OK |
| CheckDir: sojourner.Rcheck |
| Warnings: 0 |
##############################################################################
##############################################################################
###
### Running command:
###
### /Library/Frameworks/R.framework/Resources/bin/R CMD check --install=check:sojourner.install-out.txt --library=/Library/Frameworks/R.framework/Resources/library --no-vignettes --timings sojourner_1.10.0.tar.gz
###
##############################################################################
##############################################################################
* using log directory ‘/Users/biocbuild/bbs-3.15-bioc/meat/sojourner.Rcheck’
* using R version 4.2.0 (2022-04-22)
* using platform: x86_64-apple-darwin17.0 (64-bit)
* using session charset: UTF-8
* using option ‘--no-vignettes’
* checking for file ‘sojourner/DESCRIPTION’ ... OK
* this is package ‘sojourner’ version ‘1.10.0’
* package encoding: UTF-8
* checking package namespace information ... OK
* checking package dependencies ... OK
* checking if this is a source package ... OK
* checking if there is a namespace ... OK
* checking for hidden files and directories ... OK
* checking for portable file names ... OK
* checking for sufficient/correct file permissions ... OK
* checking whether package ‘sojourner’ can be installed ... OK
* checking installed package size ... OK
* checking package directory ... OK
* checking ‘build’ directory ... OK
* checking DESCRIPTION meta-information ... OK
* checking top-level files ... OK
* checking for left-over files ... OK
* checking index information ... OK
* checking package subdirectories ... OK
* checking R files for non-ASCII characters ... OK
* checking R files for syntax errors ... OK
* checking whether the package can be loaded ... OK
* checking whether the package can be loaded with stated dependencies ... OK
* checking whether the package can be unloaded cleanly ... OK
* checking whether the namespace can be loaded with stated dependencies ... OK
* checking whether the namespace can be unloaded cleanly ... OK
* checking dependencies in R code ... OK
* checking S3 generic/method consistency ... OK
* checking replacement functions ... OK
* checking foreign function calls ... OK
* checking R code for possible problems ... OK
* checking Rd files ... OK
* checking Rd metadata ... OK
* checking Rd cross-references ... OK
* checking for missing documentation entries ... OK
* checking for code/documentation mismatches ... OK
* checking Rd \usage sections ... OK
* checking Rd contents ... OK
* checking for unstated dependencies in examples ... OK
* checking files in ‘vignettes’ ... OK
* checking examples ... OK
Examples with CPU (user + system) or elapsed time > 5s
user system elapsed
plotLocalizations_Density-methods 69.725 0.222 70.206
plotTrackOverlay_Dcoef-methods 53.471 0.126 53.726
fitNormDistr-methods 50.654 0.206 51.662
Dcoef-methods 20.341 0.184 20.854
maskTracks-methods 20.019 0.296 20.375
plotIndividual_Tracks-methods 18.651 0.201 18.895
plotTrack-methods 8.642 0.229 8.916
fitRT-methods 7.540 0.038 7.595
msd-methods 7.265 0.037 7.324
compare_RT_CDF-methods 7.094 0.068 213.608
combineTrackll-methods 6.386 0.071 210.456
* checking for unstated dependencies in ‘tests’ ... OK
* checking tests ...
Running ‘runTests.R’
OK
* checking for unstated dependencies in vignettes ... OK
* checking package vignettes in ‘inst/doc’ ... OK
* checking running R code from vignettes ... SKIPPED
* checking re-building of vignette outputs ... SKIPPED
* checking PDF version of manual ... OK
* DONE
Status: OK
sojourner.Rcheck/00install.out
############################################################################## ############################################################################## ### ### Running command: ### ### /Library/Frameworks/R.framework/Resources/bin/R CMD INSTALL sojourner ### ############################################################################## ############################################################################## * installing to library ‘/Library/Frameworks/R.framework/Versions/4.2/Resources/library’ * installing *source* package ‘sojourner’ ... ** using staged installation ** R ** inst ** byte-compile and prepare package for lazy loading ** help *** installing help indices ** building package indices ** installing vignettes ** testing if installed package can be loaded from temporary location ** testing if installed package can be loaded from final location ** testing if installed package keeps a record of temporary installation path * DONE (sojourner)
sojourner.Rcheck/tests/runTests.Rout
R version 4.2.0 (2022-04-22) -- "Vigorous Calisthenics"
Copyright (C) 2022 The R Foundation for Statistical Computing
Platform: x86_64-apple-darwin17.0 (64-bit)
R is free software and comes with ABSOLUTELY NO WARRANTY.
You are welcome to redistribute it under certain conditions.
Type 'license()' or 'licence()' for distribution details.
R is a collaborative project with many contributors.
Type 'contributors()' for more information and
'citation()' on how to cite R or R packages in publications.
Type 'demo()' for some demos, 'help()' for on-line help, or
'help.start()' for an HTML browser interface to help.
Type 'q()' to quit R.
> BiocGenerics:::testPackage("sojourner")
Reading ParticleTracker file: SWR1_WT_140mW_image6.csv ...
mage6 read and processed.
Process complete.
Reading ParticleTracker file: SWR1_WT_140mW_image6.csv ...
mage6 read and processed.
Process complete.
applying filter, min 5 max Inf
Reading ParticleTracker file: SWR1_WT_140mW_image6.csv ...
mage6 read and processed.
Process complete.
applying filter, min 5 max Inf
applying filter, min 7 max Inf
45 tracks length > & = 1
45 tracks length > & = 2
45 tracks length > & = 3
45 tracks length > & = 4
45 tracks length > & = 5
45 tracks length > & = 6
...
Reading ParticleTracker file: SWR1_WT_140mW_image6.csv ...
mage6 read and processed.
Process complete.
applying trimmer, min 1 max 20
RUNIT TEST PROTOCOL -- Fri Jul 8 09:50:52 2022
***********************************************
Number of test functions: 4
Number of errors: 0
Number of failures: 0
1 Test Suite :
sojourner RUnit Tests - 4 test functions, 0 errors, 0 failures
Number of test functions: 4
Number of errors: 0
Number of failures: 0
>
> proc.time()
user system elapsed
21.365 0.693 22.085
sojourner.Rcheck/sojourner-Ex.timings
| name | user | system | elapsed | |
| Dcoef-methods | 20.341 | 0.184 | 20.854 | |
| combineTrackll-methods | 6.386 | 0.071 | 210.456 | |
| compareFolder-methods | 0.273 | 0.021 | 0.296 | |
| compare_RT_CDF-methods | 7.094 | 0.068 | 213.608 | |
| createTrackll-methods | 0.073 | 0.007 | 0.080 | |
| dispVariance-methods | 2.071 | 0.028 | 2.104 | |
| displacementCDF-methods | 3.901 | 0.095 | 4.005 | |
| dwellTime-methods | 0.741 | 0.010 | 0.753 | |
| exportTrackll-methods | 0.169 | 0.019 | 0.191 | |
| filterTrack-methods | 0.182 | 0.006 | 0.191 | |
| fitNormDistr-methods | 50.654 | 0.206 | 51.662 | |
| fitRT-methods | 7.540 | 0.038 | 7.595 | |
| linkSkippedFrames-methods | 0.225 | 0.011 | 0.239 | |
| maskTracks-methods | 20.019 | 0.296 | 20.375 | |
| mergeTracks-methods | 0.209 | 0.008 | 0.217 | |
| msd-methods | 7.265 | 0.037 | 7.324 | |
| plotIndividual_Tracks-methods | 18.651 | 0.201 | 18.895 | |
| plotLocalizations_Density-methods | 69.725 | 0.222 | 70.206 | |
| plotTrack-methods | 8.642 | 0.229 | 8.916 | |
| plotTrackOverlay_Dcoef-methods | 53.471 | 0.126 | 53.726 | |
| sojournerGUI-methods | 0.001 | 0.000 | 0.000 | |
| squareDisp-methods | 0.292 | 0.013 | 0.307 | |