| Back to Multiple platform build/check report for BioC 3.15 |
|
This page was generated on 2022-03-18 11:08:27 -0400 (Fri, 18 Mar 2022).
| Hostname | OS | Arch (*) | R version | Installed pkgs |
|---|---|---|---|---|
| nebbiolo1 | Linux (Ubuntu 20.04.4 LTS) | x86_64 | R Under development (unstable) (2022-02-17 r81757) -- "Unsuffered Consequences" | 4334 |
| riesling1 | Windows Server 2019 Standard | x64 | R Under development (unstable) (2021-11-21 r81221) -- "Unsuffered Consequences" | 4097 |
| palomino3 | Windows Server 2022 Datacenter | x64 | R Under development (unstable) (2022-02-17 r81757 ucrt) -- "Unsuffered Consequences" | 4083 |
| merida1 | macOS 10.14.6 Mojave | x86_64 | R Under development (unstable) (2022-03-02 r81842) -- "Unsuffered Consequences" | 4134 |
| Click on any hostname to see more info about the system (e.g. compilers) (*) as reported by 'uname -p', except on Windows and Mac OS X | ||||
|
To the developers/maintainers of the regutools package: - Please allow up to 24 hours (and sometimes 48 hours) for your latest push to git@git.bioconductor.org:packages/regutools.git to reflect on this report. See How and When does the builder pull? When will my changes propagate? here for more information. - Make sure to use the following settings in order to reproduce any error or warning you see on this page. |
| Package 1584/2090 | Hostname | OS / Arch | INSTALL | BUILD | CHECK | BUILD BIN | ||||||||
| regutools 1.7.1 (landing page) Joselyn Chavez
| nebbiolo1 | Linux (Ubuntu 20.04.4 LTS) / x86_64 | OK | OK | OK | |||||||||
| riesling1 | Windows Server 2019 Standard / x64 | OK | OK | OK | OK | |||||||||
| palomino3 | Windows Server 2022 Datacenter / x64 | OK | OK | OK | OK | |||||||||
| merida1 | macOS 10.14.6 Mojave / x86_64 | OK | OK | OK | OK | |||||||||
| Package: regutools |
| Version: 1.7.1 |
| Command: D:\biocbuild\bbs-3.15-bioc\R\bin\R.exe CMD check --no-multiarch --install=check:regutools.install-out.txt --library=D:\biocbuild\bbs-3.15-bioc\R\library --no-vignettes --timings regutools_1.7.1.tar.gz |
| StartedAt: 2022-03-17 20:02:41 -0400 (Thu, 17 Mar 2022) |
| EndedAt: 2022-03-17 20:10:27 -0400 (Thu, 17 Mar 2022) |
| EllapsedTime: 465.8 seconds |
| RetCode: 0 |
| Status: OK |
| CheckDir: regutools.Rcheck |
| Warnings: 0 |
##############################################################################
##############################################################################
###
### Running command:
###
### D:\biocbuild\bbs-3.15-bioc\R\bin\R.exe CMD check --no-multiarch --install=check:regutools.install-out.txt --library=D:\biocbuild\bbs-3.15-bioc\R\library --no-vignettes --timings regutools_1.7.1.tar.gz
###
##############################################################################
##############################################################################
* using log directory 'D:/biocbuild/bbs-3.15-bioc/meat/regutools.Rcheck'
* using R Under development (unstable) (2021-11-21 r81221)
* using platform: x86_64-w64-mingw32 (64-bit)
* using session charset: ISO8859-1
* using option '--no-vignettes'
* checking for file 'regutools/DESCRIPTION' ... OK
* this is package 'regutools' version '1.7.1'
* package encoding: UTF-8
* checking package namespace information ... OK
* checking package dependencies ... OK
* checking if this is a source package ... OK
* checking if there is a namespace ... OK
* checking for hidden files and directories ... OK
* checking for portable file names ... OK
* checking whether package 'regutools' can be installed ... OK
* checking installed package size ... OK
* checking package directory ... OK
* checking 'build' directory ... OK
* checking DESCRIPTION meta-information ... OK
* checking top-level files ... OK
* checking for left-over files ... OK
* checking index information ... OK
* checking package subdirectories ... OK
* checking R files for non-ASCII characters ... OK
* checking R files for syntax errors ... OK
* checking whether the package can be loaded ... OK
* checking whether the package can be loaded with stated dependencies ... OK
* checking whether the package can be unloaded cleanly ... OK
* checking whether the namespace can be loaded with stated dependencies ... OK
* checking whether the namespace can be unloaded cleanly ... OK
* checking dependencies in R code ... OK
* checking S3 generic/method consistency ... OK
* checking replacement functions ... OK
* checking foreign function calls ... OK
* checking R code for possible problems ... OK
* checking Rd files ... OK
* checking Rd metadata ... OK
* checking Rd cross-references ... OK
* checking for missing documentation entries ... OK
* checking for code/documentation mismatches ... OK
* checking Rd \usage sections ... OK
* checking Rd contents ... OK
* checking for unstated dependencies in examples ... OK
* checking files in 'vignettes' ... OK
* checking examples ... OK
Examples with CPU (user + system) or elapsed time > 5s
user system elapsed
plot_dna_objects 7.77 0.41 8.73
build_condition 7.60 0.39 8.64
convert_to_biostrings 6.95 0.41 7.96
convert_to_granges 6.84 0.36 7.75
connect_database 6.04 0.47 7.02
get_binding_sites 5.11 0.45 6.16
get_gene_regulators 5.03 0.27 5.88
list_datasets 4.69 0.35 5.58
get_gene_synonyms 4.73 0.21 5.48
get_regulatory_summary 4.46 0.39 5.39
guess_id 4.41 0.25 5.18
list_attributes 4.37 0.28 5.19
get_regulatory_network 4.36 0.22 6.36
* checking for unstated dependencies in 'tests' ... OK
* checking tests ...
Running 'testthat.R'
OK
* checking for unstated dependencies in vignettes ... OK
* checking package vignettes in 'inst/doc' ... OK
* checking running R code from vignettes ... SKIPPED
* checking re-building of vignette outputs ... SKIPPED
* checking PDF version of manual ... OK
* DONE
Status: OK
regutools.Rcheck/00install.out
##############################################################################
##############################################################################
###
### Running command:
###
### D:\biocbuild\bbs-3.15-bioc\R\bin\R.exe CMD INSTALL regutools
###
##############################################################################
##############################################################################
* installing to library 'D:/biocbuild/bbs-3.15-bioc/R/library'
* installing *source* package 'regutools' ...
** using staged installation
** R
** inst
** byte-compile and prepare package for lazy loading
** help
*** installing help indices
converting help for package 'regutools'
finding HTML links ... done
build_condition html
connect_database html
convert_to_biostrings html
convert_to_granges html
existing_intervals html
existing_partial_match html
get_binding_sites html
get_dataset html
get_dna_objects html
get_gene_regulators html
get_gene_synonyms html
get_regulatory_network html
get_regulatory_summary html
guess_id html
list_attributes html
list_datasets html
non_existing_intervals html
plot_dna_objects html
regulondb-class html
regulondb-methods html
regulondb html
regulondb_result-class html
regutools-package html
*** copying figures
** building package indices
** installing vignettes
** testing if installed package can be loaded from temporary location
** testing if installed package can be loaded from final location
** testing if installed package keeps a record of temporary installation path
* DONE (regutools)
Making 'packages.html' ...Warning in packageDescription(i, lib.loc = lib, fields = "Title", encoding = "UTF-8") :
DESCRIPTION file of package 'treekoR' is missing or broken
done
regutools.Rcheck/tests/testthat.Rout
R Under development (unstable) (2021-11-21 r81221) -- "Unsuffered Consequences"
Copyright (C) 2021 The R Foundation for Statistical Computing
Platform: x86_64-w64-mingw32/x64 (64-bit)
R is free software and comes with ABSOLUTELY NO WARRANTY.
You are welcome to redistribute it under certain conditions.
Type 'license()' or 'licence()' for distribution details.
R is a collaborative project with many contributors.
Type 'contributors()' for more information and
'citation()' on how to cite R or R packages in publications.
Type 'demo()' for some demos, 'help()' for on-line help, or
'help.start()' for an HTML browser interface to help.
Type 'q()' to quit R.
> library("testthat")
> library("regutools")
>
> test_check("regutools")
[ FAIL 0 | WARN 0 | SKIP 0 | PASS 110 ]
Warning message:
call dbDisconnect() when finished working with a connection
>
> proc.time()
user system elapsed
100.84 6.90 118.68
regutools.Rcheck/regutools-Ex.timings
| name | user | system | elapsed | |
| build_condition | 7.60 | 0.39 | 8.64 | |
| connect_database | 6.04 | 0.47 | 7.02 | |
| convert_to_biostrings | 6.95 | 0.41 | 7.96 | |
| convert_to_granges | 6.84 | 0.36 | 7.75 | |
| existing_intervals | 0 | 0 | 0 | |
| existing_partial_match | 0 | 0 | 0 | |
| get_binding_sites | 5.11 | 0.45 | 6.16 | |
| get_dataset | 4.22 | 0.20 | 4.98 | |
| get_dna_objects | 4.22 | 0.30 | 4.94 | |
| get_gene_regulators | 5.03 | 0.27 | 5.88 | |
| get_gene_synonyms | 4.73 | 0.21 | 5.48 | |
| get_regulatory_network | 4.36 | 0.22 | 6.36 | |
| get_regulatory_summary | 4.46 | 0.39 | 5.39 | |
| guess_id | 4.41 | 0.25 | 5.18 | |
| list_attributes | 4.37 | 0.28 | 5.19 | |
| list_datasets | 4.69 | 0.35 | 5.58 | |
| non_existing_intervals | 0 | 0 | 0 | |
| plot_dna_objects | 7.77 | 0.41 | 8.73 | |
| regulondb | 3.99 | 0.34 | 4.89 | |