| Back to Multiple platform build/check report for BioC 3.15 |
|
This page was generated on 2022-10-19 13:23:35 -0400 (Wed, 19 Oct 2022).
| Hostname | OS | Arch (*) | R version | Installed pkgs |
|---|---|---|---|---|
| nebbiolo1 | Linux (Ubuntu 20.04.5 LTS) | x86_64 | 4.2.1 (2022-06-23) -- "Funny-Looking Kid" | 4386 |
| palomino3 | Windows Server 2022 Datacenter | x64 | 4.2.1 (2022-06-23 ucrt) -- "Funny-Looking Kid" | 4138 |
| merida1 | macOS 10.14.6 Mojave | x86_64 | 4.2.1 (2022-06-23) -- "Funny-Looking Kid" | 4205 |
| Click on any hostname to see more info about the system (e.g. compilers) (*) as reported by 'uname -p', except on Windows and Mac OS X | ||||
|
To the developers/maintainers of the regutools package: - Please allow up to 24 hours (and sometimes 48 hours) for your latest push to git@git.bioconductor.org:packages/regutools.git to reflect on this report. See How and When does the builder pull? When will my changes propagate? for more information. - Make sure to use the following settings in order to reproduce any error or warning you see on this page. |
| Package 1620/2140 | Hostname | OS / Arch | INSTALL | BUILD | CHECK | BUILD BIN | ||||||||
| regutools 1.8.0 (landing page) Joselyn Chavez
| nebbiolo1 | Linux (Ubuntu 20.04.5 LTS) / x86_64 | OK | OK | OK | |||||||||
| palomino3 | Windows Server 2022 Datacenter / x64 | OK | OK | OK | OK | |||||||||
| merida1 | macOS 10.14.6 Mojave / x86_64 | OK | OK | OK | OK | |||||||||
| Package: regutools |
| Version: 1.8.0 |
| Command: /Library/Frameworks/R.framework/Resources/bin/R CMD check --install=check:regutools.install-out.txt --library=/Library/Frameworks/R.framework/Resources/library --no-vignettes --timings regutools_1.8.0.tar.gz |
| StartedAt: 2022-10-19 06:55:01 -0400 (Wed, 19 Oct 2022) |
| EndedAt: 2022-10-19 07:08:13 -0400 (Wed, 19 Oct 2022) |
| EllapsedTime: 791.9 seconds |
| RetCode: 0 |
| Status: OK |
| CheckDir: regutools.Rcheck |
| Warnings: 0 |
##############################################################################
##############################################################################
###
### Running command:
###
### /Library/Frameworks/R.framework/Resources/bin/R CMD check --install=check:regutools.install-out.txt --library=/Library/Frameworks/R.framework/Resources/library --no-vignettes --timings regutools_1.8.0.tar.gz
###
##############################################################################
##############################################################################
* using log directory ‘/Users/biocbuild/bbs-3.15-bioc/meat/regutools.Rcheck’
* using R version 4.2.1 (2022-06-23)
* using platform: x86_64-apple-darwin17.0 (64-bit)
* using session charset: UTF-8
* using option ‘--no-vignettes’
* checking for file ‘regutools/DESCRIPTION’ ... OK
* this is package ‘regutools’ version ‘1.8.0’
* package encoding: UTF-8
* checking package namespace information ... OK
* checking package dependencies ... OK
* checking if this is a source package ... OK
* checking if there is a namespace ... OK
* checking for hidden files and directories ... OK
* checking for portable file names ... OK
* checking for sufficient/correct file permissions ... OK
* checking whether package ‘regutools’ can be installed ... OK
* checking installed package size ... OK
* checking package directory ... OK
* checking ‘build’ directory ... OK
* checking DESCRIPTION meta-information ... OK
* checking top-level files ... OK
* checking for left-over files ... OK
* checking index information ... OK
* checking package subdirectories ... OK
* checking R files for non-ASCII characters ... OK
* checking R files for syntax errors ... OK
* checking whether the package can be loaded ... OK
* checking whether the package can be loaded with stated dependencies ... OK
* checking whether the package can be unloaded cleanly ... OK
* checking whether the namespace can be loaded with stated dependencies ... OK
* checking whether the namespace can be unloaded cleanly ... OK
* checking dependencies in R code ... OK
* checking S3 generic/method consistency ... OK
* checking replacement functions ... OK
* checking foreign function calls ... OK
* checking R code for possible problems ... OK
* checking Rd files ... OK
* checking Rd metadata ... OK
* checking Rd cross-references ... OK
* checking for missing documentation entries ... OK
* checking for code/documentation mismatches ... OK
* checking Rd \usage sections ... OK
* checking Rd contents ... OK
* checking for unstated dependencies in examples ... OK
* checking files in ‘vignettes’ ... OK
* checking examples ... OK
Examples with CPU (user + system) or elapsed time > 5s
user system elapsed
plot_dna_objects 14.655 0.355 15.269
build_condition 8.817 0.472 9.703
convert_to_granges 7.957 0.379 8.587
convert_to_biostrings 7.310 0.380 8.096
connect_database 6.717 0.430 7.514
get_gene_regulators 6.752 0.289 7.787
get_gene_synonyms 6.704 0.294 7.634
get_dataset 6.656 0.275 7.310
get_binding_sites 6.372 0.307 6.971
regulondb 6.336 0.320 7.019
list_datasets 6.341 0.252 6.833
get_regulatory_network 6.278 0.295 6.816
get_dna_objects 6.306 0.264 6.868
get_regulatory_summary 6.275 0.277 6.803
list_attributes 6.272 0.275 6.918
guess_id 6.143 0.237 6.749
* checking for unstated dependencies in ‘tests’ ... OK
* checking tests ...
Running ‘testthat.R’
OK
* checking for unstated dependencies in vignettes ... OK
* checking package vignettes in ‘inst/doc’ ... OK
* checking running R code from vignettes ... SKIPPED
* checking re-building of vignette outputs ... SKIPPED
* checking PDF version of manual ... OK
* DONE
Status: OK
regutools.Rcheck/00install.out
############################################################################## ############################################################################## ### ### Running command: ### ### /Library/Frameworks/R.framework/Resources/bin/R CMD INSTALL regutools ### ############################################################################## ############################################################################## * installing to library ‘/Library/Frameworks/R.framework/Versions/4.2/Resources/library’ * installing *source* package ‘regutools’ ... ** using staged installation ** R ** inst ** byte-compile and prepare package for lazy loading ** help *** installing help indices *** copying figures ** building package indices ** installing vignettes ** testing if installed package can be loaded from temporary location ** testing if installed package can be loaded from final location ** testing if installed package keeps a record of temporary installation path * DONE (regutools)
regutools.Rcheck/tests/testthat.Rout
R version 4.2.1 (2022-06-23) -- "Funny-Looking Kid"
Copyright (C) 2022 The R Foundation for Statistical Computing
Platform: x86_64-apple-darwin17.0 (64-bit)
R is free software and comes with ABSOLUTELY NO WARRANTY.
You are welcome to redistribute it under certain conditions.
Type 'license()' or 'licence()' for distribution details.
R is a collaborative project with many contributors.
Type 'contributors()' for more information and
'citation()' on how to cite R or R packages in publications.
Type 'demo()' for some demos, 'help()' for on-line help, or
'help.start()' for an HTML browser interface to help.
Type 'q()' to quit R.
> library("testthat")
> library("regutools")
>
> test_check("regutools")
[ FAIL 0 | WARN 0 | SKIP 0 | PASS 110 ]
Warning message:
call dbDisconnect() when finished working with a connection
>
> proc.time()
user system elapsed
138.625 6.054 152.546
regutools.Rcheck/regutools-Ex.timings
| name | user | system | elapsed | |
| build_condition | 8.817 | 0.472 | 9.703 | |
| connect_database | 6.717 | 0.430 | 7.514 | |
| convert_to_biostrings | 7.310 | 0.380 | 8.096 | |
| convert_to_granges | 7.957 | 0.379 | 8.587 | |
| existing_intervals | 0.001 | 0.000 | 0.001 | |
| existing_partial_match | 0.000 | 0.000 | 0.001 | |
| get_binding_sites | 6.372 | 0.307 | 6.971 | |
| get_dataset | 6.656 | 0.275 | 7.310 | |
| get_dna_objects | 6.306 | 0.264 | 6.868 | |
| get_gene_regulators | 6.752 | 0.289 | 7.787 | |
| get_gene_synonyms | 6.704 | 0.294 | 7.634 | |
| get_regulatory_network | 6.278 | 0.295 | 6.816 | |
| get_regulatory_summary | 6.275 | 0.277 | 6.803 | |
| guess_id | 6.143 | 0.237 | 6.749 | |
| list_attributes | 6.272 | 0.275 | 6.918 | |
| list_datasets | 6.341 | 0.252 | 6.833 | |
| non_existing_intervals | 0.001 | 0.000 | 0.001 | |
| plot_dna_objects | 14.655 | 0.355 | 15.269 | |
| regulondb | 6.336 | 0.320 | 7.019 | |