| Back to Multiple platform build/check report for BioC 3.15 |
|
This page was generated on 2022-03-18 11:08:01 -0400 (Fri, 18 Mar 2022).
| Hostname | OS | Arch (*) | R version | Installed pkgs |
|---|---|---|---|---|
| nebbiolo1 | Linux (Ubuntu 20.04.4 LTS) | x86_64 | R Under development (unstable) (2022-02-17 r81757) -- "Unsuffered Consequences" | 4334 |
| riesling1 | Windows Server 2019 Standard | x64 | R Under development (unstable) (2021-11-21 r81221) -- "Unsuffered Consequences" | 4097 |
| palomino3 | Windows Server 2022 Datacenter | x64 | R Under development (unstable) (2022-02-17 r81757 ucrt) -- "Unsuffered Consequences" | 4083 |
| merida1 | macOS 10.14.6 Mojave | x86_64 | R Under development (unstable) (2022-03-02 r81842) -- "Unsuffered Consequences" | 4134 |
| Click on any hostname to see more info about the system (e.g. compilers) (*) as reported by 'uname -p', except on Windows and Mac OS X | ||||
|
To the developers/maintainers of the mgsa package: - Please allow up to 24 hours (and sometimes 48 hours) for your latest push to git@git.bioconductor.org:packages/mgsa.git to reflect on this report. See How and When does the builder pull? When will my changes propagate? here for more information. - Make sure to use the following settings in order to reproduce any error or warning you see on this page. |
| Package 1141/2090 | Hostname | OS / Arch | INSTALL | BUILD | CHECK | BUILD BIN | ||||||||
| mgsa 1.43.0 (landing page) Sebastian Bauer
| nebbiolo1 | Linux (Ubuntu 20.04.4 LTS) / x86_64 | OK | OK | OK | |||||||||
| riesling1 | Windows Server 2019 Standard / x64 | OK | OK | OK | OK | |||||||||
| palomino3 | Windows Server 2022 Datacenter / x64 | OK | OK | OK | OK | |||||||||
| merida1 | macOS 10.14.6 Mojave / x86_64 | OK | OK | OK | OK | |||||||||
| Package: mgsa |
| Version: 1.43.0 |
| Command: D:\biocbuild\bbs-3.15-bioc\R\bin\R.exe CMD INSTALL mgsa |
| StartedAt: 2022-03-17 15:25:09 -0400 (Thu, 17 Mar 2022) |
| EndedAt: 2022-03-17 15:26:20 -0400 (Thu, 17 Mar 2022) |
| EllapsedTime: 70.9 seconds |
| RetCode: 0 |
| Status: OK |
##############################################################################
##############################################################################
###
### Running command:
###
### D:\biocbuild\bbs-3.15-bioc\R\bin\R.exe CMD INSTALL mgsa
###
##############################################################################
##############################################################################
* installing to library 'D:/biocbuild/bbs-3.15-bioc/R/library'
* installing *source* package 'mgsa' ...
** using staged installation
**********************************************
WARNING: this package has a configure script
It probably needs manual configuration
**********************************************
** libs
"C:/rtools40/mingw64/bin/"gcc -I"D:/biocbuild/bbs-3.15-bioc/R/include" -DNDEBUG -I"C:/extsoft/include" -O2 -Wall -std=gnu99 -mfpmath=sse -msse2 -mstackrealign -fno-reorder-blocks-and-partition -c mgsa-core.c -o mgsa-core.o
mgsa-core.c: In function 'ts_R_alloc':
mgsa-core.c:56: warning: ignoring #pragma omp critical [-Wunknown-pragmas]
#pragma omp critical
"C:/rtools40/mingw64/bin/"gcc -I"D:/biocbuild/bbs-3.15-bioc/R/include" -DNDEBUG -I"C:/extsoft/include" -O2 -Wall -std=gnu99 -mfpmath=sse -msse2 -mstackrealign -fno-reorder-blocks-and-partition -c mgsa.c -o mgsa.o
mgsa.c: In function 'mgsa_mcmc':
mgsa.c:552: warning: ignoring #pragma omp parallel [-Wunknown-pragmas]
#pragma omp parallel for
mgsa.c:558: warning: ignoring #pragma omp critical [-Wunknown-pragmas]
#pragma omp critical
"C:/rtools40/mingw64/bin/"gcc -I"D:/biocbuild/bbs-3.15-bioc/R/include" -DNDEBUG -I"C:/extsoft/include" -O2 -Wall -std=gnu99 -mfpmath=sse -msse2 -mstackrealign -fno-reorder-blocks-and-partition -c mt.c -o mt.o
C:/rtools40/mingw64/bin/gcc -shared -s -static-libgcc -o mgsa.dll tmp.def mgsa-core.o mgsa.o mt.o -LC:/extsoft/lib/x64 -LC:/extsoft/lib -LD:/biocbuild/bbs-3.15-bioc/R/bin/x64 -lR
installing to D:/biocbuild/bbs-3.15-bioc/R/library/00LOCK-mgsa/00new/mgsa/libs/x64
** R
** data
** inst
** byte-compile and prepare package for lazy loading
** help
*** installing help indices
converting help for package 'mgsa'
finding HTML links ... done
MgsaGoSets-class html
MgsaMcmcResults-class html
MgsaResults-class html
MgsaSets-class html
alphaMcmcPost-methods html
alphaPost-methods html
betaMcmcPost-methods html
betaPost-methods html
createMgsaGoSets html
example-go html
example-o html
itemAnnotations-methods html
itemIndices-methods html
length-methods html
mgsa-methods html
mgsa-package html
nsamples-methods html
pMcmcPost-methods html
pPost-methods html
plot-MgsaResults-method html
populationSize-methods html
readGAF html
restarts-methods html
setAnnotations-methods html
setsMcmcPost-methods html
setsResults-methods html
show-MgsaResults-method html
show-MgsaSets-method html
steps-methods html
studySetSizeInPopulation-methods html
subMgsaSets-methods html
** building package indices
** installing vignettes
** testing if installed package can be loaded from temporary location
** testing if installed package can be loaded from final location
** testing if installed package keeps a record of temporary installation path
* DONE (mgsa)
Making 'packages.html' ... done