| Back to Multiple platform build/check report for BioC 3.15 |
|
This page was generated on 2022-10-19 13:21:49 -0400 (Wed, 19 Oct 2022).
| Hostname | OS | Arch (*) | R version | Installed pkgs |
|---|---|---|---|---|
| nebbiolo1 | Linux (Ubuntu 20.04.5 LTS) | x86_64 | 4.2.1 (2022-06-23) -- "Funny-Looking Kid" | 4386 |
| palomino3 | Windows Server 2022 Datacenter | x64 | 4.2.1 (2022-06-23 ucrt) -- "Funny-Looking Kid" | 4138 |
| merida1 | macOS 10.14.6 Mojave | x86_64 | 4.2.1 (2022-06-23) -- "Funny-Looking Kid" | 4205 |
| Click on any hostname to see more info about the system (e.g. compilers) (*) as reported by 'uname -p', except on Windows and Mac OS X | ||||
|
To the developers/maintainers of the mgsa package: - Please allow up to 24 hours (and sometimes 48 hours) for your latest push to git@git.bioconductor.org:packages/mgsa.git to reflect on this report. See How and When does the builder pull? When will my changes propagate? for more information. - Make sure to use the following settings in order to reproduce any error or warning you see on this page. |
| Package 1166/2140 | Hostname | OS / Arch | INSTALL | BUILD | CHECK | BUILD BIN | ||||||||
| mgsa 1.44.0 (landing page) Sebastian Bauer
| nebbiolo1 | Linux (Ubuntu 20.04.5 LTS) / x86_64 | OK | OK | OK | |||||||||
| palomino3 | Windows Server 2022 Datacenter / x64 | OK | OK | OK | OK | |||||||||
| merida1 | macOS 10.14.6 Mojave / x86_64 | OK | OK | OK | OK | |||||||||
| Package: mgsa |
| Version: 1.44.0 |
| Command: rm -rf mgsa.buildbin-libdir && mkdir mgsa.buildbin-libdir && F:\biocbuild\bbs-3.15-bioc\R\bin\R.exe CMD INSTALL --build --library=mgsa.buildbin-libdir mgsa_1.44.0.tar.gz |
| StartedAt: 2022-10-19 06:09:42 -0400 (Wed, 19 Oct 2022) |
| EndedAt: 2022-10-19 06:09:54 -0400 (Wed, 19 Oct 2022) |
| EllapsedTime: 11.8 seconds |
| RetCode: 0 |
| Status: OK |
| PackageFile: mgsa_1.44.0.zip |
| PackageFileSize: 430.2 KiB |
##############################################################################
##############################################################################
###
### Running command:
###
### rm -rf mgsa.buildbin-libdir && mkdir mgsa.buildbin-libdir && F:\biocbuild\bbs-3.15-bioc\R\bin\R.exe CMD INSTALL --build --library=mgsa.buildbin-libdir mgsa_1.44.0.tar.gz
###
##############################################################################
##############################################################################
* installing *source* package 'mgsa' ...
** using staged installation
**********************************************
WARNING: this package has a configure script
It probably needs manual configuration
**********************************************
** libs
gcc -I"F:/biocbuild/bbs-3.15-bioc/R/include" -DNDEBUG -I"C:/rtools42/x86_64-w64-mingw32.static.posix/include" -O2 -Wall -std=gnu99 -mfpmath=sse -msse2 -mstackrealign -c mgsa-core.c -o mgsa-core.o
mgsa-core.c: In function 'ts_R_alloc':
mgsa-core.c:56: warning: ignoring '#pragma omp critical' [-Wunknown-pragmas]
56 | #pragma omp critical
|
gcc -I"F:/biocbuild/bbs-3.15-bioc/R/include" -DNDEBUG -I"C:/rtools42/x86_64-w64-mingw32.static.posix/include" -O2 -Wall -std=gnu99 -mfpmath=sse -msse2 -mstackrealign -c mgsa.c -o mgsa.o
mgsa.c: In function 'mgsa_mcmc':
mgsa.c:552: warning: ignoring '#pragma omp parallel' [-Wunknown-pragmas]
552 | #pragma omp parallel for
|
mgsa.c:558: warning: ignoring '#pragma omp critical' [-Wunknown-pragmas]
558 | #pragma omp critical
|
gcc -I"F:/biocbuild/bbs-3.15-bioc/R/include" -DNDEBUG -I"C:/rtools42/x86_64-w64-mingw32.static.posix/include" -O2 -Wall -std=gnu99 -mfpmath=sse -msse2 -mstackrealign -c mt.c -o mt.o
gcc -shared -s -static-libgcc -o mgsa.dll tmp.def mgsa-core.o mgsa.o mt.o -LC:/rtools42/x86_64-w64-mingw32.static.posix/lib/x64 -LC:/rtools42/x86_64-w64-mingw32.static.posix/lib -LF:/biocbuild/bbs-3.15-bioc/R/bin/x64 -lR
installing to F:/biocbuild/bbs-3.15-bioc/meat/mgsa.buildbin-libdir/00LOCK-mgsa/00new/mgsa/libs/x64
** R
** data
** inst
** byte-compile and prepare package for lazy loading
** help
*** installing help indices
** building package indices
** installing vignettes
** testing if installed package can be loaded from temporary location
** testing if installed package can be loaded from final location
** testing if installed package keeps a record of temporary installation path
* MD5 sums
packaged installation of 'mgsa' as mgsa_1.44.0.zip
* DONE (mgsa)